BEGIN:VCALENDAR
VERSION:2.0
PRODID:-//negozee - ECPv6.15.12.2//NONSGML v1.0//EN
CALSCALE:GREGORIAN
METHOD:PUBLISH
X-ORIGINAL-URL:https://negozee.com
X-WR-CALDESC:Events for negozee
REFRESH-INTERVAL;VALUE=DURATION:PT1H
X-Robots-Tag:noindex
X-PUBLISHED-TTL:PT1H
BEGIN:VTIMEZONE
TZID:America/Los_Angeles
BEGIN:DAYLIGHT
TZOFFSETFROM:-0800
TZOFFSETTO:-0700
TZNAME:PDT
DTSTART:20250309T100000
END:DAYLIGHT
BEGIN:STANDARD
TZOFFSETFROM:-0700
TZOFFSETTO:-0800
TZNAME:PST
DTSTART:20251102T090000
END:STANDARD
BEGIN:DAYLIGHT
TZOFFSETFROM:-0800
TZOFFSETTO:-0700
TZNAME:PDT
DTSTART:20260308T100000
END:DAYLIGHT
BEGIN:STANDARD
TZOFFSETFROM:-0700
TZOFFSETTO:-0800
TZNAME:PST
DTSTART:20261101T090000
END:STANDARD
BEGIN:DAYLIGHT
TZOFFSETFROM:-0800
TZOFFSETTO:-0700
TZNAME:PDT
DTSTART:20270314T100000
END:DAYLIGHT
BEGIN:STANDARD
TZOFFSETFROM:-0700
TZOFFSETTO:-0800
TZNAME:PST
DTSTART:20271107T090000
END:STANDARD
END:VTIMEZONE
BEGIN:VEVENT
DTSTART;TZID=America/Los_Angeles:20260501T070000
DTEND;TZID=America/Los_Angeles:20260501T100000
DTSTAMP:20260425T082430
CREATED:20260423T192244Z
LAST-MODIFIED:20260424T134911Z
UID:10001759-1777618800-1777629600@negozee.com
SUMMARY:Wake-Up Call Friday 🚀 con Jesús Abikarram - Mayo 1\, 2026
DESCRIPTION:Days Hours Minutes Seconds		\n						\n				\n				\n				\n					Invitación al Webinar: Comprendiendo los Formularios 8962 y 1095-A con Paulo Segarra				\n				\n				\n				\n							\n			\n						\n		\n						\n				\n				\n				\n									Te invitamos cordialmente a un evento virtual exclusivo con Paulo Segarra\, donde aprenderemos todo lo esencial sobre los formularios 8962 y 1095-A. Este webinar te ayudará a entender cómo completar correctamente estos formularios y resolver tus dudas para que tus trámites sean más sencillos y claros. 								\n				\n				\n				\n									🗓 Septiembre 2 del 2025⏰ Hora: 1:00 PM (Hora Pacífico)💻 Modalidad: Virtual 								\n				\n				\n				\n									\n					\n						\n						\n							\n									Reserva tu lugar
URL:https://negozee.com/event/wake-up-call-friday-jesus-abikarram-mayo-1-2026/
ATTACH;FMTTYPE=image/jpeg:https://wp-negozee-conent.s3.amazonaws.com/wp-content/uploads/2026/04/08134700/Banner-Zoom-Jesuas-A.jpg
LOCATION:https://us02web.zoom.us/meeting/register/lL9KufhSQI2z3lzS44OUfA
END:VEVENT
BEGIN:VEVENT
DTSTART;TZID=America/Los_Angeles:20260508T070000
DTEND;TZID=America/Los_Angeles:20260508T100000
DTSTAMP:20260425T082430
CREATED:20260409T205930Z
LAST-MODIFIED:20260423T194632Z
UID:10001760-1778223600-1778234400@negozee.com
SUMMARY:Wake-Up Call Friday 🚀 con Jesús Abikarram - Mayo 8\, 2026
DESCRIPTION:Days Hours Minutes Seconds		\n						\n				\n				\n				\n					Invitación al Webinar: Comprendiendo los Formularios 8962 y 1095-A con Paulo Segarra				\n				\n				\n				\n							\n			\n						\n		\n						\n				\n				\n				\n									Te invitamos cordialmente a un evento virtual exclusivo con Paulo Segarra\, donde aprenderemos todo lo esencial sobre los formularios 8962 y 1095-A. Este webinar te ayudará a entender cómo completar correctamente estos formularios y resolver tus dudas para que tus trámites sean más sencillos y claros. 								\n				\n				\n				\n									🗓 Septiembre 2 del 2025⏰ Hora: 1:00 PM (Hora Pacífico)💻 Modalidad: Virtual 								\n				\n				\n				\n									\n					\n						\n						\n							\n									Reserva tu lugar
URL:https://negozee.com/event/wake-up-call-friday-jesus-abikarram-mayo-8-2026/
ATTACH;FMTTYPE=image/jpeg:https://wp-negozee-conent.s3.amazonaws.com/wp-content/uploads/2026/04/08134700/Banner-Zoom-Jesuas-A.jpg
LOCATION:
END:VEVENT
BEGIN:VEVENT
DTSTART;TZID=America/Los_Angeles:20260513T090000
DTEND;TZID=America/Los_Angeles:20260513T120000
DTSTAMP:20260425T082430
CREATED:20260424T135332Z
LAST-MODIFIED:20260424T141743Z
UID:10001763-1778662800-1778673600@negozee.com
SUMMARY:Clase en Vivo de QuickBooks 🚀 Domina tu Contabilidad en Tiempo Real - Mayo 13\, 2026
DESCRIPTION:Days Hours Minutes Seconds		\n						\n				\n				\n				\n					Invitación al Webinar: Comprendiendo los Formularios 8962 y 1095-A con Paulo Segarra				\n				\n				\n				\n							\n			\n						\n		\n						\n				\n				\n				\n									Te invitamos cordialmente a un evento virtual exclusivo con Paulo Segarra\, donde aprenderemos todo lo esencial sobre los formularios 8962 y 1095-A. Este webinar te ayudará a entender cómo completar correctamente estos formularios y resolver tus dudas para que tus trámites sean más sencillos y claros. 								\n				\n				\n				\n									🗓 Septiembre 2 del 2025⏰ Hora: 1:00 PM (Hora Pacífico)💻 Modalidad: Virtual 								\n				\n				\n				\n									\n					\n						\n						\n							\n									Reserva tu lugar
URL:https://negozee.com/event/clase-en-vivo-quickbooks-contabilidad-mayo-2026/
ATTACH;FMTTYPE=image/jpeg:https://wp-negozee-conent.s3.amazonaws.com/wp-content/uploads/2025/10/28095603/expande-finanzas-quickbooks-portada.jpg
LOCATION:
END:VEVENT
BEGIN:VEVENT
DTSTART;TZID=America/Los_Angeles:20260515T070000
DTEND;TZID=America/Los_Angeles:20260515T100000
DTSTAMP:20260425T082430
CREATED:20260424T135033Z
LAST-MODIFIED:20260424T150100Z
UID:10001761-1778828400-1778839200@negozee.com
SUMMARY:Wake-Up Call Friday 🚀 con Jesús Abikarram - Mayo 15\, 2026
DESCRIPTION:Days Hours Minutes Seconds		\n						\n				\n				\n				\n					Invitación al Webinar: Comprendiendo los Formularios 8962 y 1095-A con Paulo Segarra				\n				\n				\n				\n							\n			\n						\n		\n						\n				\n				\n				\n									Te invitamos cordialmente a un evento virtual exclusivo con Paulo Segarra\, donde aprenderemos todo lo esencial sobre los formularios 8962 y 1095-A. Este webinar te ayudará a entender cómo completar correctamente estos formularios y resolver tus dudas para que tus trámites sean más sencillos y claros. 								\n				\n				\n				\n									🗓 Septiembre 2 del 2025⏰ Hora: 1:00 PM (Hora Pacífico)💻 Modalidad: Virtual 								\n				\n				\n				\n									\n					\n						\n						\n							\n									Reserva tu lugar
URL:https://negozee.com/event/wake-up-call-friday-jesus-abikarram-mayo-15-2026/
ATTACH;FMTTYPE=image/jpeg:https://wp-negozee-conent.s3.amazonaws.com/wp-content/uploads/2026/04/08134700/Banner-Zoom-Jesuas-A.jpg
LOCATION:
END:VEVENT
BEGIN:VEVENT
DTSTART;TZID=America/Los_Angeles:20260518T160000
DTEND;TZID=America/Los_Angeles:20260518T190000
DTSTAMP:20260425T082430
CREATED:20260424T145047Z
LAST-MODIFIED:20260424T150159Z
UID:10001765-1779120000-1779130800@negozee.com
SUMMARY:Clase en Vivo de Contabilidad para Tax Pros 🚀 con Zailili Tovar - Mayo 18\, 2026
DESCRIPTION:Days Hours Minutes Seconds		\n						\n				\n				\n				\n					Invitación al Webinar: Comprendiendo los Formularios 8962 y 1095-A con Paulo Segarra				\n				\n				\n				\n							\n			\n						\n		\n						\n				\n				\n				\n									Te invitamos cordialmente a un evento virtual exclusivo con Paulo Segarra\, donde aprenderemos todo lo esencial sobre los formularios 8962 y 1095-A. Este webinar te ayudará a entender cómo completar correctamente estos formularios y resolver tus dudas para que tus trámites sean más sencillos y claros. 								\n				\n				\n				\n									🗓 Septiembre 2 del 2025⏰ Hora: 1:00 PM (Hora Pacífico)💻 Modalidad: Virtual 								\n				\n				\n				\n									\n					\n						\n						\n							\n									Reserva tu lugar
URL:https://negozee.com/event/clase-en-vivo-contabilidad-tax-pros-zailili-tovar-mayo-2026/
ATTACH;FMTTYPE=image/jpeg:https://wp-negozee-conent.s3.amazonaws.com/wp-content/uploads/2025/10/28115032/fundamentos-contabilidad-portada-web.jpg
LOCATION:
END:VEVENT
BEGIN:VEVENT
DTSTART;TZID=America/Los_Angeles:20260519T160000
DTEND;TZID=America/Los_Angeles:20260519T190000
DTSTAMP:20260425T082430
CREATED:20260424T145546Z
LAST-MODIFIED:20260424T172710Z
UID:10001764-1779206400-1779217200@negozee.com
SUMMARY:Clase en Vivo de Impuestos para Tax Pros 🚀 Estrategias Fiscales que Marcan la Diferencia - Mayo 19\, 2026
DESCRIPTION:Days Hours Minutes Seconds		\n						\n				\n				\n				\n					Invitación al Webinar: Comprendiendo los Formularios 8962 y 1095-A con Paulo Segarra				\n				\n				\n				\n							\n			\n						\n		\n						\n				\n				\n				\n									Te invitamos cordialmente a un evento virtual exclusivo con Paulo Segarra\, donde aprenderemos todo lo esencial sobre los formularios 8962 y 1095-A. Este webinar te ayudará a entender cómo completar correctamente estos formularios y resolver tus dudas para que tus trámites sean más sencillos y claros. 								\n				\n				\n				\n									🗓 Septiembre 2 del 2025⏰ Hora: 1:00 PM (Hora Pacífico)💻 Modalidad: Virtual 								\n				\n				\n				\n									\n					\n						\n						\n							\n									Reserva tu lugar
URL:https://negozee.com/event/clase-en-vivo-impuestos-tax-pros-mayo-2026/
ATTACH;FMTTYPE=image/jpeg:https://wp-negozee-conent.s3.amazonaws.com/wp-content/uploads/2026/01/12132517/fundamentos-impuestos-january2026.jpg
LOCATION:
END:VEVENT
BEGIN:VEVENT
DTSTART;TZID=America/Los_Angeles:20260522T070000
DTEND;TZID=America/Los_Angeles:20260522T100000
DTSTAMP:20260425T082430
CREATED:20260424T202139Z
LAST-MODIFIED:20260424T202443Z
UID:10001766-1779433200-1779444000@negozee.com
SUMMARY:Wake-Up Call Friday 🚀 con Jesús Abikarram - Mayo 22\, 2026
DESCRIPTION:Days Hours Minutes Seconds		\n						\n				\n				\n				\n					Invitación al Webinar: Comprendiendo los Formularios 8962 y 1095-A con Paulo Segarra				\n				\n				\n				\n							\n			\n						\n		\n						\n				\n				\n				\n									Te invitamos cordialmente a un evento virtual exclusivo con Paulo Segarra\, donde aprenderemos todo lo esencial sobre los formularios 8962 y 1095-A. Este webinar te ayudará a entender cómo completar correctamente estos formularios y resolver tus dudas para que tus trámites sean más sencillos y claros. 								\n				\n				\n				\n									🗓 Septiembre 2 del 2025⏰ Hora: 1:00 PM (Hora Pacífico)💻 Modalidad: Virtual 								\n				\n				\n				\n									\n					\n						\n						\n							\n									Reserva tu lugar
URL:https://negozee.com/event/wake-up-call-friday-jesus-abikarram-mayo-22-2026/
ATTACH;FMTTYPE=image/jpeg:https://wp-negozee-conent.s3.amazonaws.com/wp-content/uploads/2026/04/08134700/Banner-Zoom-Jesuas-A.jpg
LOCATION:
END:VEVENT
BEGIN:VEVENT
DTSTART;TZID=America/Los_Angeles:20260529T070000
DTEND;TZID=America/Los_Angeles:20260529T100000
DTSTAMP:20260425T082430
CREATED:20260424T135535Z
LAST-MODIFIED:20260424T142401Z
UID:10001762-1780038000-1780048800@negozee.com
SUMMARY:Wake-Up Call Friday 🚀 con Jesús Abikarram - Mayo 29\, 2026
DESCRIPTION:Days Hours Minutes Seconds		\n						\n				\n				\n				\n					Invitación al Webinar: Comprendiendo los Formularios 8962 y 1095-A con Paulo Segarra				\n				\n				\n				\n							\n			\n						\n		\n						\n				\n				\n				\n									Te invitamos cordialmente a un evento virtual exclusivo con Paulo Segarra\, donde aprenderemos todo lo esencial sobre los formularios 8962 y 1095-A. Este webinar te ayudará a entender cómo completar correctamente estos formularios y resolver tus dudas para que tus trámites sean más sencillos y claros. 								\n				\n				\n				\n									🗓 Septiembre 2 del 2025⏰ Hora: 1:00 PM (Hora Pacífico)💻 Modalidad: Virtual 								\n				\n				\n				\n									\n					\n						\n						\n							\n									Reserva tu lugar
URL:https://negozee.com/event/wake-up-call-friday-jesus-abikarram-mayo-29-2026/
ATTACH;FMTTYPE=image/jpeg:https://wp-negozee-conent.s3.amazonaws.com/wp-content/uploads/2026/04/08134700/Banner-Zoom-Jesuas-A.jpg
LOCATION:
END:VEVENT
BEGIN:VEVENT
DTSTART;VALUE=DATE:20260612
DTEND;VALUE=DATE:20260613
DTSTAMP:20260425T082430
CREATED:20260417T161323Z
LAST-MODIFIED:20260417T214142Z
UID:10001756-1781222400-1781308799@negozee.com
SUMMARY:Nueva York - negozee Summer Seminar 2026 🍎🏙️
DESCRIPTION:Days Hours Minutes Seconds		\n						\n				\n				\n				\n					Invitación al Webinar: Comprendiendo los Formularios 8962 y 1095-A con Paulo Segarra				\n				\n				\n				\n							\n			\n						\n		\n						\n				\n				\n				\n									Te invitamos cordialmente a un evento virtual exclusivo con Paulo Segarra\, donde aprenderemos todo lo esencial sobre los formularios 8962 y 1095-A. Este webinar te ayudará a entender cómo completar correctamente estos formularios y resolver tus dudas para que tus trámites sean más sencillos y claros. 								\n				\n				\n				\n									🗓 Septiembre 2 del 2025⏰ Hora: 1:00 PM (Hora Pacífico)💻 Modalidad: Virtual 								\n				\n				\n				\n									\n					\n						\n						\n							\n									Reserva tu lugar
URL:https://negozee.com/event/nueva-york-negozee-summer-2026/
ATTACH;FMTTYPE=image/png:https://wp-negozee-conent.s3.amazonaws.com/wp-content/uploads/2026/04/14090839/Summer-Seminar-NY2026.png
END:VEVENT
BEGIN:VEVENT
DTSTART;VALUE=DATE:20260716
DTEND;VALUE=DATE:20260717
DTSTAMP:20260425T082430
CREATED:20260417T190109Z
LAST-MODIFIED:20260417T213926Z
UID:10001757-1784160000-1784246399@negozee.com
SUMMARY:Los Ángeles - negozee Summer Seminar 2026 🌴☀️
DESCRIPTION:Days Hours Minutes Seconds		\n						\n				\n				\n				\n					Invitación al Webinar: Comprendiendo los Formularios 8962 y 1095-A con Paulo Segarra				\n				\n				\n				\n							\n			\n						\n		\n						\n				\n				\n				\n									Te invitamos cordialmente a un evento virtual exclusivo con Paulo Segarra\, donde aprenderemos todo lo esencial sobre los formularios 8962 y 1095-A. Este webinar te ayudará a entender cómo completar correctamente estos formularios y resolver tus dudas para que tus trámites sean más sencillos y claros. 								\n				\n				\n				\n									🗓 Septiembre 2 del 2025⏰ Hora: 1:00 PM (Hora Pacífico)💻 Modalidad: Virtual 								\n				\n				\n				\n									\n					\n						\n						\n							\n									Reserva tu lugar
URL:https://negozee.com/event/los-angeles-negozee-summer-2026/
ATTACH;FMTTYPE=image/png:https://negozee.com/wp-content/uploads/2026/04/Summer-Seminar-LA2026.png
END:VEVENT
BEGIN:VEVENT
DTSTART;VALUE=DATE:20260814
DTEND;VALUE=DATE:20260815
DTSTAMP:20260425T082430
CREATED:20260417T190317Z
LAST-MODIFIED:20260417T194423Z
UID:10001758-1786665600-1786751999@negozee.com
SUMMARY:Houston - negozee Summer Seminar 2026 🚀🤠
DESCRIPTION:Days Hours Minutes Seconds		\n						\n				\n				\n				\n					Invitación al Webinar: Comprendiendo los Formularios 8962 y 1095-A con Paulo Segarra				\n				\n				\n				\n							\n			\n						\n		\n						\n				\n				\n				\n									Te invitamos cordialmente a un evento virtual exclusivo con Paulo Segarra\, donde aprenderemos todo lo esencial sobre los formularios 8962 y 1095-A. Este webinar te ayudará a entender cómo completar correctamente estos formularios y resolver tus dudas para que tus trámites sean más sencillos y claros. 								\n				\n				\n				\n									🗓 Septiembre 2 del 2025⏰ Hora: 1:00 PM (Hora Pacífico)💻 Modalidad: Virtual 								\n				\n				\n				\n									\n					\n						\n						\n							\n									Reserva tu lugar
URL:https://negozee.com/event/houston-negozee-summer-2026/
ATTACH;FMTTYPE=image/png:https://wp-negozee-conent.s3.amazonaws.com/wp-content/uploads/2026/04/14090823/Summer-Seminar-Houston2026.png
END:VEVENT
BEGIN:VEVENT
DTSTART;TZID=America/Los_Angeles:20260914T080000
DTEND;TZID=America/Los_Angeles:20260916T170000
DTSTAMP:20260425T082430
CREATED:20251219T222121Z
LAST-MODIFIED:20260421T183824Z
UID:10001461-1789372800-1789578000@negozee.com
SUMMARY:Emprende Tax Las Vegas 2026
DESCRIPTION:Days Hours Minutes Seconds		\n						\n				\n				\n				\n					Invitación al Webinar: Comprendiendo los Formularios 8962 y 1095-A con Paulo Segarra				\n				\n				\n				\n							\n			\n						\n		\n						\n				\n				\n				\n									Te invitamos cordialmente a un evento virtual exclusivo con Paulo Segarra\, donde aprenderemos todo lo esencial sobre los formularios 8962 y 1095-A. Este webinar te ayudará a entender cómo completar correctamente estos formularios y resolver tus dudas para que tus trámites sean más sencillos y claros. 								\n				\n				\n				\n									🗓 Septiembre 2 del 2025⏰ Hora: 1:00 PM (Hora Pacífico)💻 Modalidad: Virtual 								\n				\n				\n				\n									\n					\n						\n						\n							\n									Reserva tu lugar
URL:https://negozee.com/event/emprende-las-vegas-2026/
ATTACH;FMTTYPE=image/png:https://wp-negozee-conent.s3.amazonaws.com/wp-content/uploads/2025/12/19141616/emprende-las-vegas-2026.png
ORGANIZER;CN="negozee":MAILTO:info@negozee.com
END:VEVENT
END:VCALENDAR