BEGIN:VCALENDAR
VERSION:2.0
PRODID:-//negozee - ECPv6.15.12.2//NONSGML v1.0//EN
CALSCALE:GREGORIAN
METHOD:PUBLISH
X-WR-CALNAME:negozee
X-ORIGINAL-URL:https://negozee.com
X-WR-CALDESC:Events for negozee
REFRESH-INTERVAL;VALUE=DURATION:PT1H
X-Robots-Tag:noindex
X-PUBLISHED-TTL:PT1H
BEGIN:VTIMEZONE
TZID:America/New_York
BEGIN:DAYLIGHT
TZOFFSETFROM:-0500
TZOFFSETTO:-0400
TZNAME:EDT
DTSTART:20220313T070000
END:DAYLIGHT
BEGIN:STANDARD
TZOFFSETFROM:-0400
TZOFFSETTO:-0500
TZNAME:EST
DTSTART:20221106T060000
END:STANDARD
BEGIN:DAYLIGHT
TZOFFSETFROM:-0500
TZOFFSETTO:-0400
TZNAME:EDT
DTSTART:20230312T070000
END:DAYLIGHT
BEGIN:STANDARD
TZOFFSETFROM:-0400
TZOFFSETTO:-0500
TZNAME:EST
DTSTART:20231105T060000
END:STANDARD
BEGIN:DAYLIGHT
TZOFFSETFROM:-0500
TZOFFSETTO:-0400
TZNAME:EDT
DTSTART:20240310T070000
END:DAYLIGHT
BEGIN:STANDARD
TZOFFSETFROM:-0400
TZOFFSETTO:-0500
TZNAME:EST
DTSTART:20241103T060000
END:STANDARD
END:VTIMEZONE
BEGIN:VTIMEZONE
TZID:America/Los_Angeles
BEGIN:DAYLIGHT
TZOFFSETFROM:-0800
TZOFFSETTO:-0700
TZNAME:PDT
DTSTART:20220313T100000
END:DAYLIGHT
BEGIN:STANDARD
TZOFFSETFROM:-0700
TZOFFSETTO:-0800
TZNAME:PST
DTSTART:20221106T090000
END:STANDARD
BEGIN:DAYLIGHT
TZOFFSETFROM:-0800
TZOFFSETTO:-0700
TZNAME:PDT
DTSTART:20230312T100000
END:DAYLIGHT
BEGIN:STANDARD
TZOFFSETFROM:-0700
TZOFFSETTO:-0800
TZNAME:PST
DTSTART:20231105T090000
END:STANDARD
BEGIN:DAYLIGHT
TZOFFSETFROM:-0800
TZOFFSETTO:-0700
TZNAME:PDT
DTSTART:20240310T100000
END:DAYLIGHT
BEGIN:STANDARD
TZOFFSETFROM:-0700
TZOFFSETTO:-0800
TZNAME:PST
DTSTART:20241103T090000
END:STANDARD
END:VTIMEZONE
BEGIN:VTIMEZONE
TZID:America/Chicago
BEGIN:DAYLIGHT
TZOFFSETFROM:-0600
TZOFFSETTO:-0500
TZNAME:CDT
DTSTART:20220313T080000
END:DAYLIGHT
BEGIN:STANDARD
TZOFFSETFROM:-0500
TZOFFSETTO:-0600
TZNAME:CST
DTSTART:20221106T070000
END:STANDARD
BEGIN:DAYLIGHT
TZOFFSETFROM:-0600
TZOFFSETTO:-0500
TZNAME:CDT
DTSTART:20230312T080000
END:DAYLIGHT
BEGIN:STANDARD
TZOFFSETFROM:-0500
TZOFFSETTO:-0600
TZNAME:CST
DTSTART:20231105T070000
END:STANDARD
BEGIN:DAYLIGHT
TZOFFSETFROM:-0600
TZOFFSETTO:-0500
TZNAME:CDT
DTSTART:20240310T080000
END:DAYLIGHT
BEGIN:STANDARD
TZOFFSETFROM:-0500
TZOFFSETTO:-0600
TZNAME:CST
DTSTART:20241103T070000
END:STANDARD
END:VTIMEZONE
BEGIN:VEVENT
DTSTART;TZID=America/New_York:20231215T130000
DTEND;TZID=America/New_York:20231215T180000
DTSTAMP:20260422T155327
CREATED:20230113T054632Z
LAST-MODIFIED:20241202T213128Z
UID:10000549-1702645200-1702663200@negozee.com
SUMMARY:Foro Empresarial negozee [FEN] New York City
DESCRIPTION:días horas min sec \nForo Empresarial negozee [FEN] New York City\nPrepárese para lo que viene\, disfruta del Networking y participa en la charla de lo que viene en el 2025 para los negoziantes sobre: \n\nEconomía\nPolitico\nCapital\nEmprendimiento Latino\n\nÚnase a negociar mientras nos despedimos de otro gran año.\nVen y haz networking con otros negociantes para disfrutar de nuestro evento de fin de año. \nCuando: \nViernes\, 20 de diciembre de 2024 \nUbicación: \nNew York City \nHorario:  \nRegistro: 4:00 pm\nWelcome Cocktail: 4:15 pm – 5:00 pm \nForo 5:00 pm – 8:00 pm\nNetworking: 8:00 pm – 9:00 pm \n \n\n\n\n\n \nTickets\nThe numbers below include tickets for this event already in your cart. Clicking “Get Tickets” will allow you to edit any existing attendee information as well as change ticket quantities.\nFEN 2024\n*Presente su boleto (Código QR) en la entrada.\nSI ERES MIEMBRO DE NEGOZEE INGRESA A TU CUENTA PARA RECIBIR PRECIO VIP.\n$\n0.00\n205 available\n\nDecrease ticket quantity for FEN 2024\n–\n\nQuantity \n\n\nIncrease ticket quantity for FEN 2024\n+\n\n\nHide my attendee data from public view. \nQuantity:\n0\nTotal:\n$\n0.00\n\n¡Boletos! \n\n\n\nAdd to calendar \n  \n\nGoogle Calendar\niCalendar\nOutlook 365\nOutlook Live
URL:https://negozee.com/event/fen/
CATEGORIES:Evento Presencial,Mixer
ATTACH;FMTTYPE=image/png:https://wp-negozee-conent.s3.amazonaws.com/wp-content/uploads/2023/01/26085637/FEN-2024-New-York-1.png
ORGANIZER;CN="negozee":MAILTO:info@negozee.com
END:VEVENT
BEGIN:VEVENT
DTSTART;TZID=America/Los_Angeles:20231201T093000
DTEND;TZID=America/Los_Angeles:20231201T133000
DTSTAMP:20260422T155327
CREATED:20240222T214436Z
LAST-MODIFIED:20241202T215435Z
UID:10000744-1701423000-1701437400@negozee.com
SUMMARY:2025 ¿Qué Hay de Nuevo? [Parte 1] [Mega Webinar]
DESCRIPTION:Hay 2 maneras para ingresar a este webinar:\n1. Haz clic aquí para registrarte a este webinar por $199. \n2. Inscríbete a la membresía de negozee por $28 al mes y obten el 50% de descuento en el programa por ser un VIP Member. \n………………. \nVIP Members Activos\n¿Ya eres member de negozee? Ingresa al zoom aquí \n………. \nAcerca del webinar\n\nSi trabajas en los Estados Unidos esta clase es para ti. Esta clase te enseña todos los nuevos créditos fiscales y deducciones para negocios y familias. \nAprende cómo minimizar tus impuestos y maximizar tu dinero en 2025. \nAGENDA \nEl gran evento virtual comienza a las: \n9:30am PT – California\n12:30pm ET – New York \n……… \nJueves 19 de Diciembre [Parte 1]\n\n9:30am PT – Bienvenidos & Intro \n9:40am PT – BOI – Beneficial Ownership Information \n10:10am PT – Nuevos requisitos 1099-K de $5\,000\nNuevos requisitos de 1099-NEC (10+ e-files) \n10:30am PT – WISP Data & Cyber Security \n11:00am – PT – IRS Online Tools \n11:40am PT – Tax Credits & Deductions (Child Tax Credit\, Tax Rates\, Earned Income Tax Credit) \n12:00pm PT – SECURE Act 2.0 – cambios al IRA\, ROTH\, 401(k) \n12:15pm PT – Employee Retention Tax Credit Audits \n……………. \nHorario:  \nOnline Webinar de 1 día en vivo por zoom \nCalifornia: 9:30 am PT \nColorado / Arizona: 10:30am MT \nTexas: 11:30am CT \nNew York / Florida: 12:30pm ET \nPuerto Rico: 1:30pm AT \n………….. \nMartes 14 de Enero [Parte 2]\n¿Cuánto cuesta este progama virtual?\n  \nHay 2 maneras para ingresar a este webinar:\n1. Haz clic aquí para registrarte a este webinar por $199. \n2. Inscríbete a la membresía de negozee por $28 al mes y obten el 50% de descuento en el programa por ser un VIP Member. \n…………… \nVIP Members Activos\n¿Ya eres member de negozee? Ingresa al zoom aquí \n………. \nEvent Sponsors
URL:https://negozee.com/event/2025-tax-1/
CATEGORIES:Clase Virtual,Webinar
ATTACH;FMTTYPE=image/png:https://wp-negozee-conent.s3.amazonaws.com/wp-content/uploads/2022/12/26093559/2023QueHayDeNuevo-ngzee.png
ORGANIZER;CN="negozee":MAILTO:info@negozee.com
END:VEVENT
BEGIN:VEVENT
DTSTART;TZID=America/New_York:20231118T110000
DTEND;TZID=America/New_York:20231118T170000
DTSTAMP:20260422T155327
CREATED:20231114T020718Z
LAST-MODIFIED:20231114T152334Z
UID:10000723-1700305200-1700326800@negozee.com
SUMMARY:Juntas Somos Imparables [Florida]
DESCRIPTION:*Este es un evento de terceros\, organizado por Zaitax.  \n  \n\n\n\n\n\n\n\n\nFecha y hora\n\n\n\n  \n\nSábado 18 de noviembre · 11 am – 5 pm EST\n\n\n\n\n\n\n\n\n\n\n\n\nUbicación\n\n\n  \n\n15165 NW 77th Ave\, Miami Lakes\, Florida\, Estados Unidos \n\n\n\n\n\n\n\n\n\nAcerca de este evento\n\n\n6 horas\nBoleto electrónico móvil\n\n\n\n\nMujeres Imparables en segunda edición “JUNTAS SOMOS IMPARABLES” \n¡No te pierdas este increíble evento en persona! Únete a nosotras en  15165 NW 77th Ave\, Miami Lakes\, FL\, USA  para celebrar la segunda edición de Mujeres Imparables. Juntas somos imparables y queremos inspirarte a alcanzar tus metas y sueños. \nEn este evento\, tendrás la oportunidad de escuchar a mujeres exitosas que han superado obstáculos y triunfado en diferentes ámbitos. Aprenderás de sus experiencias y consejos para impulsar tu propio camino hacia el éxito. \nNo importa cuál sea tu profesión o tus metas\, este evento es para todas las mujeres que desean crecer y empoderarse. Únete a nosotras y descubre el poder que tenemos cuando nos apoyamos mutuamente. \n¡No te quedes fuera de esta experiencia única! Regístrate ahora y prepárate para un día lleno de aprendizaje\, inspiración y conexión con otras mujeres imparables. \n\nCONFIRMA TU ASISTENCIA AQUÍ: https://bit.ly/45WjURD \n\n\n 
URL:https://negozee.com/event/juntas-somos-imparables-florida/
CATEGORIES:Community Event
ORGANIZER;CN="negozee":MAILTO:info@negozee.com
END:VEVENT
BEGIN:VEVENT
DTSTART;VALUE=DATE:20231109
DTEND;VALUE=DATE:20231112
DTSTAMP:20260422T155327
CREATED:20230511T021344Z
LAST-MODIFIED:20231108T052736Z
UID:10000685-1699488000-1699747199@negozee.com
SUMMARY:¡Emprende Tax! - Houston\, TX
DESCRIPTION:Acerca del Emprende Tax:\n\nEste es un programa híbrido para preparadores de impuestos principiantes e intermedios que buscan comenzar su negocio de impuestos u obtener una actualización sobre cómo administrar una oficina de impuestos correctamente. \nSe basa en el tipo de software que se necesita para realizar declaraciones de impuestos\, ciberseguridad para sus datos\, consejos para hacer crecer su lista de clientela y mucho más. \nEste programa sera presencial de 3 días en Houston\, TX.   \n¡Pero no esperes más\, regístrate ahora para empezar a aprender! \n\n✨Noviembre 9\, 10\, y 11 en Houston\, Texas. \n\n\n**ATTN: Si eres miembro de negozee porfavor ingresa a tu cuenta primero antes de realizar la compra. Recibiras un precio VIP ($796)
URL:https://negozee.com/event/emprende-tax/
LOCATION:Crowne Plaza Houston Galleria Area\, 7611 Katy Freeway\, Houston\, TX\, 77024\, United States
CATEGORIES:Clase Virtual,Evento Presencial,Meeting,Talleres de Negocio,Webinar
ATTACH;FMTTYPE=image/jpeg:https://wp-negozee-conent.s3.amazonaws.com/wp-content/uploads/2023/05/26092025/EmprendeTax-Tickets.jpg
ORGANIZER;CN="negozee":MAILTO:info@negozee.com
END:VEVENT
BEGIN:VEVENT
DTSTART;TZID=America/Chicago:20231014T083000
DTEND;TZID=America/Chicago:20231014T180000
DTSTAMP:20260422T155327
CREATED:20221007T031434Z
LAST-MODIFIED:20231007T173755Z
UID:10000637-1697272200-1697306400@negozee.com
SUMMARY:Mujeres Emprendiendo Sin Límites [Milwaukee]
DESCRIPTION:Acerca de evento\nnegozee los invita a este evento espectacular. ¡Este evento presencial que tomará acabó en Milwaukee es dedicado a todas las jefas que han logrado emprender sin límites! \nHablaremos de cómo cumplir tu metas\, encontrando tu pasión\, organizando tus finanzas\, creando un plan de retiro y cómo acceder a capital para tu negocio. \nNo importa si tienes 10 años\, 5 años\, 2 años\, o un 1 mes en tu negocio\, todas podemos aprender algo nuevo todos los días. \nLa meta de este encuentro es darnos la mano una a otra Y juntas construir la riqueza generacional 🤍 \nTe invitamos a ser parte de este movimiento inaugural 🙂 \n  \nRESERVA EL DÍA \nOctubre 14\, 2023\n8:30AM CT – 6:00PM CT \nLUGAR: \nLubar Entrepreneurship Center\nAddress: 2100 E Kenwood Blvd\, Milwaukee\, WI 53211 \n\n\n\n\n\nPRECIOS\n\n\n\n\nEARLY BIRD TICKET $86!! \n$116 después de Agosto 31 \n  \nPara más detalles haga clic aquí https://bit.ly/3DP9FTf
URL:https://negozee.com/event/mujeres-sin-limites-23/
LOCATION:Lubar Entrepreneurship Center\, 2100 E Kenwood Blvd\, Milwaukee\, WI\, 53211\, United States
CATEGORIES:Evento Presencial,Talleres de Negocio
ATTACH;FMTTYPE=image/png:https://wp-negozee-conent.s3.amazonaws.com/wp-content/uploads/2022/10/26092605/BienvenidasMESL23.png
ORGANIZER;CN="negozee":MAILTO:info@negozee.com
END:VEVENT
BEGIN:VEVENT
DTSTART;TZID=America/Los_Angeles:20230923T083000
DTEND;TZID=America/Los_Angeles:20230923T100000
DTSTAMP:20260422T155327
CREATED:20230807T192350Z
LAST-MODIFIED:20230909T005428Z
UID:10000712-1695457800-1695463200@negozee.com
SUMMARY:Emprende Tax Charla: Facebook Marketing Ads [zoom]
DESCRIPTION:*Este webinar es parte del programa empresarial de Emprende Tax\n\nAcerca del webinar\nLos anuncios de Facebook pueden ayudar a una empresa a obtener más visibilidad para su contenido de Facebook y aumentar el tráfico al contenido central de su sitio web\, ya sea el contenido del sitio principal\, el texto de un anuncio simple o los blogs. Los anuncios de Facebook se pueden configurar para apuntar a un mayor tráfico del sitio\, más impresiones e incluso tasa de clics (CTR). \nÚnase a nosotros en nuestra charla\, para discutir qué estrategia funcionará para usted. \n\n\nMás sobre Emprende Tax:\nEste es un programa híbrido para preparadores de impuestos principiantes e intermedios que buscan comenzar su negocio de impuestos u obtener una actualización sobre cómo administrar una oficina de impuestos correctamente. Se basa en el tipo de software que se necesita para realizar declaraciones de impuestos\, ciberseguridad para sus datos\, consejos para hacer crecer su lista de clientela y mucho más. \nEste programa incluye un evento presencial de 3 días en Houston\, TX y varios seminarios web en línea. \n📢¡Pero no esperes más\, regístrate ahora para empezar a aprender! \n\n  \nVista previa del currículum y temas del programa: \nJuntas Mensuales \nSept 23– Facebook Marketing Ads \nOctubre– ¿Qué tipo de seguro (insurance) necesito para mi tax business? \nNoviembre 2– Cómo crecer su tax business ofreciendo servicios financieros \n✨Noviembre 9\, 10\, y 11 en Houston\, Texas \n\n*Si eres miembro de negozee ingresa a tu cuenta para recibir un precio vip.📢¡Pero no esperes más\, regístrate ahora para empezar a aprender!
URL:https://negozee.com/event/facebook-marketing-ads/
CATEGORIES:Charla
ORGANIZER;CN="negozee":MAILTO:info@negozee.com
END:VEVENT
BEGIN:VEVENT
DTSTART;TZID=America/Los_Angeles:20230824T103000
DTEND;TZID=America/Los_Angeles:20230825T180000
DTSTAMP:20260422T155327
CREATED:20230308T030125Z
LAST-MODIFIED:20230823T165351Z
UID:10000670-1692873000-1692986400@negozee.com
SUMMARY:2023 negoziante Summer Seminar [Fullerton\, CA]
DESCRIPTION:Acerca del business seminario\n¡Hola y bienvenido de nuevo a nuestro business seminar anual de negoziantes! \nEstamos emocionados de traerte grandes temas con business expertos que ayudan a la comunidad. \nEste año\, cubriremos temas sobre business leyes y regulaciones\, leyes laborales (employees)\, acceso a capital y préstamos con un ITIN\, cómo usar Google para llegar a más clientes\, ¡y más! \nClases: \n\nIRS Tax Auditorías – Cómo Minimizar el Riesgo\nPrestamos y Capital para su Negocio\nThe Basics of Business Contracts: lo que necesita saber\nCómo proteger y minimizar los riesgos de su negocio\nCómo usar Google para llegar a más clientes\nDemandas y Quejas de Empleados\nCómo emprender un negocio con tu ITIN\nBusiness Email Scams\nReglas para vendedores (1099K)\nCalSavers Program\n\n  \nCHARLAS VIRTUALES: este evento incluye 3 charlas virtuales! Son parte del paquete.  \n\nEmployee Retention Tax Credits\nNuevas Leyes Laborales de California\nBusiness Cash Flow\n\n\nExpertos \n\nCapital:  Mayra Contreras & Jenny Arragon\nLegal: Alex Bruno\nMarketing: Roberto Martínez\nTax: Antonio Nava\, EA\nInsurance: Guillermo Vergara\nCalSavers: Carolina Hernandez\nIRS & Franchise Tax Board: Lourdes Jimenez\, Derek Ganter\, Barbara Twana\, Lucius Davis III\n\n  \nExhibitors & Sponsors:\nBoos & Associates\nAsociación de Emprendedor@s\nVL Asesoría Financiera\nDrake Tax Software\nGrow with Google\nChase for Business\nNava School of Business\nbruno group\, inc. \n  \nPARKING: $10/day \n\nBoletos: $159 \n  \n\nhttps://wp-negozee-conent.s3.amazonaws.com/wp-content/uploads/2023/03/26092836/negoziantesummerseminar-30secvid.mp4\n  \n  \n 
URL:https://negozee.com/event/2023-nss/
CATEGORIES:Community Event,Evento Presencial,Talleres de Negocio
ATTACH;FMTTYPE=image/jpeg:https://wp-negozee-conent.s3.amazonaws.com/wp-content/uploads/2023/03/26092552/DSC_0613-1-scaled.jpg
ORGANIZER;CN="negozee":MAILTO:info@negozee.com
END:VEVENT
BEGIN:VEVENT
DTSTART;TZID=America/Los_Angeles:20230810T113000
DTEND;TZID=America/Los_Angeles:20230810T123000
DTSTAMP:20260422T155327
CREATED:20230807T193142Z
LAST-MODIFIED:20230809T001333Z
UID:10000713-1691667000-1691670600@negozee.com
SUMMARY:Transforma tu Ahorro en Inversión [zoom]
DESCRIPTION:*Este webinar es presentado por FINHABITS\n\nAcerca del webinar\nFinhabits quiere mostrarte que es posible abrir una cuenta de inversión con un número ITIN o simplemente con un número de seguro social. \nPor supuesto\, siempre hay algunos requisitos que se necesitan. \nÚnase a nosotros en nuestro webinar\, para discutir qué estrategia funcionará para usted. \n 
URL:https://negozee.com/event/cuenta-de-inversion/
CATEGORIES:Meeting,Webinar
ORGANIZER;CN="negozee":MAILTO:info@negozee.com
END:VEVENT
BEGIN:VEVENT
DTSTART;TZID=America/Los_Angeles:20230105T093000
DTEND;TZID=America/Los_Angeles:20230106T133000
DTSTAMP:20260422T155327
CREATED:20240124T223226Z
LAST-MODIFIED:20241202T215507Z
UID:10000734-1672911000-1673011800@negozee.com
SUMMARY:2025 ¿Qué Hay de Nuevo? [Parte 2] [zoom virtual]
DESCRIPTION:Hay 2 maneras para ingresar a este webinar:\n1. Haz clic aquí para registrarte a este webinar por $68. \n2. Inscríbete a la membresía de negozee por $28 al mes y recibe acceso. \n………………. \nVIP Members Activos\n¿Ya eres member de negozee? Ingresa al zoom aquí \n………. \nAcerca del webinar\n\nSi trabajas en los Estados Unidos esta clase es para ti. Esta clase te enseña todos los nuevos créditos fiscales y deducciones para negocios y familias. \nAprende cómo minimizar tus impuestos y maximizar tu dinero en 2025. \nAGENDA \nEl gran evento virtual comienza a las: \n9:30am PT – California\n12:30pm ET – New York \n……… \nViernes Enero 10\, 2025\n\n9:30am PT – Bienvenidos & Intro \n9:40am PT – BOI – Beneficial Ownership Information \n10:10am PT – Nuevos requisitos 1099-K de $5\,000\nNuevos requisitos de 1099-NEC (10+ e-files) \n10:30am PT – WISP Data & Cyber Security \n11:00am – PT – IRS Online Tools \n11:40am PT – Tax Credits & Deductions (Child Tax Credit\, Tax Rates\, Earned Income Tax Credit) \n12:00pm PT – SECURE Act 2.0 – cambios al IRA\, ROTH\, 401(k) \n12:15pm PT – Employee Retention Tax Credit Audits \n……………….. \nSábado Enero 11\, 2025\n9:30am PT – Taxes para Extranjeros y Inversionistas – VISAS\, ITIN\, Inmigrantes \n9:50am PT – Tax Office Setup and Tech \n10:15am PT – Top 3 Tax Planning Strategies \n10:40am PT – Tax Resolution \n11:00am PT – Living Trusts & Estates \n11:15am PT – Tax Pro Account – new features \n11:45am PT – Cómo lanzar una Tax School en 2024 \n12:05pm PT – Tax Season Marketing \n12:30pm PT – Bank Product Update \n1:50pm PT – Responsabilidades de un ITIN Certifying Acceptance Agent (CAA) \n1:00pm PT – Capital Gains Tax \n1:15pm PT – Gracias \n……………. \nHorario:  \nOnline Webinar de 2 días en vivo por zoom \nCalifornia: 9:30 am PT \nColorado / Arizona: 10:30am MT \nTexas: 11:30am CT \nNew York / Florida: 12:30pm ET \nPuerto Rico: 1:30pm AT \n………….. \n¿Cuánto cuesta este gran evento virtual?\n  \nHay 2 maneras para ingresar a este webinar:\n1. Haz clic aquí para registrarte a este webinar por $68. \n2. Inscríbete a la membresía de negozee por $28 al mes y recibe acceso. \n…………… \nVIP Members Activos\n¿Ya eres member de negozee? Ingresa al zoom aquí \n………. \nEvent Sponsors
URL:https://negozee.com/event/2025-tax-2/
CATEGORIES:Clase Virtual,Webinar
ATTACH;FMTTYPE=image/png:https://wp-negozee-conent.s3.amazonaws.com/wp-content/uploads/2022/12/26093559/2023QueHayDeNuevo-ngzee.png
ORGANIZER;CN="negozee":MAILTO:info@negozee.com
END:VEVENT
END:VCALENDAR