BEGIN:VCALENDAR
VERSION:2.0
PRODID:-//negozee - ECPv6.15.12.2//NONSGML v1.0//EN
CALSCALE:GREGORIAN
METHOD:PUBLISH
X-ORIGINAL-URL:https://negozee.com
X-WR-CALDESC:Events for negozee
REFRESH-INTERVAL;VALUE=DURATION:PT1H
X-Robots-Tag:noindex
X-PUBLISHED-TTL:PT1H
BEGIN:VTIMEZONE
TZID:America/Los_Angeles
BEGIN:DAYLIGHT
TZOFFSETFROM:-0800
TZOFFSETTO:-0700
TZNAME:PDT
DTSTART:20240310T100000
END:DAYLIGHT
BEGIN:STANDARD
TZOFFSETFROM:-0700
TZOFFSETTO:-0800
TZNAME:PST
DTSTART:20241103T090000
END:STANDARD
BEGIN:DAYLIGHT
TZOFFSETFROM:-0800
TZOFFSETTO:-0700
TZNAME:PDT
DTSTART:20250309T100000
END:DAYLIGHT
BEGIN:STANDARD
TZOFFSETFROM:-0700
TZOFFSETTO:-0800
TZNAME:PST
DTSTART:20251102T090000
END:STANDARD
BEGIN:DAYLIGHT
TZOFFSETFROM:-0800
TZOFFSETTO:-0700
TZNAME:PDT
DTSTART:20260308T100000
END:DAYLIGHT
BEGIN:STANDARD
TZOFFSETFROM:-0700
TZOFFSETTO:-0800
TZNAME:PST
DTSTART:20261101T090000
END:STANDARD
END:VTIMEZONE
BEGIN:VEVENT
DTSTART;TZID=America/Los_Angeles:20250909T120000
DTEND;TZID=America/Los_Angeles:20250909T130000
DTSTAMP:20260419T082311
CREATED:20250905T150927Z
LAST-MODIFIED:20250905T151517Z
UID:10001406-1757419200-1757422800@negozee.com
SUMMARY:A Deep Dive into Education Credits
DESCRIPTION:A Deep Dive into Education Credits\nJoin our webinar “A Deep Dive into Education Credits” to learn how to maximize your education tax benefits with expert tips and clear examples. Perfect for students\, families\, and tax professionals. \n2 IRS CE/2 CTEC/2 NASBA CPE \n📅 When?Tuesday\, September 9\, 2025  \n🕑12:00 PM PT \n🕑2:00 PM CT \n🕑3:00 PM ET \n⏳ Duration: 2 hours \nLanguage: English \nWith the code “negozee\,” you get free access to the event! Don’t miss this exclusive opportunity! \n					\n									Register
URL:https://negozee.com/event/a-deep-dive-into-education-credits/
CATEGORIES:Webinar
ATTACH;FMTTYPE=image/png:https://wp-negozee-conent.s3.amazonaws.com/wp-content/uploads/2025/09/05080856/tpp-sept9-2025.png
ORGANIZER;CN="negozee":MAILTO:info@negozee.com
END:VEVENT
BEGIN:VEVENT
DTSTART;TZID=America/Los_Angeles:20250909T150000
DTEND;TZID=America/Los_Angeles:20250909T160000
DTSTAMP:20260419T082311
CREATED:20250903T165905Z
LAST-MODIFIED:20250903T171502Z
UID:10001402-1757430000-1757433600@negozee.com
SUMMARY:Emprende Servicios Legales Septiembre 9 2025
DESCRIPTION:Days Hours Minutes Seconds		 \nEmprende Servicios Legales\nÚnete a nosotros en un evento innovador donde podrás resolver tus dudas y encontrar soluciones expertas en servicios legales. \nEste evento está diseñado para abordar una amplia gama de temas legales que afectan tanto a empresas como a familias en Estados Unidos. \nTemas de Discusión: \n\n\nPlanificación de Negocios: Aprende a estructurar tu empresa para el éxito\, desde la creación hasta la expansión\, con estrategias efectivas para enfrentar desafíos legales. \n\n\nPlanificación Patrimonial: Protege tus activos y asegura el futuro de tu familia con consejos expertos en testamentos\, fideicomisos y más. \n\n\nDerecho Financiero y de Inversiones: Navega las complejidades del derecho financiero y maximiza tus inversiones con asesoramiento especializado. \n\n\nImpuestos Globales: Entiende cómo manejar tus obligaciones fiscales a nivel internacional y reduce tu carga impositiva. \n\n\nDerecho Empresarial: Conoce las mejores prácticas para operar tu negocio de manera legal y eficiente\, desde contratos hasta disputas comerciales. \n\n\nServicios de Oficina Familiar: Recibe orientación sobre asuntos legales familiares\, incluyendo divorcios\, custodia de menores y más. \n\n\nBeneficios del Evento: \n\n\nConferencias Interactivas: Participa en sesiones informativas con expertos en derecho. \n\n\nRedes de Contactos: Conecta con otros profesionales y empresarios para expandir tus oportunidades. \n\n\nAsesoramiento Personalizado: Recibe respuestas directas a tus preguntas durante las sesiones de Q&A. \n\n\n					\n									Regístrate\n					\n\n	\n	Add to calendar	\n		\n	\n \n\n\n	Google Calendar\n\n\n	iCalendar\n\n\n	Outlook 365\n\n\n	Outlook Live
URL:https://negozee.com/event/emp-ser-legal-sept-2025/
ATTACH;FMTTYPE=image/jpeg:https://wp-negozee-conent.s3.amazonaws.com/wp-content/uploads/2025/09/03095842/sept2025-emprende-legal-1.jpg
ORGANIZER;CN="negozee":MAILTO:info@negozee.com
END:VEVENT
END:VCALENDAR