BEGIN:VCALENDAR
VERSION:2.0
PRODID:-//negozee - ECPv6.15.12.2//NONSGML v1.0//EN
CALSCALE:GREGORIAN
METHOD:PUBLISH
X-ORIGINAL-URL:https://negozee.com
X-WR-CALDESC:Events for negozee
REFRESH-INTERVAL;VALUE=DURATION:PT1H
X-Robots-Tag:noindex
X-PUBLISHED-TTL:PT1H
BEGIN:VTIMEZONE
TZID:America/Los_Angeles
BEGIN:DAYLIGHT
TZOFFSETFROM:-0800
TZOFFSETTO:-0700
TZNAME:PDT
DTSTART:20240310T100000
END:DAYLIGHT
BEGIN:STANDARD
TZOFFSETFROM:-0700
TZOFFSETTO:-0800
TZNAME:PST
DTSTART:20241103T090000
END:STANDARD
BEGIN:DAYLIGHT
TZOFFSETFROM:-0800
TZOFFSETTO:-0700
TZNAME:PDT
DTSTART:20250309T100000
END:DAYLIGHT
BEGIN:STANDARD
TZOFFSETFROM:-0700
TZOFFSETTO:-0800
TZNAME:PST
DTSTART:20251102T090000
END:STANDARD
BEGIN:DAYLIGHT
TZOFFSETFROM:-0800
TZOFFSETTO:-0700
TZNAME:PDT
DTSTART:20260308T100000
END:DAYLIGHT
BEGIN:STANDARD
TZOFFSETFROM:-0700
TZOFFSETTO:-0800
TZNAME:PST
DTSTART:20261101T090000
END:STANDARD
END:VTIMEZONE
BEGIN:VEVENT
DTSTART;TZID=America/Los_Angeles:20250814T080000
DTEND;TZID=America/Los_Angeles:20250815T170000
DTSTAMP:20260419T094037
CREATED:20250722T193602Z
LAST-MODIFIED:20250722T202459Z
UID:10001370-1755158400-1755277200@negozee.com
SUMMARY:2025 MIAMI TAX MARATHON
DESCRIPTION:2025 MIAMITAX MARATHON \n“IMPUESTOS INTERNACIONALES: OPORTUNIDAD DE NUEVOS NEGOCIOS” \n\n							Agosto 14-16\, 2025\n					\n			 Days Hours Minutes Seconds		 \n\n							Pullman Miami Airport\n					\n\n						5800 Waterford District Drive\, Miami\, FL\, 33126\, US					 \n					\n									Regístrate aquí\n					 \n¿Qué es el Miami Tax Marathon?\nEs un evento para profesionales de impuestos que buscan mejorar sus destrezas en temas especializados. \nSpeakers\nEvento para profesionales de impuestos \n																														 \nLuis Parra\, EA \nFundador y Director de Ameritax \n																														 \nOdalys Parra\, EA \nDirectora Educativa de Ameritax \nJosé Delgado  \nEspecialista en mercadeo \n																														 \nMariet Ostos\, EA \nEspecialista en Finanzas
URL:https://negozee.com/event/2025-miami-tax-marathon/
ATTACH;FMTTYPE=image/jpeg:https://wp-negozee-conent.s3.amazonaws.com/wp-content/uploads/2025/07/26082145/tax-marathon-AGOSTO2025.jpg
ORGANIZER;CN="negozee":MAILTO:info@negozee.com
END:VEVENT
BEGIN:VEVENT
DTSTART;TZID=America/Los_Angeles:20250814T080000
DTEND;TZID=America/Los_Angeles:20250816T170000
DTSTAMP:20260419T094037
CREATED:20250603T230608Z
LAST-MODIFIED:20250603T233136Z
UID:10001337-1755158400-1755363600@negozee.com
SUMMARY:The World's Greatest Tax Resolution Show on Earth - Roz Strategies
DESCRIPTION:Missing\n			 Days Hours Minutes Seconds\n																														 \nGet your 2025 VIRTUAL Tax Resolution Success Summit Ticket Today!\nStep right up! Don’t miss your chance to grow your tax resolution business with world-class speakers under the big top.Join us now and unlock the secrets to success—reserve your spot today! \n					\n									Register now
URL:https://negozee.com/event/the-worlds-greatest-tax-resolution-show-on-earth-roz-strategies/
ATTACH;FMTTYPE=image/png:https://wp-negozee-conent.s3.amazonaws.com/wp-content/uploads/2025/06/26083000/Roz-Strategies.png
ORGANIZER;CN="negozee":MAILTO:info@negozee.com
END:VEVENT
BEGIN:VEVENT
DTSTART;TZID=America/Los_Angeles:20250815T070000
DTEND;TZID=America/Los_Angeles:20250815T100000
DTSTAMP:20260419T094037
CREATED:20250728T203447Z
LAST-MODIFIED:20250728T203645Z
UID:10001382-1755241200-1755252000@negozee.com
SUMMARY:Wake Up Calle Friday - Agosto 15 2025
DESCRIPTION:Days Hours Minutes Seconds		 \n¿Tienes dudas sobre tus impuestos en Estados Unidos?\n¡Únete a nuestro webinar semanal! Cada semana\, Jesús Abikarram\, EA\, te explicará temas diferentes para que estés al día con las últimas novedades fiscales. \n¡Te invitamos a nuestro webinar semanal! Con la guía experta de Jesús Abikarram\, EA\, tendrás la oportunidad de profundizar en temas fiscales de manera accesible y enriquecedora. Este evento es exclusivo para nuestros miembros y está diseñado para ofrecerte: \n\nDeducciones y créditos fiscales\nDeclaraciones de impuestos\nCambios recientes en la ley tributaria\nY mucho más\n\n¡Cada semana un nuevo tema! Regístrate ahora y obtén claridad sobre tus obligaciones fiscales. \nHay 2 maneras para registrarte al evento:\n1.  Sign in y regístrarte por $36 en Tickets \n2. Inscríbete a la membresía de negozee por $32 al mes y recibe acceso. \n\n	\n	Add to calendar	\n		\n	\n \n\n\n	Google Calendar\n\n\n	iCalendar\n\n\n	Outlook 365\n\n\n	Outlook Live\n\n\n\n		\n		\n		\n		\n \n\n	Tickets\n		The numbers below include tickets for this event already in your cart. Clicking “Get Tickets” will allow you to edit any existing attendee information as well as change ticket quantities.\n				Wake Up Call Friday 15 Agosto 2025\n					$\n					36.00\n	 100  available\n			\n	Decrease ticket quantity for Wake Up Call Friday 15 Agosto 2025\n	–\n	\n		Quantity	\n	\n		\n	Increase ticket quantity for Wake Up Call Friday 15 Agosto 2025\n	+\n		\n		Quantity:\n	0\n		Total:\n					$\n					0.00\n	\n	¡Boletos!\n	\n	\n	\n			\n\nJesús Abikarram\, EA\nSoy un Coach\, Entrenador y Conferencista certificado por John Maxwell que se especializa en el coaching de líderes de pequeñas empresas\, ejecutivos\, empresarios y otros profesionales de negocio a negocio.\nPuedo ayudarle a utilizar y optimizar sus propios talentos para: Maximizar tu potencial\, Desarrollar tus habilidades de liderazgo\, Llevar tu negocio al siguiente nivel\, Tener más éxito en la vida y en tu carrera\, Convertirte en el orador público que siempre has querido ser.\nHe ayudado a otros propietarios de pequeñas empresas a desarrollar estrategias empresariales\, implantar sistemas ganadores y hacer crecer sus operaciones a través de sesiones de formación individuales y en grupo.
URL:https://negozee.com/event/wake-up-calle-friday-agosto-15-2025/
ATTACH;FMTTYPE=image/png:https://wp-negozee-conent.s3.amazonaws.com/wp-content/uploads/2025/07/26082109/wake-up-call-friday-agosto15-2025.png
ORGANIZER;CN="negozee":MAILTO:info@negozee.com
END:VEVENT
END:VCALENDAR