BEGIN:VCALENDAR
VERSION:2.0
PRODID:-//negozee - ECPv6.15.12.2//NONSGML v1.0//EN
CALSCALE:GREGORIAN
METHOD:PUBLISH
X-ORIGINAL-URL:https://negozee.com
X-WR-CALDESC:Events for negozee
REFRESH-INTERVAL;VALUE=DURATION:PT1H
X-Robots-Tag:noindex
X-PUBLISHED-TTL:PT1H
BEGIN:VTIMEZONE
TZID:America/Los_Angeles
BEGIN:DAYLIGHT
TZOFFSETFROM:-0800
TZOFFSETTO:-0700
TZNAME:PDT
DTSTART:20240310T100000
END:DAYLIGHT
BEGIN:STANDARD
TZOFFSETFROM:-0700
TZOFFSETTO:-0800
TZNAME:PST
DTSTART:20241103T090000
END:STANDARD
BEGIN:DAYLIGHT
TZOFFSETFROM:-0800
TZOFFSETTO:-0700
TZNAME:PDT
DTSTART:20250309T100000
END:DAYLIGHT
BEGIN:STANDARD
TZOFFSETFROM:-0700
TZOFFSETTO:-0800
TZNAME:PST
DTSTART:20251102T090000
END:STANDARD
BEGIN:DAYLIGHT
TZOFFSETFROM:-0800
TZOFFSETTO:-0700
TZNAME:PDT
DTSTART:20260308T100000
END:DAYLIGHT
BEGIN:STANDARD
TZOFFSETFROM:-0700
TZOFFSETTO:-0800
TZNAME:PST
DTSTART:20261101T090000
END:STANDARD
END:VTIMEZONE
BEGIN:VEVENT
DTSTART;TZID=America/Los_Angeles:20250807T160000
DTEND;TZID=America/Los_Angeles:20250807T170000
DTSTAMP:20260419T094042
CREATED:20250728T192522Z
LAST-MODIFIED:20250806T141921Z
UID:10001377-1754582400-1754586000@negozee.com
SUMMARY:Real Estate Mastery - ¿Tienes un cliente interesado  en ser anfitrión en Airbnb?
DESCRIPTION:Days Hours Minutes Seconds \n¡No te pierdas nuestro primer webinar de Real Estate Mastery!\nEstamos emocionados de invitarte a nuestro primer webinar de la serie mensual “Real Estate Mastery”\, donde cada mes contaremos con expertos invitados que compartirán su conocimiento y experiencia en el mundo del real estate. Esta es una oportunidad única para aprender de especialistas que te brindarán valiosas perspectivas sobre el mercado\, las tendencias actuales y las mejores prácticas para lograr el éxito en el sector inmobiliario. \nPrimer Webinar: \n📅 Fecha: 7 de agosto de 2025\n🕓 Hora: 4:00 PM PDT\n💻 Evento virtual (vía Zoom) \nNo te pierdas esta oportunidad de adquirir conocimientos clave y hacer preguntas en vivo a nuestros expertos. ¡Regístrate ahora y asegura tu lugar!\n\nRegístrate\n\n\n\nAdd to calendar \n  \n\nGoogle Calendar\niCalendar\nOutlook 365\nOutlook Live
URL:https://negozee.com/event/real-estate-mastery-agosto-7-2025/
CATEGORIES:Clase Virtual,Webinar
ATTACH;FMTTYPE=image/png:https://wp-negozee-conent.s3.amazonaws.com/wp-content/uploads/2025/07/26082034/Banner-RE-Mastery-0708.png
ORGANIZER;CN="negozee":MAILTO:info@negozee.com
END:VEVENT
END:VCALENDAR