BEGIN:VCALENDAR
VERSION:2.0
PRODID:-//negozee - ECPv6.15.12.2//NONSGML v1.0//EN
CALSCALE:GREGORIAN
METHOD:PUBLISH
X-WR-CALNAME:negozee
X-ORIGINAL-URL:https://negozee.com
X-WR-CALDESC:Events for negozee
REFRESH-INTERVAL;VALUE=DURATION:PT1H
X-Robots-Tag:noindex
X-PUBLISHED-TTL:PT1H
BEGIN:VTIMEZONE
TZID:America/Los_Angeles
BEGIN:DAYLIGHT
TZOFFSETFROM:-0800
TZOFFSETTO:-0700
TZNAME:PDT
DTSTART:20240310T100000
END:DAYLIGHT
BEGIN:STANDARD
TZOFFSETFROM:-0700
TZOFFSETTO:-0800
TZNAME:PST
DTSTART:20241103T090000
END:STANDARD
BEGIN:DAYLIGHT
TZOFFSETFROM:-0800
TZOFFSETTO:-0700
TZNAME:PDT
DTSTART:20250309T100000
END:DAYLIGHT
BEGIN:STANDARD
TZOFFSETFROM:-0700
TZOFFSETTO:-0800
TZNAME:PST
DTSTART:20251102T090000
END:STANDARD
BEGIN:DAYLIGHT
TZOFFSETFROM:-0800
TZOFFSETTO:-0700
TZNAME:PDT
DTSTART:20260308T100000
END:DAYLIGHT
BEGIN:STANDARD
TZOFFSETFROM:-0700
TZOFFSETTO:-0800
TZNAME:PST
DTSTART:20261101T090000
END:STANDARD
END:VTIMEZONE
BEGIN:VEVENT
DTSTART;TZID=America/Los_Angeles:20250717T160000
DTEND;TZID=America/Los_Angeles:20250717T170000
DTSTAMP:20260419T115838
CREATED:20250707T164633Z
LAST-MODIFIED:20250710T194844Z
UID:10001359-1752768000-1752771600@negozee.com
SUMMARY:Ventas al 100% con Mentalidad Ganadora Julio 2025
DESCRIPTION:Days Hours Minutes Seconds \n¿Quieres cerrar más ventas y escalar tu negocio?\nÚnete a nuestro webinar donde revelarán las estrategias más efectivas para vender con confianza y alcanzar tus metas! aprenderás sobre:\n\nDominar las técnicas de venta más efectivas: Aprende a conectar con tus clientes a un nivel más profundo y cerrar más acuerdos.\nDesarrollar una mentalidad de éxito: Supera tus miedos y limitaciones para alcanzar un nuevo nivel de confianza y determinación.\nCrear una estrategia de ventas personalizada: Descubre cómo adaptar tus técnicas de venta a cada cliente y situación.\nUtilizar las herramientas digitales más innovadoras: Aprovecha el poder de la tecnología para optimizar tus procesos de venta.\n\n¡No te quedes fuera! Reserva tu lugar ahora y descubre cómo transformar tu carrera en ventas. \n\nFecha: Jueves 17 de Julio del 2025\nHora: 4:00 PM (Hora de California)\n\nNo te pierdas esta oportunidad única de aprender cómo la tecnología puede ayudarte a hacer crecer tu negocio.\n\nRegístrate\n\n\n\nAdd to calendar \n \n\nGoogle Calendar\niCalendar\nOutlook 365\nOutlook Live
URL:https://negozee.com/event/ventas-al-100-july-2025/
CATEGORIES:Clase Virtual,Webinar
ATTACH;FMTTYPE=image/jpeg:https://wp-negozee-conent.s3.amazonaws.com/wp-content/uploads/2025/05/26083051/ventas100.jpg
ORGANIZER;CN="negozee":MAILTO:info@negozee.com
END:VEVENT
END:VCALENDAR