BEGIN:VCALENDAR
VERSION:2.0
PRODID:-//negozee - ECPv6.15.12.2//NONSGML v1.0//EN
CALSCALE:GREGORIAN
METHOD:PUBLISH
X-ORIGINAL-URL:https://negozee.com
X-WR-CALDESC:Events for negozee
REFRESH-INTERVAL;VALUE=DURATION:PT1H
X-Robots-Tag:noindex
X-PUBLISHED-TTL:PT1H
BEGIN:VTIMEZONE
TZID:America/Los_Angeles
BEGIN:DAYLIGHT
TZOFFSETFROM:-0800
TZOFFSETTO:-0700
TZNAME:PDT
DTSTART:20240310T100000
END:DAYLIGHT
BEGIN:STANDARD
TZOFFSETFROM:-0700
TZOFFSETTO:-0800
TZNAME:PST
DTSTART:20241103T090000
END:STANDARD
BEGIN:DAYLIGHT
TZOFFSETFROM:-0800
TZOFFSETTO:-0700
TZNAME:PDT
DTSTART:20250309T100000
END:DAYLIGHT
BEGIN:STANDARD
TZOFFSETFROM:-0700
TZOFFSETTO:-0800
TZNAME:PST
DTSTART:20251102T090000
END:STANDARD
BEGIN:DAYLIGHT
TZOFFSETFROM:-0800
TZOFFSETTO:-0700
TZNAME:PDT
DTSTART:20260308T100000
END:DAYLIGHT
BEGIN:STANDARD
TZOFFSETFROM:-0700
TZOFFSETTO:-0800
TZNAME:PST
DTSTART:20261101T090000
END:STANDARD
END:VTIMEZONE
BEGIN:VEVENT
DTSTART;TZID=America/Los_Angeles:20250716T130000
DTEND;TZID=America/Los_Angeles:20250716T140000
DTSTAMP:20260419T120201
CREATED:20250707T160656Z
LAST-MODIFIED:20250707T163224Z
UID:10001358-1752670800-1752674400@negozee.com
SUMMARY:Tecnologia para negocios 16 July 2025
DESCRIPTION:¡No te pierdas Tecnología para Negocios!\nDescubre cómo la innovación puede transformar tu empresa. \n    Únete a nuestro evento y lleva tu negocio al siguiente nivel. \n    ¡Quiero asistir! \nSolo queda\n			 Days Hours Minutes Seconds		 \nTecnología para Negocios 2025\nTe invitamos cordialmente a un evento diseñado para empresarios y profesionales que desean potenciar su negocio con las últimas tendencias tecnológicas. \nDescubre cómo la innovación puede transformar tu empresa\, conecta con expertos y aprende estrategias efectivas para llevar tu negocio al siguiente nivel. Será un placer contar con tu presencia para compartir juntos esta experiencia. \n\n							Hay 2 maneras para registrarte al evento\n					\nAl unirte a la membresía de negozee por solo $32 al mes\, tendrás acceso ilimitado a este evento y muchos más en áreas clave como Real Estate\, Capital\, Tax\, Fintech\, etc…  \nDisfruta de beneficios exclusivos\, contenido actualizado y oportunidades únicas para hacer crecer tu negocio. \n					\n									¡Quiero ser VIP!\n					 \n\n							Julio 16 – 2025\n					\n\n						1:00 PM PT –\n3:00 PM CT –\n4:00 PM ET					 \nLas empresas que adoptan tecnologías innovadoras como inteligencia artificial\, automatización y CRM experimentan un crecimiento en ventas y ganancias significativamente mayor que aquellas que no lo hacen. Según estudios recientes\, estas empresas aumentan sus ventas en promedio un 30% y sus ganancias en un 25%\, mientras que las que no implementan tecnología apenas logran un crecimiento del 5% y 3% respectivamente. Este evento te mostrará cómo lograr estos resultados y evitar los errores comunes en la transformación digital. \n\n  Incremento en ventas\n  \n\n      \n      \n        50%\n        Resultados!\n      \n    \n\n					\n									¡Quiero asistir!
URL:https://negozee.com/event/tecnologia-para-negocios-16-july-2025/
ATTACH;FMTTYPE=image/png:https://wp-negozee-conent.s3.amazonaws.com/wp-content/uploads/2025/05/26083051/tecnologia-negocios.png
ORGANIZER;CN="negozee":MAILTO:info@negozee.com
END:VEVENT
END:VCALENDAR