BEGIN:VCALENDAR
VERSION:2.0
PRODID:-//negozee - ECPv6.15.12.2//NONSGML v1.0//EN
CALSCALE:GREGORIAN
METHOD:PUBLISH
X-WR-CALNAME:negozee
X-ORIGINAL-URL:https://negozee.com
X-WR-CALDESC:Events for negozee
REFRESH-INTERVAL;VALUE=DURATION:PT1H
X-Robots-Tag:noindex
X-PUBLISHED-TTL:PT1H
BEGIN:VTIMEZONE
TZID:America/Los_Angeles
BEGIN:DAYLIGHT
TZOFFSETFROM:-0800
TZOFFSETTO:-0700
TZNAME:PDT
DTSTART:20240310T100000
END:DAYLIGHT
BEGIN:STANDARD
TZOFFSETFROM:-0700
TZOFFSETTO:-0800
TZNAME:PST
DTSTART:20241103T090000
END:STANDARD
BEGIN:DAYLIGHT
TZOFFSETFROM:-0800
TZOFFSETTO:-0700
TZNAME:PDT
DTSTART:20250309T100000
END:DAYLIGHT
BEGIN:STANDARD
TZOFFSETFROM:-0700
TZOFFSETTO:-0800
TZNAME:PST
DTSTART:20251102T090000
END:STANDARD
BEGIN:DAYLIGHT
TZOFFSETFROM:-0800
TZOFFSETTO:-0700
TZNAME:PDT
DTSTART:20260308T100000
END:DAYLIGHT
BEGIN:STANDARD
TZOFFSETFROM:-0700
TZOFFSETTO:-0800
TZNAME:PST
DTSTART:20261101T090000
END:STANDARD
END:VTIMEZONE
BEGIN:VEVENT
DTSTART;TZID=America/Los_Angeles:20250715T100000
DTEND;TZID=America/Los_Angeles:20250715T110000
DTSTAMP:20260419T115912
CREATED:20250711T161116Z
LAST-MODIFIED:20250711T163338Z
UID:10001364-1752573600-1752577200@negozee.com
SUMMARY:Intro to Estate Tax - Tax Practice Pro
DESCRIPTION:Join our Intro to Estate Tax\nJoin our Intro to Estate Tax webinar for a clear and comprehensive introduction to estate tax fundamentals. Perfect for those looking to build a solid foundation and prepare for the upcoming advanced session on Marital Estate Tax Planning Trusts: Credit Shelter\, Bypass\, QTIP\, and more. \nThis course also works great as a standalone training\, offering 1 IRS CE / 1 CTEC CE / 1 NASBA CPE* credit. \nTake advantage of our best deal by becoming a monthly subscriber and never miss an event! \nRegister today and take the first step toward mastering estate tax. \n\nJuly 15 2025\n10 Am Pacific Time\n\n\nRegister
URL:https://negozee.com/event/intro-to-estate-tpp/
ATTACH;FMTTYPE=image/png:https://wp-negozee-conent.s3.amazonaws.com/wp-content/uploads/2025/07/26082230/Webinars-WEB-20.png
ORGANIZER;CN="negozee":MAILTO:info@negozee.com
END:VEVENT
BEGIN:VEVENT
DTSTART;TZID=America/Los_Angeles:20250715T160000
DTEND;TZID=America/Los_Angeles:20250715T170000
DTSTAMP:20260419T115912
CREATED:20250704T134913Z
LAST-MODIFIED:20250711T160009Z
UID:10001356-1752595200-1752598800@negozee.com
SUMMARY:Fundamentos de Impuestos [All Tax Solution] July2025
DESCRIPTION:Days Hours Minutes Seconds \n¡Aprende lo básico de los impuestos con All Tax Solution!\n¿Te confunden los impuestos? Únete a nosotros para un webinar gratuito el Martes 15 de Julio a las 4:00 pm hora PT donde los expertos de All Tax Solution te darán una introducción a los conceptos básicos de los impuestos. \n¡Este webinar es perfecto para ti si: \n\nEres nuevo en el mundo de los impuestos\nNecesitas un repaso de los conceptos básicos\nQuieres aprender cómo ahorrar dinero en tus impuestos\n\nHay 2 maneras para registrarte al evento:\n1.  Sign in y regístrarte por $36 en Tickets \n2. Inscríbete a la membresía de negozee por $32 al mes y recibe acceso. \n\n\nAdd to calendar \n  \n\nGoogle Calendar\niCalendar\nOutlook 365\nOutlook Live\n\n\n\n\n\n \nTickets\nThe numbers below include tickets for this event already in your cart. Clicking “Get Tickets” will allow you to edit any existing attendee information as well as change ticket quantities.\nFundamentos de Impuestos July 15 2025\n$\n36.00\n100 available\n\nDecrease ticket quantity for Fundamentos de Impuestos July 15 2025\n–\n\nQuantity \n\n\nIncrease ticket quantity for Fundamentos de Impuestos July 15 2025\n+\n\nQuantity:\n0\nTotal:\n$\n0.00\n\nGet Tickets \n\n\nAll Tax Solution\nAll Tax Solution es una empresa que ofrece una suite completa de servicios para ayudar a las personas y empresas con sus necesidades de preparación de impuestos. Esto incluye software de impuestos y contabilidad\, administración de documentos\, planificación de impuestos\, presentación electrónica de impuestos y configuración bancaria para el gobierno federal y todos los estados de EE. UU. También ofrecen servicios de revisión de impuestos\, educación continua y soporte bilingüe.\nPuedes encontrar más información sobre All Tax Solution en su sitio web: https://alltaxsolution.com/
URL:https://negozee.com/event/fundamentos-de-impuestos-july-2025/
CATEGORIES:Clase Virtual,Webinar
ATTACH;FMTTYPE=image/png:https://wp-negozee-conent.s3.amazonaws.com/wp-content/uploads/2025/07/26082336/Impuestos-Basicos-negozee-all-tax-july2025.png
ORGANIZER;CN="negozee":MAILTO:info@negozee.com
END:VEVENT
END:VCALENDAR