BEGIN:VCALENDAR
VERSION:2.0
PRODID:-//negozee - ECPv6.15.12.2//NONSGML v1.0//EN
CALSCALE:GREGORIAN
METHOD:PUBLISH
X-WR-CALNAME:negozee
X-ORIGINAL-URL:https://negozee.com
X-WR-CALDESC:Events for negozee
REFRESH-INTERVAL;VALUE=DURATION:PT1H
X-Robots-Tag:noindex
X-PUBLISHED-TTL:PT1H
BEGIN:VTIMEZONE
TZID:America/Los_Angeles
BEGIN:DAYLIGHT
TZOFFSETFROM:-0800
TZOFFSETTO:-0700
TZNAME:PDT
DTSTART:20240310T100000
END:DAYLIGHT
BEGIN:STANDARD
TZOFFSETFROM:-0700
TZOFFSETTO:-0800
TZNAME:PST
DTSTART:20241103T090000
END:STANDARD
BEGIN:DAYLIGHT
TZOFFSETFROM:-0800
TZOFFSETTO:-0700
TZNAME:PDT
DTSTART:20250309T100000
END:DAYLIGHT
BEGIN:STANDARD
TZOFFSETFROM:-0700
TZOFFSETTO:-0800
TZNAME:PST
DTSTART:20251102T090000
END:STANDARD
BEGIN:DAYLIGHT
TZOFFSETFROM:-0800
TZOFFSETTO:-0700
TZNAME:PDT
DTSTART:20260308T100000
END:DAYLIGHT
BEGIN:STANDARD
TZOFFSETFROM:-0700
TZOFFSETTO:-0800
TZNAME:PST
DTSTART:20261101T090000
END:STANDARD
END:VTIMEZONE
BEGIN:VEVENT
DTSTART;TZID=America/Los_Angeles:20250701T130000
DTEND;TZID=America/Los_Angeles:20250701T140000
DTSTAMP:20260419T115851
CREATED:20250620T161115Z
LAST-MODIFIED:20250624T132446Z
UID:10001347-1751374800-1751378400@negozee.com
SUMMARY:Emprende Capital: Impulsa tu negocio con Alternacard
DESCRIPTION:Emprende\nCapital\nÚnete a Emprende Capital\, el evento patrocinado por Alternacard\, diseñado para emprendedores que buscan crecer y financiar sus proyectos con las mejores herramientas y consejos prácticos. ¡No te lo pierdas! \nHora\nMartes 1  de Julio\n🕒 1:00 PM PT (Hora del Pacífico)🕒 3:00 PM CT (Hora Central)🕓 4:00 PM ET (Hora del Este) \n					\n									Reserva tu lugar
URL:https://negozee.com/event/emprende-capital-alternacard/
ATTACH;FMTTYPE=image/png:https://wp-negozee-conent.s3.amazonaws.com/wp-content/uploads/2025/06/26082636/webinar-alternacard.png
ORGANIZER;CN="negozee":MAILTO:info@negozee.com
END:VEVENT
END:VCALENDAR