BEGIN:VCALENDAR
VERSION:2.0
PRODID:-//negozee - ECPv6.15.12.2//NONSGML v1.0//EN
CALSCALE:GREGORIAN
METHOD:PUBLISH
X-ORIGINAL-URL:https://negozee.com
X-WR-CALDESC:Events for negozee
REFRESH-INTERVAL;VALUE=DURATION:PT1H
X-Robots-Tag:noindex
X-PUBLISHED-TTL:PT1H
BEGIN:VTIMEZONE
TZID:America/Los_Angeles
BEGIN:DAYLIGHT
TZOFFSETFROM:-0800
TZOFFSETTO:-0700
TZNAME:PDT
DTSTART:20240310T100000
END:DAYLIGHT
BEGIN:STANDARD
TZOFFSETFROM:-0700
TZOFFSETTO:-0800
TZNAME:PST
DTSTART:20241103T090000
END:STANDARD
BEGIN:DAYLIGHT
TZOFFSETFROM:-0800
TZOFFSETTO:-0700
TZNAME:PDT
DTSTART:20250309T100000
END:DAYLIGHT
BEGIN:STANDARD
TZOFFSETFROM:-0700
TZOFFSETTO:-0800
TZNAME:PST
DTSTART:20251102T090000
END:STANDARD
BEGIN:DAYLIGHT
TZOFFSETFROM:-0800
TZOFFSETTO:-0700
TZNAME:PDT
DTSTART:20260308T100000
END:DAYLIGHT
BEGIN:STANDARD
TZOFFSETFROM:-0700
TZOFFSETTO:-0800
TZNAME:PST
DTSTART:20261101T090000
END:STANDARD
END:VTIMEZONE
BEGIN:VEVENT
DTSTART;TZID=America/Los_Angeles:20250626T110000
DTEND;TZID=America/Los_Angeles:20250626T120000
DTSTAMP:20260419T132759
CREATED:20250530T231410Z
LAST-MODIFIED:20250530T232500Z
UID:10001334-1750935600-1750939200@negozee.com
SUMMARY:TAX SCHOOL June 2025 (Spanish)
DESCRIPTION:negozee\nTaxSchool \nService Bureau Capacitación\nImpulse su negocio en el sector fiscal\n¡Únase a nosotros en esta capacitación diseñada para futuros socios del modelo de Oficina de Servicios! Aprenda a maximizar las oportunidades en el sector tributario y descubra cómo establecer y expandir su negocio eficazmente. \nLo que aprenderás\nUnderstanding the Service Bureau Model: Learn its definition\, role in the tax industry\, and associated benefits such as software reselling\, bank product commissions\, and tech support fees. \nChoosing the Right Tax Software: Explore white-label software options\, key features like e-file support\, client management\, and reporting tools. \nSetting Up an EFIN with an ITIN: Learn how to obtain an Electronic Filing Identification Number and comply with IRS requirements\, including registration steps and necessary documentation. \nIdeaTax Pro Training: Discover how to set up your account\, manage e-filings\, and maximize your earnings with IdeaTax Pro. \nGrowth and Support Strategies: Learn to offer technical and tax law support\, scale your business by adding tax preparers\, and market your service bureau to new tax pros. \n\n\n\n\n \nTickets\nThe numbers below include tickets for this event already in your cart. Clicking “Get Tickets” will allow you to edit any existing attendee information as well as change ticket quantities.\nTAX SCHOOL June 2025 Spanish\n$\n36.00\nUnlimited\n\nDecrease ticket quantity for TAX SCHOOL June 2025 Spanish\n–\n\nQuantity \n\n\nIncrease ticket quantity for TAX SCHOOL June 2025 Spanish\n+\n\nQuantity:\n0\nTotal:\n$\n0.00\n\n¡Boletos! \n\nNo te pierdas esta oportunidad de crecer en el sector tributario. ¡Inscríbete ahora y empieza a construir un negocio exitoso con nuestro modelo de Service Bureau! Durante el evento\, tendrás la oportunidad de responder a tus preguntas en una sesión de preguntas y respuestas y recibir recursos adicionales para seguir adelante.
URL:https://negozee.com/event/tax-school-june-2025-spanish/
ATTACH;FMTTYPE=image/png:https://wp-negozee-conent.s3.amazonaws.com/wp-content/uploads/2025/05/26083018/Webinars-WEB-12.png
ORGANIZER;CN="negozee":MAILTO:info@negozee.com
END:VEVENT
END:VCALENDAR