BEGIN:VCALENDAR
VERSION:2.0
PRODID:-//negozee - ECPv6.15.12.2//NONSGML v1.0//EN
CALSCALE:GREGORIAN
METHOD:PUBLISH
X-WR-CALNAME:negozee
X-ORIGINAL-URL:https://negozee.com
X-WR-CALDESC:Events for negozee
REFRESH-INTERVAL;VALUE=DURATION:PT1H
X-Robots-Tag:noindex
X-PUBLISHED-TTL:PT1H
BEGIN:VTIMEZONE
TZID:America/Los_Angeles
BEGIN:DAYLIGHT
TZOFFSETFROM:-0800
TZOFFSETTO:-0700
TZNAME:PDT
DTSTART:20240310T100000
END:DAYLIGHT
BEGIN:STANDARD
TZOFFSETFROM:-0700
TZOFFSETTO:-0800
TZNAME:PST
DTSTART:20241103T090000
END:STANDARD
BEGIN:DAYLIGHT
TZOFFSETFROM:-0800
TZOFFSETTO:-0700
TZNAME:PDT
DTSTART:20250309T100000
END:DAYLIGHT
BEGIN:STANDARD
TZOFFSETFROM:-0700
TZOFFSETTO:-0800
TZNAME:PST
DTSTART:20251102T090000
END:STANDARD
BEGIN:DAYLIGHT
TZOFFSETFROM:-0800
TZOFFSETTO:-0700
TZNAME:PDT
DTSTART:20260308T100000
END:DAYLIGHT
BEGIN:STANDARD
TZOFFSETFROM:-0700
TZOFFSETTO:-0800
TZNAME:PST
DTSTART:20261101T090000
END:STANDARD
END:VTIMEZONE
BEGIN:VEVENT
DTSTART;TZID=America/Los_Angeles:20250625T110000
DTEND;TZID=America/Los_Angeles:20250625T120000
DTSTAMP:20260419T132325
CREATED:20250616T142305Z
LAST-MODIFIED:20250616T143432Z
UID:10001345-1750849200-1750852800@negozee.com
SUMMARY:CASH FLOW HABITS OF SUCCESSFUL SELLERS
DESCRIPTION:Learn the Cash Flow Habits of Successful Sellers \n(Live Demo Included)\nJoin the Square team Wednesday\, June 25 as we debunk the biggest myths about cash flow and show you how real sellers use Square Banking to stay on top of their money — even when margins are tight. You’ll walk away with simple strategies that make your money work harder\, plus a live demo of how to manage cash flow with Square’s connected tools. \n\n\n										Why separating personal and business finance matters (yes\, especially for taxes)\n									\n\n										How to start saving before you feel “ready”\n									\n\n										How to manage your money in real time — with tools that work for you\n									\n\n										How to see your full cash flow picture with connected Square tools\n									\n\n		Learn how to manage your cash flow like a pro — and see how Square makes it easy!\n					\n									Link to Register
URL:https://negozee.com/event/cash-flow-habits-square/
ATTACH;FMTTYPE=image/png:https://wp-negozee-conent.s3.amazonaws.com/wp-content/uploads/2025/06/26082909/Webinars-WEB-19.png
ORGANIZER;CN="negozee":MAILTO:info@negozee.com
END:VEVENT
BEGIN:VEVENT
DTSTART;TZID=America/Los_Angeles:20250625T113000
DTEND;TZID=America/Los_Angeles:20250625T123000
DTSTAMP:20260419T132325
CREATED:20250530T224920Z
LAST-MODIFIED:20250625T170126Z
UID:10001333-1750851000-1750854600@negozee.com
SUMMARY:Marketing en el Mundo Digital - JP Morgan Chase
DESCRIPTION:Jenny aragon\, mba\nVice president – Sr. Business Consultant \nChase for Business \nMiércoles 25 de Junio\n			 Days Hours Minutes Seconds		 \nCómo incrementar el ingreso de efectivo y disminuir el egreso de efectivo para maximiar el éxito del negocio \n\n\n										Conceptos básicos del flujo de efectivo\n									\n\n										Cómo maximizar el ingreso de efectivo\n									\n\n										Cómo minimizar el egreso de efectivo\n									\n\n										Haga que el efectivo trabaje para usted\n									\n\n					\n									¡Únete Ahora!\n					\n																\n															 \nChase for Business es una solución bancaria diseñada para pequeñas y medianas empresas\, que ofrece cuentas de cheques\, herramientas para gestionar pagos\, facturación digital y acceso a financiamiento. Facilita la administración financiera con servicios seguros y tecnología moderna para apoyar el crecimiento y la eficiencia del negocio.
URL:https://negozee.com/event/conozca-su-flujo-de-efectivo-jp-morgan-chase-2/
ATTACH;FMTTYPE=image/png:https://wp-negozee-conent.s3.amazonaws.com/wp-content/uploads/2025/04/26083201/Webinars-WEB-4-1.png
ORGANIZER;CN="negozee":MAILTO:info@negozee.com
END:VEVENT
END:VCALENDAR