BEGIN:VCALENDAR
VERSION:2.0
PRODID:-//negozee - ECPv6.15.12.2//NONSGML v1.0//EN
CALSCALE:GREGORIAN
METHOD:PUBLISH
X-ORIGINAL-URL:https://negozee.com
X-WR-CALDESC:Events for negozee
REFRESH-INTERVAL;VALUE=DURATION:PT1H
X-Robots-Tag:noindex
X-PUBLISHED-TTL:PT1H
BEGIN:VTIMEZONE
TZID:America/Los_Angeles
BEGIN:DAYLIGHT
TZOFFSETFROM:-0800
TZOFFSETTO:-0700
TZNAME:PDT
DTSTART:20240310T100000
END:DAYLIGHT
BEGIN:STANDARD
TZOFFSETFROM:-0700
TZOFFSETTO:-0800
TZNAME:PST
DTSTART:20241103T090000
END:STANDARD
BEGIN:DAYLIGHT
TZOFFSETFROM:-0800
TZOFFSETTO:-0700
TZNAME:PDT
DTSTART:20250309T100000
END:DAYLIGHT
BEGIN:STANDARD
TZOFFSETFROM:-0700
TZOFFSETTO:-0800
TZNAME:PST
DTSTART:20251102T090000
END:STANDARD
BEGIN:DAYLIGHT
TZOFFSETFROM:-0800
TZOFFSETTO:-0700
TZNAME:PDT
DTSTART:20260308T100000
END:DAYLIGHT
BEGIN:STANDARD
TZOFFSETFROM:-0700
TZOFFSETTO:-0800
TZNAME:PST
DTSTART:20261101T090000
END:STANDARD
END:VTIMEZONE
BEGIN:VEVENT
DTSTART;TZID=America/Los_Angeles:20250616T080000
DTEND;TZID=America/Los_Angeles:20250619T170000
DTSTAMP:20260419T224222
CREATED:20250430T151216Z
LAST-MODIFIED:20250430T163722Z
UID:10001305-1750060800-1750352400@negozee.com
SUMMARY:LATINO TAX FEST 2025 - Las Vegas
DESCRIPTION:LATINO TAX FEST\n																														 \nCAN’T MAKE IT TO VEGAS THIS YEAR? WATCH OUR LIVE STREAM TO EARN YOUR CREDITS AND GET UPDATED.\n			 Days Hours Minutes Seconds		 \nDISCOVER OFFICE SOLUTIONS AT OUR MARKETPLACE 👩🏻‍💻\nTax Fest offers a major industry Marketplace with over 73 exhibitors\, featuring tax software\, cloud platforms\, and tools to streamline tax processes. Attendees can network with providers and explore innovative solutions. Don’t miss the preferred providers. \nExclusive price negozee $499 \n					\n									REGISTER TODAY\n					 \n✅ Incluye acceso al Lunch exclusivo de negozee el miércoles 18 de junio dentro del evento.\n\n							When?\n					\n\n						JOIN US JUNE 16 – 19\, 2025!\n					 \n\n							Where?\n					\n\n						LAS VEGAS VENUE\nMGM GRAND HOTEL & CASINO					 \n3799 S Las Vegas Blvd\, Las Vegas\, NV 89109 \nMeet us on the 3rd floor of the convention center \nExclusive price negozee $499\n					\n									REGISTER TODAY
URL:https://negozee.com/event/latino-tax-fest-2025/
ATTACH;FMTTYPE=image/png:https://wp-negozee-conent.s3.amazonaws.com/wp-content/uploads/2025/04/26083624/Webinars-WEB-3.png
ORGANIZER;CN="negozee":MAILTO:info@negozee.com
END:VEVENT
BEGIN:VEVENT
DTSTART;TZID=America/Los_Angeles:20250619T103000
DTEND;TZID=America/Los_Angeles:20250619T113000
DTSTAMP:20260419T224222
CREATED:20250530T215108Z
LAST-MODIFIED:20250530T221723Z
UID:10001331-1750329000-1750332600@negozee.com
SUMMARY:Tax Resolution Services / Community Tax
DESCRIPTION:Days Hours Minutes Seconds		 \nTax Resolution Services\nDeja de preocuparte\, mientras nosotros comenzamos a resolver. \nCommunity Tax™ \nLos temas que se abordaran por días serán los siguientes:\nComienza hoy con una consulta fiscal GRATIS.\nNo importa cuán grande sea tu obligación tributaria\, tenemos una solución para ti. ¡Empieza hoy! \n¿Estás luchando con tu obligación tributaria y te sientes abrumado? ¿Buscas una solución profesional y confiable para ayudarte a volver a encarrilarte? ¡No busques más! Community Tax está aquí para ayudarte. Nuestro equipo de profesionales fiscales experimentados se dedica a ayudar a los contribuyentes a resolver sus problemas de obligaciones fiscales de manera eficiente y efectiva. Con nuestra amplia gama de servicios fiscales\, ofrecemos soluciones personalizadas adaptadas tanto a individuos como a propietarios de negocios. Ya sea que necesites ayuda para entender las leyes fiscales\, presentar declaraciones atrasadas\, debas impuestos sobre nómina o negociar un acuerdo de pago o una oferta en compromiso con el IRS\, podemos brindarte la asistencia que necesitas. \nNuestro Proceso de Resolución Fiscal\nPaso 1: Consulta \nNuestros profesionales fiscales escucharán tu caso y te proporcionarán un análisis financiero gratuito\, discutiendo las mejores resoluciones potenciales para tu problemática fiscal. Entendemos la presión que enfrentas y cómo revertir tu situación para proteger tu salud financiera. \nPaso 2: Investigación \nNuestro proceso de investigación comienza presentando un Formulario de Autorización de Información Fiscal 8821 ante el IRS y/o el formulario correspondiente ante la autoridad fiscal estatal en tu nombre\, con el fin de obtener un registro completo de tu cuenta. Luego podemos rastrear registros\, construir un perfil financiero y realizar las indagaciones necesarias que conducirán a una resolución más rápida de tu caso. Nuestros expertos fiscales se pondrán en contacto contigo para discutir la mejor manera de abordar el problema. \nPaso 3: Resolución Fiscal \nLa fase de resolución de nuestro proceso comienza recopilando información financiera más detallada y documentación para preparar una propuesta exhaustiva para su presentación ante el IRS y/o el Estado. Nuestro equipo está aquí para ti\, y nuestro objetivo no solo es solucionar tus problemas fiscales\, sino también mantenerse libre de obligaciones fiscales en el futuro. \n					\n									Regístrate Aquí\n					\n\n	\n	Add to calendar	\n		\n	\n \n\n\n	Google Calendar\n\n\n	iCalendar\n\n\n	Outlook 365\n\n\n	Outlook Live
URL:https://negozee.com/event/tax-resolution-services-community-tax-june2025/
ATTACH;FMTTYPE=image/png:https://wp-negozee-conent.s3.amazonaws.com/wp-content/uploads/2025/05/26083025/Practice-Managment-with-TaxDome.png
ORGANIZER;CN="negozee":MAILTO:info@negozee.com
END:VEVENT
BEGIN:VEVENT
DTSTART;TZID=America/Los_Angeles:20250619T160000
DTEND;TZID=America/Los_Angeles:20250619T170000
DTSTAMP:20260419T224222
CREATED:20250527T204858Z
LAST-MODIFIED:20250527T213459Z
UID:10001325-1750348800-1750352400@negozee.com
SUMMARY:Ventas al 100% con Mentalidad Ganadora June 2025
DESCRIPTION:Days Hours Minutes Seconds \n¿Quieres cerrar más ventas y escalar tu negocio?\nÚnete a nuestro webinar donde revelarán las estrategias más efectivas para vender con confianza y alcanzar tus metas! aprenderás sobre:\n\nDominar las técnicas de venta más efectivas: Aprende a conectar con tus clientes a un nivel más profundo y cerrar más acuerdos.\nDesarrollar una mentalidad de éxito: Supera tus miedos y limitaciones para alcanzar un nuevo nivel de confianza y determinación.\nCrear una estrategia de ventas personalizada: Descubre cómo adaptar tus técnicas de venta a cada cliente y situación.\nUtilizar las herramientas digitales más innovadoras: Aprovecha el poder de la tecnología para optimizar tus procesos de venta.\n\n¡No te quedes fuera! Reserva tu lugar ahora y descubre cómo transformar tu carrera en ventas. \n\nFecha: Jueves 19 de Junio del 2025\nHora: 4:00 PM (Hora de California)\n\nNo te pierdas esta oportunidad única de aprender cómo la tecnología puede ayudarte a hacer crecer tu negocio.\n\nRegístrate\n\n\n\nAdd to calendar \n \n\nGoogle Calendar\niCalendar\nOutlook 365\nOutlook Live
URL:https://negozee.com/event/ventas-al-100-june-2025/
CATEGORIES:Clase Virtual,Webinar
ATTACH;FMTTYPE=image/jpeg:https://wp-negozee-conent.s3.amazonaws.com/wp-content/uploads/2025/05/26083051/ventas100.jpg
ORGANIZER;CN="negozee":MAILTO:info@negozee.com
END:VEVENT
END:VCALENDAR