BEGIN:VCALENDAR
VERSION:2.0
PRODID:-//negozee - ECPv6.15.12.2//NONSGML v1.0//EN
CALSCALE:GREGORIAN
METHOD:PUBLISH
X-ORIGINAL-URL:https://negozee.com
X-WR-CALDESC:Events for negozee
REFRESH-INTERVAL;VALUE=DURATION:PT1H
X-Robots-Tag:noindex
X-PUBLISHED-TTL:PT1H
BEGIN:VTIMEZONE
TZID:America/Los_Angeles
BEGIN:DAYLIGHT
TZOFFSETFROM:-0800
TZOFFSETTO:-0700
TZNAME:PDT
DTSTART:20240310T100000
END:DAYLIGHT
BEGIN:STANDARD
TZOFFSETFROM:-0700
TZOFFSETTO:-0800
TZNAME:PST
DTSTART:20241103T090000
END:STANDARD
BEGIN:DAYLIGHT
TZOFFSETFROM:-0800
TZOFFSETTO:-0700
TZNAME:PDT
DTSTART:20250309T100000
END:DAYLIGHT
BEGIN:STANDARD
TZOFFSETFROM:-0700
TZOFFSETTO:-0800
TZNAME:PST
DTSTART:20251102T090000
END:STANDARD
BEGIN:DAYLIGHT
TZOFFSETFROM:-0800
TZOFFSETTO:-0700
TZNAME:PDT
DTSTART:20260308T100000
END:DAYLIGHT
BEGIN:STANDARD
TZOFFSETFROM:-0700
TZOFFSETTO:-0800
TZNAME:PST
DTSTART:20261101T090000
END:STANDARD
END:VTIMEZONE
BEGIN:VEVENT
DTSTART;TZID=America/Los_Angeles:20250616T080000
DTEND;TZID=America/Los_Angeles:20250619T170000
DTSTAMP:20260419T132605
CREATED:20250430T151216Z
LAST-MODIFIED:20250430T163722Z
UID:10001305-1750060800-1750352400@negozee.com
SUMMARY:LATINO TAX FEST 2025 - Las Vegas
DESCRIPTION:LATINO TAX FEST\n																														 \nCAN’T MAKE IT TO VEGAS THIS YEAR? WATCH OUR LIVE STREAM TO EARN YOUR CREDITS AND GET UPDATED.\n			 Days Hours Minutes Seconds		 \nDISCOVER OFFICE SOLUTIONS AT OUR MARKETPLACE 👩🏻‍💻\nTax Fest offers a major industry Marketplace with over 73 exhibitors\, featuring tax software\, cloud platforms\, and tools to streamline tax processes. Attendees can network with providers and explore innovative solutions. Don’t miss the preferred providers. \nExclusive price negozee $499 \n					\n									REGISTER TODAY\n					 \n✅ Incluye acceso al Lunch exclusivo de negozee el miércoles 18 de junio dentro del evento.\n\n							When?\n					\n\n						JOIN US JUNE 16 – 19\, 2025!\n					 \n\n							Where?\n					\n\n						LAS VEGAS VENUE\nMGM GRAND HOTEL & CASINO					 \n3799 S Las Vegas Blvd\, Las Vegas\, NV 89109 \nMeet us on the 3rd floor of the convention center \nExclusive price negozee $499\n					\n									REGISTER TODAY
URL:https://negozee.com/event/latino-tax-fest-2025/
ATTACH;FMTTYPE=image/png:https://wp-negozee-conent.s3.amazonaws.com/wp-content/uploads/2025/04/26083624/Webinars-WEB-3.png
ORGANIZER;CN="negozee":MAILTO:info@negozee.com
END:VEVENT
BEGIN:VEVENT
DTSTART;TZID=America/Los_Angeles:20250617T120000
DTEND;TZID=America/Los_Angeles:20250617T130000
DTSTAMP:20260419T132605
CREATED:20250612T215144Z
LAST-MODIFIED:20250613T162613Z
UID:10001342-1750161600-1750165200@negozee.com
SUMMARY:Control the (tax season) Chaos!
DESCRIPTION:Tired of tax season chaos?\nDiscover how to transform your firm and reclaim your life.  \nJoin our “Control the (tax season) Chaos!” event to learn proven strategies for working fewer hours\, reducing stress\, and taking control of your calendar. \nRegister now and take the first step toward a stress-free tax season! \n📅 When?Tuesday\, June 17\, 2025  \n🕑12:00 PM PT \n🕑2:00 PM CT \n🕑3:00 PM ET \n⏳ Duration: 2 hours \nLanguage: English \nWith the code “negozee\,” you get free access to the event! Don’t miss this exclusive opportunity! \n					\n									Register
URL:https://negozee.com/event/control-the-tax-season-chaos/
ATTACH;FMTTYPE=image/png:https://wp-negozee-conent.s3.amazonaws.com/wp-content/uploads/2025/06/26082917/Webinars-WEB-17.png
ORGANIZER;CN="negozee":MAILTO:info@negozee.com
END:VEVENT
BEGIN:VEVENT
DTSTART;TZID=America/Los_Angeles:20250617T160000
DTEND;TZID=America/Los_Angeles:20250617T170000
DTSTAMP:20260419T132605
CREATED:20250527T195529Z
LAST-MODIFIED:20250527T201153Z
UID:10001324-1750176000-1750179600@negozee.com
SUMMARY:Fundamenos de Impuestos [All Tax Solution] June 2025
DESCRIPTION:Days Hours Minutes Seconds		 \n¡Aprende lo básico de los impuestos con All Tax Solution!\n¿Te confunden los impuestos? Únete a nosotros para un webinar gratuito el Martes 17 de Junio a las 4:00 pm hora PT donde los expertos de All Tax Solution te darán una introducción a los conceptos básicos de los impuestos. \n¡Este webinar es perfecto para ti si: \n\nEres nuevo en el mundo de los impuestos\nNecesitas un repaso de los conceptos básicos\nQuieres aprender cómo ahorrar dinero en tus impuestos\n\nHay 2 maneras para registrarte al evento:\n1.  Sign in y regístrarte por $36 en Tickets \n2. Inscríbete a la membresía de negozee por $32 al mes y recibe acceso. \n\n	\n	Add to calendar	\n		\n	\n \n\n\n	Google Calendar\n\n\n	iCalendar\n\n\n	Outlook 365\n\n\n	Outlook Live\n\n\n\n		\n		\n		\n		\n \n\n	Tickets\n		The numbers below include tickets for this event already in your cart. Clicking “Get Tickets” will allow you to edit any existing attendee information as well as change ticket quantities.\n				Fundamentos de Impuestos June 2025\n					$\n					0.00\n	Unlimited\n			\n	Decrease ticket quantity for Fundamentos de Impuestos June 2025\n	–\n	\n		Quantity	\n	\n		\n	Increase ticket quantity for Fundamentos de Impuestos June 2025\n	+\n		\n		Quantity:\n	0\n		Total:\n					$\n					0.00\n	\n	¡Boletos!\n	\n	\n	\n	\n\nAll Tax Solution\nAll Tax Solution es una empresa que ofrece una suite completa de servicios para ayudar a las personas y empresas con sus necesidades de preparación de impuestos. Esto incluye software de impuestos y contabilidad\, administración de documentos\, planificación de impuestos\, presentación electrónica de impuestos y configuración bancaria para el gobierno federal y todos los estados de EE. UU. También ofrecen servicios de revisión de impuestos\, educación continua y soporte bilingüe.\nPuedes encontrar más información sobre All Tax Solution en su sitio web: https://alltaxsolution.com/
URL:https://negozee.com/event/fundamenos-de-impuestos-all-tax-solution-june-2025/
CATEGORIES:Clase Virtual,Webinar
ATTACH;FMTTYPE=image/png:https://wp-negozee-conent.s3.amazonaws.com/wp-content/uploads/2025/05/26083055/Impuestos-Basicos-negozee-all-tax-solution-THUMBNAIL-1.png
ORGANIZER;CN="negozee":MAILTO:info@negozee.com
END:VEVENT
BEGIN:VEVENT
DTSTART;TZID=America/Los_Angeles:20250617T180000
DTEND;TZID=America/Los_Angeles:20250617T210000
DTSTAMP:20260419T132605
CREATED:20250617T155421Z
LAST-MODIFIED:20250617T162447Z
UID:10001346-1750183200-1750194000@negozee.com
SUMMARY:Las Vegas: Chamba After Dark powered by Anchor & Tax Hack
DESCRIPTION:Las Vegas\nChamba After Dark powered by Anchor & Tax Hack\nEsta noche\, martes 17 de junio\, se llevará a cabo un evento exclusivo en Las Vegas \nUna reunión fuera del horario laboral para los profesionales de impuestos que lo mantienen todo en funcionamiento. \nLargos días en el stand. Sesiones interminables. Se habla mucho de cumplimiento y no lo suficiente de comunidad. Cambiemos eso. \nÚnase a Anchor y Tax Hack para una fiesta privada en una suite el martes por la noche durante el Latino Tax Fest. Estamos reuniendo a propietarios de empresas\, estrategas fiscales y amigos de la industria para una noche de música\, buenos tragos e incluso mejores conversaciones\, con algo de Selena y Bad Bunny sonando de fondo\, por supuesto. \nSin paneles. Sin presión. \nSolo una oportunidad para conectarnos con nuestra gente que hace un trabajo significativo en este espacio. \n																														 \n Detalles del evento \n Ubicación: Las Vegas\, Nevada (se revela tras el registro) \n Hora: 8:00 PM a 11:00 PM (hora local) \n Organizado por: Alex Miles & Tal Ben \n					\n									Inscríbete aquí
URL:https://negozee.com/event/lv-chamba-afte-tax-hack/
ATTACH;FMTTYPE=image/png:https://wp-negozee-conent.s3.amazonaws.com/wp-content/uploads/2025/06/26082904/Chamba-After-Dark-powered-by-Anchor-Tax-Hack.png
ORGANIZER;CN="negozee":MAILTO:info@negozee.com
END:VEVENT
END:VCALENDAR