BEGIN:VCALENDAR
VERSION:2.0
PRODID:-//negozee - ECPv6.15.12.2//NONSGML v1.0//EN
CALSCALE:GREGORIAN
METHOD:PUBLISH
X-WR-CALNAME:negozee
X-ORIGINAL-URL:https://negozee.com
X-WR-CALDESC:Events for negozee
REFRESH-INTERVAL;VALUE=DURATION:PT1H
X-Robots-Tag:noindex
X-PUBLISHED-TTL:PT1H
BEGIN:VTIMEZONE
TZID:America/Los_Angeles
BEGIN:DAYLIGHT
TZOFFSETFROM:-0800
TZOFFSETTO:-0700
TZNAME:PDT
DTSTART:20240310T100000
END:DAYLIGHT
BEGIN:STANDARD
TZOFFSETFROM:-0700
TZOFFSETTO:-0800
TZNAME:PST
DTSTART:20241103T090000
END:STANDARD
BEGIN:DAYLIGHT
TZOFFSETFROM:-0800
TZOFFSETTO:-0700
TZNAME:PDT
DTSTART:20250309T100000
END:DAYLIGHT
BEGIN:STANDARD
TZOFFSETFROM:-0700
TZOFFSETTO:-0800
TZNAME:PST
DTSTART:20251102T090000
END:STANDARD
BEGIN:DAYLIGHT
TZOFFSETFROM:-0800
TZOFFSETTO:-0700
TZNAME:PDT
DTSTART:20260308T100000
END:DAYLIGHT
BEGIN:STANDARD
TZOFFSETFROM:-0700
TZOFFSETTO:-0800
TZNAME:PST
DTSTART:20261101T090000
END:STANDARD
END:VTIMEZONE
BEGIN:VEVENT
DTSTART;TZID=America/Los_Angeles:20250612T100000
DTEND;TZID=America/Los_Angeles:20250612T110000
DTSTAMP:20260419T132323
CREATED:20250609T223838Z
LAST-MODIFIED:20250609T224758Z
UID:10001341-1749722400-1749726000@negozee.com
SUMMARY:The Tax Resolution "Playbook"! - Roz Strategies
DESCRIPTION:The Tax Resolution “Playbook”! \nHow To Solve IRS Cases & Build a\n 7-Figure Resolution Practice!\nJoin us for a complimentary LIVE\, one time only event. No Replays.\nThursday\, June 12th: @10am to 2pm Pacific Time\,\n11am to 3pm Mountain\, 12pm to 4pm Central\, 1pm to 5pm Eastern\nThis training is for tax resolution pros\,  CPAs\,  EAs and attorneys who want to level-up\, or are thinking about getting started into\, or expanding\, a tax resolution business!\n					\n									Click Here to Register
URL:https://negozee.com/event/the-tax-resolution-playbook-roz-strategies/
ATTACH;FMTTYPE=image/png:https://wp-negozee-conent.s3.amazonaws.com/wp-content/uploads/2025/06/26082930/Webinars-WEB-16.png
ORGANIZER;CN="negozee":MAILTO:info@negozee.com
END:VEVENT
BEGIN:VEVENT
DTSTART;TZID=America/Los_Angeles:20250612T120000
DTEND;TZID=America/Los_Angeles:20250612T180000
DTSTAMP:20260419T132323
CREATED:20250320T155808Z
LAST-MODIFIED:20250612T140912Z
UID:10001275-1749729600-1749751200@negozee.com
SUMMARY:Emprende 360 New York City Junio 2025 - Botanical garden in Flushing\, United States 43-50 Main St\, Flushing\, NY 11355
DESCRIPTION:EMPRENDE 360\nNEW YORK CITY\n \n\n\n\n\n \nTickets\nThe numbers below include tickets for this event already in your cart. Clicking “Get Tickets” will allow you to edit any existing attendee information as well as change ticket quantities.\nTicket Emprende 360° NY\nIncluye:\nAcceso a talleres y paneles (Taxes\, Insurance\, Capital\, Real Estate\, Servicios Legales y Tech)\n+ Acceso al Networking Mixer\n+ Business Operation Manual\n$\n95.00\n26 available\n\nDecrease ticket quantity for Ticket Emprende 360° NY\n–\n\nQuantity \n\n\nIncrease ticket quantity for Ticket Emprende 360° NY\n+\n\nNetworking Mixer Ticket\nTicket únicamente para acceso al Networking Mixer de 4:00 PM a 6:00 PM\n$\n49.00\n100 available\n\nDecrease ticket quantity for Networking Mixer Ticket\n–\n\nQuantity \n\n\nIncrease ticket quantity for Networking Mixer Ticket\n+\n\nQuantity:\n0\nTotal:\n$\n0.00\n\n¡Boletos! \n\n\n \n\n  \nCompartir en:\n\nFacebook\n\n\nLinkedin\n\n\nYoutube\n\n\nInstagram\n\n\nTiktok
URL:https://negozee.com/event/emp360-nyc-jun2025/
ATTACH;FMTTYPE=image/png:https://wp-negozee-conent.s3.amazonaws.com/wp-content/uploads/2025/03/26083837/SSNYC-product-negozee-1.png
ORGANIZER;CN="negozee":MAILTO:info@negozee.com
END:VEVENT
END:VCALENDAR