BEGIN:VCALENDAR
VERSION:2.0
PRODID:-//negozee - ECPv6.15.12.2//NONSGML v1.0//EN
CALSCALE:GREGORIAN
METHOD:PUBLISH
X-ORIGINAL-URL:https://negozee.com
X-WR-CALDESC:Events for negozee
REFRESH-INTERVAL;VALUE=DURATION:PT1H
X-Robots-Tag:noindex
X-PUBLISHED-TTL:PT1H
BEGIN:VTIMEZONE
TZID:America/Los_Angeles
BEGIN:DAYLIGHT
TZOFFSETFROM:-0800
TZOFFSETTO:-0700
TZNAME:PDT
DTSTART:20240310T100000
END:DAYLIGHT
BEGIN:STANDARD
TZOFFSETFROM:-0700
TZOFFSETTO:-0800
TZNAME:PST
DTSTART:20241103T090000
END:STANDARD
BEGIN:DAYLIGHT
TZOFFSETFROM:-0800
TZOFFSETTO:-0700
TZNAME:PDT
DTSTART:20250309T100000
END:DAYLIGHT
BEGIN:STANDARD
TZOFFSETFROM:-0700
TZOFFSETTO:-0800
TZNAME:PST
DTSTART:20251102T090000
END:STANDARD
BEGIN:DAYLIGHT
TZOFFSETFROM:-0800
TZOFFSETTO:-0700
TZNAME:PDT
DTSTART:20260308T100000
END:DAYLIGHT
BEGIN:STANDARD
TZOFFSETFROM:-0700
TZOFFSETTO:-0800
TZNAME:PST
DTSTART:20261101T090000
END:STANDARD
END:VTIMEZONE
BEGIN:VEVENT
DTSTART;TZID=America/Los_Angeles:20250607T093000
DTEND;TZID=America/Los_Angeles:20250607T120000
DTSTAMP:20260420T002337
CREATED:20250523T195859Z
LAST-MODIFIED:20250523T203410Z
UID:10001316-1749288600-1749297600@negozee.com
SUMMARY:El camino hacia la vivienda propia para empresarios
DESCRIPTION:El camino hacia la vivienda propia para empresarios\n			 Days Hours Minutes Seconds		 \n¿Eres propietario de un negocio que maneja muchas compras en efectivo o que no encaja en el modelo tradicional de hipoteca?  \nNo estás solo—y no estás sin opciones. \nAcompáñanos en “El Camino hacia la Compra de Vivienda para Propietarios de Negocios”\, una sesión especial diseñada para emprendedores\, trabajadores independientes y profesionales por cuenta propia que desean calificar para una hipoteca sin usar declaraciones de impuestos. \nTe explicaremos cómo funciona nuestro Programa de Préstamos con Estados de Cuenta Bancarios—usando solo 2 meses de estados de cuenta bancarios personales o del negocio para demostrar ingresos reales. No se necesitan formularios W-2 ni declaraciones de impuestos. \n\n\n										Aprende cómo prepararte para una hipoteca siendo dueño de un negocio\n									\n\n										Entiende por qué los programas con estados de cuenta de 2 meses son revolucionarios\n									\n\n										Descubre cómo prepararte para el éxito a largo plazo como propietario de vivienda\n									\n\nEsta sesión está diseñada para empoderar a los propietarios de negocios con las herramientas financieras y el conocimiento interno que merecen. \n\n							Junio 7 del 2025\n					\n\n						9:30 AM PT\, 11:30 AM CT\, 12:30 PM ET					 \n\n	\n	Add to calendar	\n		\n	\n \n\n\n	Google Calendar\n\n\n	iCalendar\n\n\n	Outlook 365\n\n\n	Outlook Live\n\n\n					\n									Registrate aquí
URL:https://negozee.com/event/newamerican-funding-homeownership/
ATTACH;FMTTYPE=image/avif:https://wp-negozee-conent.s3.amazonaws.com/wp-content/uploads/2025/05/26083130/https___cdn.evbuc_.com_images_1035273953_148221848556_1_original.avif
ORGANIZER;CN="negozee":MAILTO:info@negozee.com
END:VEVENT
END:VCALENDAR