BEGIN:VCALENDAR
VERSION:2.0
PRODID:-//negozee - ECPv6.15.12.2//NONSGML v1.0//EN
CALSCALE:GREGORIAN
METHOD:PUBLISH
X-ORIGINAL-URL:https://negozee.com
X-WR-CALDESC:Events for negozee
REFRESH-INTERVAL;VALUE=DURATION:PT1H
X-Robots-Tag:noindex
X-PUBLISHED-TTL:PT1H
BEGIN:VTIMEZONE
TZID:America/Los_Angeles
BEGIN:DAYLIGHT
TZOFFSETFROM:-0800
TZOFFSETTO:-0700
TZNAME:PDT
DTSTART:20240310T100000
END:DAYLIGHT
BEGIN:STANDARD
TZOFFSETFROM:-0700
TZOFFSETTO:-0800
TZNAME:PST
DTSTART:20241103T090000
END:STANDARD
BEGIN:DAYLIGHT
TZOFFSETFROM:-0800
TZOFFSETTO:-0700
TZNAME:PDT
DTSTART:20250309T100000
END:DAYLIGHT
BEGIN:STANDARD
TZOFFSETFROM:-0700
TZOFFSETTO:-0800
TZNAME:PST
DTSTART:20251102T090000
END:STANDARD
BEGIN:DAYLIGHT
TZOFFSETFROM:-0800
TZOFFSETTO:-0700
TZNAME:PDT
DTSTART:20260308T100000
END:DAYLIGHT
BEGIN:STANDARD
TZOFFSETFROM:-0700
TZOFFSETTO:-0800
TZNAME:PST
DTSTART:20261101T090000
END:STANDARD
END:VTIMEZONE
BEGIN:VEVENT
DTSTART;TZID=America/Los_Angeles:20250605T160000
DTEND;TZID=America/Los_Angeles:20250605T170000
DTSTAMP:20260419T224157
CREATED:20250512T224849Z
LAST-MODIFIED:20250602T143055Z
UID:10001309-1749139200-1749142800@negozee.com
SUMMARY:Real Estate Mastery May 2025
DESCRIPTION:Days Hours Minutes Seconds \nCon ITIN Sí Se Puede: Cómo Guiar a Tus Clientes a Su Primera Casa\nAprende los requisitos clave para comprar casa con ITIN – Entiende lo que realmente se necesita para que tus clientes califiquen sin número de seguro social.\nExplora programas accesibles y con bajo enganche – Presentaremos opciones reales que hacen la compra de casa posible para familias trabajadoras con ITIN.\nConviértete en un recurso de confianza para tus clientes – Fortalece la relación con tus clientes al guiarlos en uno de los pasos más importantes de su vida.\nCrea una alianza estratégica con un prestamista experto en ITIN – Referencias que generan confianza\, resultados y oportunidades para crecer juntos.\nAclara mitos y preocupaciones legales comunes – Ofrece información precisa para que tus clientes tomen decisiones informadas con seguridad \nPrimer Webinar: \n📅 Fecha: 5 de Junio del 2025\n🕓 Hora: 4:00 PM PDT\n💻 Evento virtual (vía Zoom) \nNo te pierdas esta oportunidad de adquirir conocimientos clave y hacer preguntas en vivo a nuestros expertos. ¡Regístrate ahora y asegura tu lugar!\n\nRegístrate\n\n\n\nAdd to calendar \n \n\nGoogle Calendar\niCalendar\nOutlook 365\nOutlook Live
URL:https://negozee.com/event/real-estate-mastery-june5-2025/
CATEGORIES:Clase Virtual,Webinar
ATTACH;FMTTYPE=image/png:https://wp-negozee-conent.s3.amazonaws.com/wp-content/uploads/2025/05/26083012/Real-Estate-Mastery-negozee-1-1.png
ORGANIZER;CN="negozee":MAILTO:info@negozee.com
END:VEVENT
END:VCALENDAR