BEGIN:VCALENDAR
VERSION:2.0
PRODID:-//negozee - ECPv6.15.12.2//NONSGML v1.0//EN
CALSCALE:GREGORIAN
METHOD:PUBLISH
X-ORIGINAL-URL:https://negozee.com
X-WR-CALDESC:Events for negozee
REFRESH-INTERVAL;VALUE=DURATION:PT1H
X-Robots-Tag:noindex
X-PUBLISHED-TTL:PT1H
BEGIN:VTIMEZONE
TZID:America/Los_Angeles
BEGIN:DAYLIGHT
TZOFFSETFROM:-0800
TZOFFSETTO:-0700
TZNAME:PDT
DTSTART:20240310T100000
END:DAYLIGHT
BEGIN:STANDARD
TZOFFSETFROM:-0700
TZOFFSETTO:-0800
TZNAME:PST
DTSTART:20241103T090000
END:STANDARD
BEGIN:DAYLIGHT
TZOFFSETFROM:-0800
TZOFFSETTO:-0700
TZNAME:PDT
DTSTART:20250309T100000
END:DAYLIGHT
BEGIN:STANDARD
TZOFFSETFROM:-0700
TZOFFSETTO:-0800
TZNAME:PST
DTSTART:20251102T090000
END:STANDARD
BEGIN:DAYLIGHT
TZOFFSETFROM:-0800
TZOFFSETTO:-0700
TZNAME:PDT
DTSTART:20260308T100000
END:DAYLIGHT
BEGIN:STANDARD
TZOFFSETFROM:-0700
TZOFFSETTO:-0800
TZNAME:PST
DTSTART:20261101T090000
END:STANDARD
END:VTIMEZONE
BEGIN:VEVENT
DTSTART;TZID=America/Los_Angeles:20250529T090000
DTEND;TZID=America/Los_Angeles:20250530T160000
DTSTAMP:20260419T175258
CREATED:20250515T161708Z
LAST-MODIFIED:20250515T164913Z
UID:10001310-1748509200-1748620800@negozee.com
SUMMARY:QuickBooks Training - ENTRENAMIENTO VIRTUAL Y PRESENCIAL
DESCRIPTION:QUICKBOOKS TRAINING\nENTRENAMIENTO\nVIRTUAL Y PRESENCIAL\n					\n									REGÍSTRATE AHORA\n					 \nEl QuickBooks Training es un entrenamiento intensivo de dos días diseñado para contadores\, empresarios y profesionales administrativos que desean ir más allá del uso básico de QuickBooks. \nAquí no solo aprenderás a registrar transacciones\, sino a usar esta herramienta como una plataforma de gestión integral para tu negocio.  \nTe enseñaremos a automatizar procesos clave\, estructurar tu operación de forma eficiente\, interpretar datos financieros con enfoque estratégico y tomar decisiones basadas en información real y actualizada.  \nEs una experiencia 100% práctica que transforma la forma en que diriges tu negocio\, dándote control\, claridad y capacidad de escalar con orden. \n\n							Hampton Inn West Palm Beach Florida Turnpike\n					\n\n						MAYO 29 Y 30\, 2025					 \n9:00 AM – 4:00 PM EST \n8:00 AM – 5:00 PM CT \n6:00 AM – 1:00 PM PT \n			\n					\n									REGÍSTRATE AHORA\n					 \nConoce más en:
URL:https://negozee.com/event/quickbooks-training-entrenamiento/
CATEGORIES:Talleres de Negocio,Webinar
ATTACH;FMTTYPE=image/jpeg:https://wp-negozee-conent.s3.amazonaws.com/wp-content/uploads/2025/05/26083226/WhatsApp-Image-2025-05-14-at-15.42.28_3d57a898.jpg
ORGANIZER;CN="negozee":MAILTO:info@negozee.com
END:VEVENT
BEGIN:VEVENT
DTSTART;TZID=America/Los_Angeles:20250529T143000
DTEND;TZID=America/Los_Angeles:20250529T153000
DTSTAMP:20260419T175258
CREATED:20250423T145111Z
LAST-MODIFIED:20250528T215031Z
UID:10001301-1748529000-1748532600@negozee.com
SUMMARY:Immigration Taxes May 2025
DESCRIPTION:Inmigración Latina en Estados Unidos y las Nuevas Políticas\nÚnete a nosotros para explorar las últimas tendencias y políticas que afectan a la comunidad latina en Estados Unidos. Nuestro experto\, Tony Martinez\, ofrecerá una visión profunda sobre cómo las políticas del presidente actual impactan la inmigración y qué significa para el futuro de la comunidad latina en el país. No te pierdas esta oportunidad para estar informado y ser parte del diálogo sobre este tema tan relevante. ¡Reserva tu asiento hoy mismo! \nDurante este webinar hablaremos de:\n\nITIN\nNuevos cambios de leyes de inmigración\nDACA\nTemporary Protective Status (TPS)\nHow the tax law applies to immigrants\n\n					\n									Regístrate\n					 \nPresentado por:\n																														 \nTony Martinez – CEO\nTony Martínez is the co-founder and CEO of negozee\, a business social network dedicated to Latino entrepreneurs and professionals. Raised in Salinas\, California\, as the child of Mexican immigrant parents\, he received a full-ride scholarship to study at Berkeley Engineering in 2004 and joined the Latino fraternity Gamma Zeta Alpha. \nAfter graduating\, Tony served as Vice President of Business Development at Latino Tax Pro\, where he helped expand the organization to 10\,000 members nationwide. His current startup\, negozee\, aims to connect\, educate\, and support Latino entrepreneurs and professionals globally. \n			 Days Hours Minutes Seconds\n					\n									Regístrate
URL:https://negozee.com/event/immigration-taxes-may2025/
ATTACH;FMTTYPE=image/png:https://wp-negozee-conent.s3.amazonaws.com/wp-content/uploads/2025/04/26083715/Tony-1-1.png
ORGANIZER;CN="negozee":MAILTO:info@negozee.com
END:VEVENT
END:VCALENDAR