BEGIN:VCALENDAR
VERSION:2.0
PRODID:-//negozee - ECPv6.15.12.2//NONSGML v1.0//EN
CALSCALE:GREGORIAN
METHOD:PUBLISH
X-ORIGINAL-URL:https://negozee.com
X-WR-CALDESC:Events for negozee
REFRESH-INTERVAL;VALUE=DURATION:PT1H
X-Robots-Tag:noindex
X-PUBLISHED-TTL:PT1H
BEGIN:VTIMEZONE
TZID:America/Los_Angeles
BEGIN:DAYLIGHT
TZOFFSETFROM:-0800
TZOFFSETTO:-0700
TZNAME:PDT
DTSTART:20240310T100000
END:DAYLIGHT
BEGIN:STANDARD
TZOFFSETFROM:-0700
TZOFFSETTO:-0800
TZNAME:PST
DTSTART:20241103T090000
END:STANDARD
BEGIN:DAYLIGHT
TZOFFSETFROM:-0800
TZOFFSETTO:-0700
TZNAME:PDT
DTSTART:20250309T100000
END:DAYLIGHT
BEGIN:STANDARD
TZOFFSETFROM:-0700
TZOFFSETTO:-0800
TZNAME:PST
DTSTART:20251102T090000
END:STANDARD
BEGIN:DAYLIGHT
TZOFFSETFROM:-0800
TZOFFSETTO:-0700
TZNAME:PDT
DTSTART:20260308T100000
END:DAYLIGHT
BEGIN:STANDARD
TZOFFSETFROM:-0700
TZOFFSETTO:-0800
TZNAME:PST
DTSTART:20261101T090000
END:STANDARD
END:VTIMEZONE
BEGIN:VEVENT
DTSTART;TZID=America/Los_Angeles:20250526T080000
DTEND;TZID=America/Los_Angeles:20250528T170000
DTSTAMP:20260419T175302
CREATED:20240216T191706Z
LAST-MODIFIED:20250430T163501Z
UID:10000743-1748246400-1748451600@negozee.com
SUMMARY:Tax Colloquium [Las Vegas]
DESCRIPTION:Days Hours Minutes Seconds		 \n\nnegozee VIP: \n1 boleto $349 \n2 boletos $329 \n3+ boletos $309\n					\n									PURCHASE TICKET\n					 \n✅ Incluye acceso al Lunch exclusivo de negozee el miércoles 27 de mayo dentro del evento.\nTAX COLLOQUIUM 2025\nClases: Retire su 401k y pague $0 en impuestos y multasCómo entrevistar a su cliente: evite las multas del IRSHow to Become a Certified Acceptance AgentEvite las 10 multas para preparadores de impuestosConceptos básicos de los créditos fiscales extranjerosContratación de familiares y ahorro de impuestosResponder correctamente a las auditorías CP2000¿Cómo cobrar por los servicios de tax resolution?Statute of Limitations on IRS CollectionsPenalty Abatement TechniquesCómo medir la productividad de su prácticaThe Basics of Foreign Tax CreditsTax Resolution: 8821 vs. 2848Form 1065: PartnershipsForm 1120-S: S-corporationsForm 1120: CorporationsFBAR & Form 8938Schedules K-2 & K-3 \n\n\n										8 rooms\n									\n\n										More than 30 Top-Level Presenters\n									\n\n										 Individual and Corporate Taxes\, Debt Resolution\, and IRS Audits\n									\n\n										Topics in English and Spanish\n									\n\n										Business Growth Topics: Systems\, Technology\, Sales\, Marketing\, Mindset\, Philosophy\, Inspiration\, and Much More\n									\n\n										Accelerate your growth with our 5K SYSTEM!\n									\n\n																														 \nSPEAKERS\n30+ SPEAKERS\n																														 \nAntonio Nava – EA\n																														 \nLaura Nava – CPA\n																														 \nLaura E. Martinez \nAquí tienes una pequeña muestra de nuestros speakers. Hay un gran número de expertos adicionales que participarán.\n					\n									Registrate aquí\n					 \nMás Información en:\n\nhttps://navaschoolofbusiness.com/tax-colloquium-2025/
URL:https://negozee.com/event/tax-colloquium/
CATEGORIES:Evento Presencial
ATTACH;FMTTYPE=image/png:https://wp-negozee-conent.s3.amazonaws.com/wp-content/uploads/2024/02/26083944/product_navaIMG.png
ORGANIZER;CN="Nava School of Business":MAILTO:info@navaschoolofbusiness.com
END:VEVENT
BEGIN:VEVENT
DTSTART;TZID=America/Los_Angeles:20250528T110000
DTEND;TZID=America/Los_Angeles:20250528T120000
DTSTAMP:20260419T175302
CREATED:20250423T135349Z
LAST-MODIFIED:20250527T221416Z
UID:10001299-1748430000-1748433600@negozee.com
SUMMARY:TAX SCHOOL May 2025 (English)
DESCRIPTION:negozee\nTaxSchool \nService Bureau Training\nBoost Your Business in the Tax Industry\nJoin us for this training event designed for future partners in the Service Bureau model! Learn how to maximize opportunities in the tax industry and discover how to establish and expand your business effectively. \nWhat You Will Learn\nUnderstanding the Service Bureau Model: Learn its definition\, role in the tax industry\, and associated benefits such as software reselling\, bank product commissions\, and tech support fees. \nChoosing the Right Tax Software: Explore white-label software options\, key features like e-file support\, client management\, and reporting tools. \nSetting Up an EFIN with an ITIN: Learn how to obtain an Electronic Filing Identification Number and comply with IRS requirements\, including registration steps and necessary documentation. \nIdeaTax Pro Training: Discover how to set up your account\, manage e-filings\, and maximize your earnings with IdeaTax Pro. \nGrowth and Support Strategies: Learn to offer technical and tax law support\, scale your business by adding tax preparers\, and market your service bureau to new tax pros. \n\n\n\n\n \nTickets\nThe numbers below include tickets for this event already in your cart. Clicking “Get Tickets” will allow you to edit any existing attendee information as well as change ticket quantities.\nTAX SCHOOL May 2025 (English)\n$\n0.00\nUnlimited\n\nDecrease ticket quantity for TAX SCHOOL May 2025 (English)\n–\n\nQuantity \n\n\nIncrease ticket quantity for TAX SCHOOL May 2025 (English)\n+\n\nQuantity:\n0\nTotal:\n$\n0.00\n\n¡Boletos! \n\nDon’t miss this opportunity to grow in the tax industry. Sign up now and start building a successful business with our Service Bureau model! During the event\, you’ll have the chance to address your questions in a Q&A session and receive additional resources to move forward.
URL:https://negozee.com/event/tax-school-may-2025-en/
ATTACH;FMTTYPE=image/jpeg:https://wp-negozee-conent.s3.amazonaws.com/wp-content/uploads/2025/04/26083049/Aspectos-Clave-para-profesionales-de-impuestos-2.jpg
ORGANIZER;CN="negozee":MAILTO:info@negozee.com
END:VEVENT
END:VCALENDAR