BEGIN:VCALENDAR
VERSION:2.0
PRODID:-//negozee - ECPv6.15.12.2//NONSGML v1.0//EN
CALSCALE:GREGORIAN
METHOD:PUBLISH
X-WR-CALNAME:negozee
X-ORIGINAL-URL:https://negozee.com
X-WR-CALDESC:Events for negozee
REFRESH-INTERVAL;VALUE=DURATION:PT1H
X-Robots-Tag:noindex
X-PUBLISHED-TTL:PT1H
BEGIN:VTIMEZONE
TZID:America/Los_Angeles
BEGIN:DAYLIGHT
TZOFFSETFROM:-0800
TZOFFSETTO:-0700
TZNAME:PDT
DTSTART:20240310T100000
END:DAYLIGHT
BEGIN:STANDARD
TZOFFSETFROM:-0700
TZOFFSETTO:-0800
TZNAME:PST
DTSTART:20241103T090000
END:STANDARD
BEGIN:DAYLIGHT
TZOFFSETFROM:-0800
TZOFFSETTO:-0700
TZNAME:PDT
DTSTART:20250309T100000
END:DAYLIGHT
BEGIN:STANDARD
TZOFFSETFROM:-0700
TZOFFSETTO:-0800
TZNAME:PST
DTSTART:20251102T090000
END:STANDARD
BEGIN:DAYLIGHT
TZOFFSETFROM:-0800
TZOFFSETTO:-0700
TZNAME:PDT
DTSTART:20260308T100000
END:DAYLIGHT
BEGIN:STANDARD
TZOFFSETFROM:-0700
TZOFFSETTO:-0800
TZNAME:PST
DTSTART:20261101T090000
END:STANDARD
END:VTIMEZONE
BEGIN:VEVENT
DTSTART;TZID=America/Los_Angeles:20250521T160000
DTEND;TZID=America/Los_Angeles:20250524T190000
DTSTAMP:20260419T193112
CREATED:20250520T195453Z
LAST-MODIFIED:20250520T203824Z
UID:10001312-1747843200-1748113200@negozee.com
SUMMARY:Negozee Life
DESCRIPTION:¿Te interesa ayudar a tu comunidad latina mientras generas ingresos y construyes un patrimonio sólido para tu familia?\n Negozee Life es una nueva iniciativa que está revolucionando cómo los latinos en EE. UU. acceden a seguros de vida y servicios financieros y tú puedes ser parte desde el inicio. \nTe invitamos a un webinar especial donde descubrirás: \n\n\n										 ¿Qué es Negozee Life?\n									\n\n										 ¿Cómo puedes generar ingresos como agente o socio?\n									\n\n										¿Qué apoyo y herramientas ofrecemos?\n									\n\nMiércoles\, 21 de mayo\n 4:00 pm PST / 7:00 pm EST \n					\n									Unirse\n					 \nSábado\, 24 de mayo\n 7:00 am PST / 10:00 am EST \n					\n									Unirse\n					 \n No necesitas experiencia previa en seguros. Solo ganas de aprender\, crecer y servir a tu comunidad. \n¡Regístrate en el evento que mejor te funcione y da el primer paso hacia tu nuevo futuro! \n contracting@negozeelife.com www.negozeelife.com
URL:https://negozee.com/event/negozee-life/
ATTACH;FMTTYPE=image/png:https://wp-negozee-conent.s3.amazonaws.com/wp-content/uploads/2025/05/26083200/NL-sign.png
ORGANIZER;CN="negozee":MAILTO:info@negozee.com
END:VEVENT
END:VCALENDAR