BEGIN:VCALENDAR
VERSION:2.0
PRODID:-//negozee - ECPv6.15.12.2//NONSGML v1.0//EN
CALSCALE:GREGORIAN
METHOD:PUBLISH
X-WR-CALNAME:negozee
X-ORIGINAL-URL:https://negozee.com
X-WR-CALDESC:Events for negozee
REFRESH-INTERVAL;VALUE=DURATION:PT1H
X-Robots-Tag:noindex
X-PUBLISHED-TTL:PT1H
BEGIN:VTIMEZONE
TZID:America/Los_Angeles
BEGIN:DAYLIGHT
TZOFFSETFROM:-0800
TZOFFSETTO:-0700
TZNAME:PDT
DTSTART:20240310T100000
END:DAYLIGHT
BEGIN:STANDARD
TZOFFSETFROM:-0700
TZOFFSETTO:-0800
TZNAME:PST
DTSTART:20241103T090000
END:STANDARD
BEGIN:DAYLIGHT
TZOFFSETFROM:-0800
TZOFFSETTO:-0700
TZNAME:PDT
DTSTART:20250309T100000
END:DAYLIGHT
BEGIN:STANDARD
TZOFFSETFROM:-0700
TZOFFSETTO:-0800
TZNAME:PST
DTSTART:20251102T090000
END:STANDARD
BEGIN:DAYLIGHT
TZOFFSETFROM:-0800
TZOFFSETTO:-0700
TZNAME:PDT
DTSTART:20260308T100000
END:DAYLIGHT
BEGIN:STANDARD
TZOFFSETFROM:-0700
TZOFFSETTO:-0800
TZNAME:PST
DTSTART:20261101T090000
END:STANDARD
END:VTIMEZONE
BEGIN:VEVENT
DTSTART;TZID=America/Los_Angeles:20250521T113000
DTEND;TZID=America/Los_Angeles:20250521T123000
DTSTAMP:20260419T224015
CREATED:20250423T222453Z
LAST-MODIFIED:20250520T143443Z
UID:10001304-1747827000-1747830600@negozee.com
SUMMARY:Conozca Su Flujo de Efectivo - JP Morgan Chase
DESCRIPTION:Jenny aragon\, mba\nVice president – Sr. Business Consultant \nChase for Business \nMiércoles 21 de Mayo\nDays Hours Minutes Seconds \nCómo incrementar el ingreso de efectivo y disminuir el egreso de efectivo para maximiar el éxito del negocio \n\nConceptos básicos del flujo de efectivo\nCómo maximizar el ingreso de efectivo\nCómo minimizar el egreso de efectivo\nHaga que el efectivo trabaje para usted\n\n\n¡Únete Ahora!\n\n\n  \nChase for Business es una solución bancaria diseñada para pequeñas y medianas empresas\, que ofrece cuentas de cheques\, herramientas para gestionar pagos\, facturación digital y acceso a financiamiento. Facilita la administración financiera con servicios seguros y tecnología moderna para apoyar el crecimiento y la eficiencia del negocio.
URL:https://negozee.com/event/conozca-su-flujo-de-efectivo-jp-morgan-chase/
ATTACH;FMTTYPE=image/png:https://wp-negozee-conent.s3.amazonaws.com/wp-content/uploads/2025/04/26083201/Webinars-WEB-4-1.png
ORGANIZER;CN="negozee":MAILTO:info@negozee.com
END:VEVENT
BEGIN:VEVENT
DTSTART;TZID=America/Los_Angeles:20250521T130000
DTEND;TZID=America/Los_Angeles:20250521T140000
DTSTAMP:20260419T224015
CREATED:20250422T155247Z
LAST-MODIFIED:20250521T164157Z
UID:10001289-1747832400-1747836000@negozee.com
SUMMARY:Tecnologia para negocios 21 May 2025
DESCRIPTION:Days Hours Minutes Seconds \n¡Potencia tu negocio al máximo con tecnología!\n¿Estás listo para llevar tu negocio al siguiente nivel? \nAsiste a nuestro webinar Tecnología para Negocios dirigido por negozee y descubre las mejores estrategias para aprovechar el poder de la tecnología y hacer crecer tu empresa de manera exponencial. \nEn este webinar\, aprenderás: \n\nCómo utilizar la tecnología para automatizar tareas\, mejorar la eficiencia y reducir costos.\nLas mejores herramientas tecnológicas para mejorar la comunicación y la colaboración con tu equipo.\nEstrategias para aprovechar el poder del marketing digital y llegar a más clientes.\nCómo utilizar la tecnología para crear experiencias de cliente excepcionales y fidelizarlos.\n\nFecha y hora: \nMiércoles 21 de mayo a las 1:00 pm hora PT \nNo te pierdas esta oportunidad única de aprender cómo la tecnología puede ayudarte a hacer crecer tu negocio. \n\nRegístrate\n\n\n\nAdd to calendar \n  \n\nGoogle Calendar\niCalendar\nOutlook 365\nOutlook Live
URL:https://negozee.com/event/tecnologia-para-negocios-may2025/
ATTACH;FMTTYPE=image/png:https://wp-negozee-conent.s3.amazonaws.com/wp-content/uploads/2025/04/26083148/Antonio-Quintero.png
ORGANIZER;CN="negozee":MAILTO:info@negozee.com
END:VEVENT
BEGIN:VEVENT
DTSTART;TZID=America/Los_Angeles:20250521T160000
DTEND;TZID=America/Los_Angeles:20250524T190000
DTSTAMP:20260419T224015
CREATED:20250520T195453Z
LAST-MODIFIED:20250520T203824Z
UID:10001312-1747843200-1748113200@negozee.com
SUMMARY:Negozee Life
DESCRIPTION:¿Te interesa ayudar a tu comunidad latina mientras generas ingresos y construyes un patrimonio sólido para tu familia?\n Negozee Life es una nueva iniciativa que está revolucionando cómo los latinos en EE. UU. acceden a seguros de vida y servicios financieros y tú puedes ser parte desde el inicio. \nTe invitamos a un webinar especial donde descubrirás: \n\n\n										 ¿Qué es Negozee Life?\n									\n\n										 ¿Cómo puedes generar ingresos como agente o socio?\n									\n\n										¿Qué apoyo y herramientas ofrecemos?\n									\n\nMiércoles\, 21 de mayo\n 4:00 pm PST / 7:00 pm EST \n					\n									Unirse\n					 \nSábado\, 24 de mayo\n 7:00 am PST / 10:00 am EST \n					\n									Unirse\n					 \n No necesitas experiencia previa en seguros. Solo ganas de aprender\, crecer y servir a tu comunidad. \n¡Regístrate en el evento que mejor te funcione y da el primer paso hacia tu nuevo futuro! \n contracting@negozeelife.com www.negozeelife.com
URL:https://negozee.com/event/negozee-life/
ATTACH;FMTTYPE=image/png:https://wp-negozee-conent.s3.amazonaws.com/wp-content/uploads/2025/05/26083200/NL-sign.png
ORGANIZER;CN="negozee":MAILTO:info@negozee.com
END:VEVENT
END:VCALENDAR