BEGIN:VCALENDAR
VERSION:2.0
PRODID:-//negozee - ECPv6.15.12.2//NONSGML v1.0//EN
CALSCALE:GREGORIAN
METHOD:PUBLISH
X-WR-CALNAME:negozee
X-ORIGINAL-URL:https://negozee.com
X-WR-CALDESC:Events for negozee
REFRESH-INTERVAL;VALUE=DURATION:PT1H
X-Robots-Tag:noindex
X-PUBLISHED-TTL:PT1H
BEGIN:VTIMEZONE
TZID:America/Los_Angeles
BEGIN:DAYLIGHT
TZOFFSETFROM:-0800
TZOFFSETTO:-0700
TZNAME:PDT
DTSTART:20240310T100000
END:DAYLIGHT
BEGIN:STANDARD
TZOFFSETFROM:-0700
TZOFFSETTO:-0800
TZNAME:PST
DTSTART:20241103T090000
END:STANDARD
BEGIN:DAYLIGHT
TZOFFSETFROM:-0800
TZOFFSETTO:-0700
TZNAME:PDT
DTSTART:20250309T100000
END:DAYLIGHT
BEGIN:STANDARD
TZOFFSETFROM:-0700
TZOFFSETTO:-0800
TZNAME:PST
DTSTART:20251102T090000
END:STANDARD
BEGIN:DAYLIGHT
TZOFFSETFROM:-0800
TZOFFSETTO:-0700
TZNAME:PDT
DTSTART:20260308T100000
END:DAYLIGHT
BEGIN:STANDARD
TZOFFSETFROM:-0700
TZOFFSETTO:-0800
TZNAME:PST
DTSTART:20261101T090000
END:STANDARD
END:VTIMEZONE
BEGIN:VEVENT
DTSTART;TZID=America/Los_Angeles:20250515T113000
DTEND;TZID=America/Los_Angeles:20250515T143000
DTSTAMP:20260419T193112
CREATED:20240227T110205Z
LAST-MODIFIED:20250505T115048Z
UID:10000748-1747308600-1747319400@negozee.com
SUMMARY:National Service Bureau Meeting
DESCRIPTION:Join us on Thursday May 15\nWe’ll be discussing: \n\nRecap of tax season\nHow to launch a service bureau in 2025\nTech setup and cyber security for your service bureau\n\n					\n									Regístrate aquí\n					 \nAgenda: \n11:25 am PT – Bienvenidos & Intros\, The goal of the Service Bureau Conference \n11:30 am PT – Motivational Speech (David Perez\, DAP) \n11:40am PT – Effortless All in One Payments in the Tax Industry (EPS / RA)  \n12:00pm PT – SB Panel: Lakesha Porter\, Jasmine Dabbs\, Abe \n12:20pm PT – How MTPO empowers SBs (Robert Jones) \n12:40pm PT – How WK empowers SBs \n1:00pm PT – Tax Software & Bank Products \n1:20pm PT – Service Bureau Tech (Crosslink)  \n1:40pm PT – How OLT empowers SBs – Juan \n2:00pm PT – Marketing and Selling your Bank Products  (español)  \n(All Tax Solution\, Alberto Lara) \n2:20pm PT – Data & Cybersecurity (Refundo) \n2:40pm PT – Gracias / Thank you \n \n					\n									Regístrate aquí
URL:https://negozee.com/event/service-bureau-meeting/
CATEGORIES:Meeting
ATTACH;FMTTYPE=image/jpeg:https://wp-negozee-conent.s3.amazonaws.com/wp-content/uploads/2024/02/26083714/Copia-de-Diseno-sin-titulo-2.jpg
ORGANIZER;CN="negozee":MAILTO:info@negozee.com
END:VEVENT
BEGIN:VEVENT
DTSTART;TZID=America/Los_Angeles:20250515T160000
DTEND;TZID=America/Los_Angeles:20250515T170000
DTSTAMP:20260419T193112
CREATED:20250422T193632Z
LAST-MODIFIED:20250515T221014Z
UID:10001293-1747324800-1747328400@negozee.com
SUMMARY:Ventas al 100% con Mentalidad Ganadora May 2025
DESCRIPTION:Days Hours Minutes Seconds \n¿Quieres cerrar más ventas y escalar tu negocio?\nÚnete a nuestro webinar donde revelarán las estrategias más efectivas para vender con confianza y alcanzar tus metas! aprenderás sobre:\n\nDominar las técnicas de venta más efectivas: Aprende a conectar con tus clientes a un nivel más profundo y cerrar más acuerdos.\nDesarrollar una mentalidad de éxito: Supera tus miedos y limitaciones para alcanzar un nuevo nivel de confianza y determinación.\nCrear una estrategia de ventas personalizada: Descubre cómo adaptar tus técnicas de venta a cada cliente y situación.\nUtilizar las herramientas digitales más innovadoras: Aprovecha el poder de la tecnología para optimizar tus procesos de venta.\n\n¡No te quedes fuera! Reserva tu lugar ahora y descubre cómo transformar tu carrera en ventas. \n\nFecha: Jueves 15 de Mayo del 2025\nHora: 4:00 PM (Hora de California)\n\nNo te pierdas esta oportunidad única de aprender cómo la tecnología puede ayudarte a hacer crecer tu negocio.\n\nRegístrate\n\n\n\nAdd to calendar \n \n\nGoogle Calendar\niCalendar\nOutlook 365\nOutlook Live
URL:https://negozee.com/event/ventas-al-100-may-2025/
CATEGORIES:Clase Virtual,Webinar
ATTACH;FMTTYPE=image/jpeg:https://wp-negozee-conent.s3.amazonaws.com/wp-content/uploads/2025/04/26083224/Con-3.jpg
ORGANIZER;CN="negozee":MAILTO:info@negozee.com
END:VEVENT
END:VCALENDAR