BEGIN:VCALENDAR
VERSION:2.0
PRODID:-//negozee - ECPv6.15.12.2//NONSGML v1.0//EN
CALSCALE:GREGORIAN
METHOD:PUBLISH
X-ORIGINAL-URL:https://negozee.com
X-WR-CALDESC:Events for negozee
REFRESH-INTERVAL;VALUE=DURATION:PT1H
X-Robots-Tag:noindex
X-PUBLISHED-TTL:PT1H
BEGIN:VTIMEZONE
TZID:America/Los_Angeles
BEGIN:DAYLIGHT
TZOFFSETFROM:-0800
TZOFFSETTO:-0700
TZNAME:PDT
DTSTART:20240310T100000
END:DAYLIGHT
BEGIN:STANDARD
TZOFFSETFROM:-0700
TZOFFSETTO:-0800
TZNAME:PST
DTSTART:20241103T090000
END:STANDARD
BEGIN:DAYLIGHT
TZOFFSETFROM:-0800
TZOFFSETTO:-0700
TZNAME:PDT
DTSTART:20250309T100000
END:DAYLIGHT
BEGIN:STANDARD
TZOFFSETFROM:-0700
TZOFFSETTO:-0800
TZNAME:PST
DTSTART:20251102T090000
END:STANDARD
BEGIN:DAYLIGHT
TZOFFSETFROM:-0800
TZOFFSETTO:-0700
TZNAME:PDT
DTSTART:20260308T100000
END:DAYLIGHT
BEGIN:STANDARD
TZOFFSETFROM:-0700
TZOFFSETTO:-0800
TZNAME:PST
DTSTART:20261101T090000
END:STANDARD
END:VTIMEZONE
BEGIN:VEVENT
DTSTART;TZID=America/Los_Angeles:20250421T080000
DTEND;TZID=America/Los_Angeles:20250425T170000
DTSTAMP:20260419T224830
CREATED:20250103T140147Z
LAST-MODIFIED:20250227T220145Z
UID:10000937-1745222400-1745600400@negozee.com
SUMMARY:Campamento EA 2025
DESCRIPTION:Campamento EA 2025\n\nConviértete en un especialista en RESOLUCIÓN DE IMPUESTOS\n¡Cambia tu vida\, haz crecer tu negocio de preparación de impuestos\, diferénciate de los demás y genera mayores ingresos todo el año! \n					\n									No te quedes fuera\, inscríbete\n					 \n\n							Taller Práctico\n					\n\nEl taller combina instrucción teórica con una intensa práctica\, garantizando que asimiles el material presentado. Participarás en actividades 100% prácticas y estudios de caso\, acumulando más de 24 horas de experiencia en resolución de impuestos\, preparándote para el mundo real.					 \n\n							Impartido por Expertos\n					\n\n						Con un equipo de instructores que suma más de 150 años de experiencia en la industria\, recibirás formación especializada en resolución de impuestos. Estos expertos se dedican a compartir sus conocimientos prácticos\, asegurando que estés bien preparado para enfrentar desafíos en el sector.\n					 \n\n							Idioma del Taller\n					\n\n						El taller se imparte 100% en español\, complementado con segmentos especializados en inglés. Además\, se ofrecerá contenido exclusivo que no suele compartirse dentro de la comunidad latina/hispana\, brindándote una perspectiva única y valiosa.					 \n¡Inscríbete y Transforma el Futuro!\n													\n					\n									Reserva tu espacio aquí\n					 \nAprovecha el Potencial de un Mercado en Expansión\nSe parte de un segmento del mercado que sigue creciendo cada año. De acuerdo con el IRS\, alrededor de 161 millones de personas presentaron su planilla de impuestos\, y de esa cantidad\, aproximadamente de 12 millones de personas tienen problemas de impuestos debiendo un total de 125 billones de dólares. Lo que te queremos decir con esto es que hay un mercado suficientemente grande para capitalizar más ahora que el IRS recibió 84 billones de dólares\, de los cuales aproximadamente 48 billones han sido designados para la colección de los 125 billones de dólares adeudados al IRS. \n*Los cupos son limitados – ¡ACTÚA AHORA!
URL:https://negozee.com/event/campamento-ea-2025/
ATTACH;FMTTYPE=image/png:https://wp-negozee-conent.s3.amazonaws.com/wp-content/uploads/2025/01/26084654/GENERAL-WAKE-UP-CALL-FRIDAY.png
ORGANIZER;CN="negozee":MAILTO:info@negozee.com
END:VEVENT
BEGIN:VEVENT
DTSTART;TZID=America/Los_Angeles:20250421T160000
DTEND;TZID=America/Los_Angeles:20250421T170000
DTSTAMP:20260419T224830
CREATED:20250314T165628Z
LAST-MODIFIED:20250421T194522Z
UID:10001266-1745251200-1745254800@negozee.com
SUMMARY:Contabilidad Básica para NO contadores
DESCRIPTION:Days Hours Minutes Seconds \n¡Únete a Zailili Tovar en su webinar “Contabilidad básica para NO contadores”.\nAprende a Clasificar Pasivos y Prepara Impuestos como un Pro \nDiseñado específicamente para dueños de negocios y profesionales de impuestos\, esta sesión te proporcionará las herramientas y conocimientos necesarios para dominar los conceptos contables esenciales y prepárate para llevar tu comprensión financiera al siguiente nivel. \nFecha y hora: \nLunes 21 de Abril a las 4:00 pm hora PDT \nSponsored by:  \n \nHay 2 maneras para registrarte al evento:\n1.  Sign in y regístrarte por $36 en Tickets \n2. Inscríbete a la membresía de negozee por $32 al mes y recibe acceso. \n\n\nAdd to calendar \n  \n\nGoogle Calendar\niCalendar\nOutlook 365\nOutlook Live\n\n\n\n\n\n \nTickets\nThe numbers below include tickets for this event already in your cart. Clicking “Get Tickets” will allow you to edit any existing attendee information as well as change ticket quantities.\nContabilidad basica April 21-2025\n$\n0.00\n98 available\n\nDecrease ticket quantity for Contabilidad basica April 21-2025\n–\n\nQuantity \n\n\nIncrease ticket quantity for Contabilidad basica April 21-2025\n+\n\nQuantity:\n0\nTotal:\n$\n0.00\n\n¡Boletos!
URL:https://negozee.com/event/contabilidad-basica-april21/
CATEGORIES:Webinar
ATTACH;FMTTYPE=image/png:https://wp-negozee-conent.s3.amazonaws.com/wp-content/uploads/2025/03/26083818/Contabilidad-Basica-negozee-THUMBNAIL.png
ORGANIZER;CN="negozee":MAILTO:info@negozee.com
END:VEVENT
END:VCALENDAR