BEGIN:VCALENDAR
VERSION:2.0
PRODID:-//negozee - ECPv6.15.12.2//NONSGML v1.0//EN
CALSCALE:GREGORIAN
METHOD:PUBLISH
X-WR-CALNAME:negozee
X-ORIGINAL-URL:https://negozee.com
X-WR-CALDESC:Events for negozee
REFRESH-INTERVAL;VALUE=DURATION:PT1H
X-Robots-Tag:noindex
X-PUBLISHED-TTL:PT1H
BEGIN:VTIMEZONE
TZID:America/Los_Angeles
BEGIN:DAYLIGHT
TZOFFSETFROM:-0800
TZOFFSETTO:-0700
TZNAME:PDT
DTSTART:20240310T100000
END:DAYLIGHT
BEGIN:STANDARD
TZOFFSETFROM:-0700
TZOFFSETTO:-0800
TZNAME:PST
DTSTART:20241103T090000
END:STANDARD
BEGIN:DAYLIGHT
TZOFFSETFROM:-0800
TZOFFSETTO:-0700
TZNAME:PDT
DTSTART:20250309T100000
END:DAYLIGHT
BEGIN:STANDARD
TZOFFSETFROM:-0700
TZOFFSETTO:-0800
TZNAME:PST
DTSTART:20251102T090000
END:STANDARD
BEGIN:DAYLIGHT
TZOFFSETFROM:-0800
TZOFFSETTO:-0700
TZNAME:PDT
DTSTART:20260308T100000
END:DAYLIGHT
BEGIN:STANDARD
TZOFFSETFROM:-0700
TZOFFSETTO:-0800
TZNAME:PST
DTSTART:20261101T090000
END:STANDARD
END:VTIMEZONE
BEGIN:VEVENT
DTSTART;TZID=America/Los_Angeles:20250327T080000
DTEND;TZID=America/Los_Angeles:20250327T170000
DTSTAMP:20260420T002256
CREATED:20250220T132953Z
LAST-MODIFIED:20250326T203225Z
UID:10001241-1743062400-1743094800@negozee.com
SUMMARY:Cafecito con negozee Silicon Valley
DESCRIPTION:¡Inscríbete y Transforma el Futuro!\n\n\n\n\n \nTickets\nThe numbers below include tickets for this event already in your cart. Clicking “Get Tickets” will allow you to edit any existing attendee information as well as change ticket quantities.\nCafecito con negozee Silicon Valley\n$\n0.00\n200 available\n\nDecrease ticket quantity for Cafecito con negozee Silicon Valley\n–\n\nQuantity \n\n\nIncrease ticket quantity for Cafecito con negozee Silicon Valley\n+\n\nQuantity:\n0\nTotal:\n$\n0.00\n\n¡Boletos! \n\nNegociante Exitoso
URL:https://negozee.com/event/cafecito-negozee-sv/
ATTACH;FMTTYPE=image/jpeg:https://wp-negozee-conent.s3.amazonaws.com/wp-content/uploads/2025/02/26084242/WhatsApp-Image-2025-02-20-at-08.21.48.jpeg
ORGANIZER;CN="negozee":MAILTO:info@negozee.com
END:VEVENT
BEGIN:VEVENT
DTSTART;TZID=America/Los_Angeles:20250327T080000
DTEND;TZID=America/Los_Angeles:20250327T170000
DTSTAMP:20260420T002256
CREATED:20250224T161557Z
LAST-MODIFIED:20250224T163752Z
UID:10001244-1743062400-1743094800@negozee.com
SUMMARY:El Que Sabe Base\, Sabe Impuestos
DESCRIPTION:El Que Sabe Base\, Sabe Impuestos\nEste curso cubre las reglas fiscales relacionadas con la base de los activos\, tanto tangibles como intangibles\, así como para socios en una sociedad y accionistas en una S Corporation. También ofrece un análisis detallado de cuándo es apropiado reclamar la depreciación bajo la sección 179. Los ejercicios prácticos proporcionados ayudarán a afianzar el conocimiento y asegurar una mejor comprensión de estos conceptos clave en contabilidad e impuestos. \n					\n									Registrate aquí\n					\n																										 \nAmerican Tax Club (Ameritax) es un proveedor de educación continua aprobado por el IRS. \nLa misión de Ameritax es ofrecer una excelente educación que ayude a los profesionales de impuestos a mantenerse actualizados con las leyes y regulaciones del IRS. Los instructores de Ameritax son todos Agentes Inscritos (EA) y contadores\,  con experiencia en el ámbito educativo.		 \nConoce más en: https://www.ameritaxacademy.com/
URL:https://negozee.com/event/el-que-sabe-base-sabe-impuestos/
ATTACH;FMTTYPE=image/jpeg:https://wp-negozee-conent.s3.amazonaws.com/wp-content/uploads/2025/02/26084215/WhatsApp-Image-2025-02-24-at-08.11.26.jpeg
ORGANIZER;CN="negozee":MAILTO:info@negozee.com
END:VEVENT
BEGIN:VEVENT
DTSTART;TZID=America/Los_Angeles:20250327T130000
DTEND;TZID=America/Los_Angeles:20250327T140000
DTSTAMP:20260420T002256
CREATED:20250228T140722Z
LAST-MODIFIED:20250303T144307Z
UID:10001255-1743080400-1743084000@negozee.com
SUMMARY:Tech Business March25
DESCRIPTION:Days Hours Minutes Seconds		 \n¡Únete a nuestro webinar TaxTech Connect!\nAprovecha el poder de la tecnología para mejorar tu eficiencia\, productividad y rentabilidad.  En este webinar\, nuestros expertos en tecnología te guiarán a través de todo lo que necesitas saber para digitalizar tu oficina y aprovechar al máximo los beneficios de la computación en la nube. \nAprenderás sobre: \n\nLos diferentes tipos de soluciones en la nube disponibles\nCómo evaluar tus necesidades y elegir la solución adecuada para tu negocio\nLos pasos para implementar una solución en la nube de forma exitosa\nLos beneficios de digitalizar tu oficina\, como:\nMayor eficiencia y productividad\nMejor colaboración y comunicación\nCostos reducidos\nMayor seguridad y protección de datos\nEscalabilidad para el crecimiento futuro\n\nNo te pierdas esta oportunidad de aprender de los expertos y descubrir cómo la tecnología en la nube puede transformar tu oficina. \n					\n									Regístrate\n					\n\n	\n	Add to calendar	\n		\n	\n \n\n\n	Google Calendar\n\n\n	iCalendar\n\n\n	Outlook 365\n\n\n	Outlook Live
URL:https://negozee.com/event/techbusiness-march25/
CATEGORIES:Clase Virtual,Webinar
ATTACH;FMTTYPE=image/png:https://wp-negozee-conent.s3.amazonaws.com/wp-content/uploads/2025/02/26084130/Tax-Tech-Connect-WEB-1.png
ORGANIZER;CN="negozee":MAILTO:info@negozee.com
END:VEVENT
END:VCALENDAR