BEGIN:VCALENDAR
VERSION:2.0
PRODID:-//negozee - ECPv6.15.12.2//NONSGML v1.0//EN
CALSCALE:GREGORIAN
METHOD:PUBLISH
X-ORIGINAL-URL:https://negozee.com
X-WR-CALDESC:Events for negozee
REFRESH-INTERVAL;VALUE=DURATION:PT1H
X-Robots-Tag:noindex
X-PUBLISHED-TTL:PT1H
BEGIN:VTIMEZONE
TZID:America/Los_Angeles
BEGIN:DAYLIGHT
TZOFFSETFROM:-0800
TZOFFSETTO:-0700
TZNAME:PDT
DTSTART:20240310T100000
END:DAYLIGHT
BEGIN:STANDARD
TZOFFSETFROM:-0700
TZOFFSETTO:-0800
TZNAME:PST
DTSTART:20241103T090000
END:STANDARD
BEGIN:DAYLIGHT
TZOFFSETFROM:-0800
TZOFFSETTO:-0700
TZNAME:PDT
DTSTART:20250309T100000
END:DAYLIGHT
BEGIN:STANDARD
TZOFFSETFROM:-0700
TZOFFSETTO:-0800
TZNAME:PST
DTSTART:20251102T090000
END:STANDARD
BEGIN:DAYLIGHT
TZOFFSETFROM:-0800
TZOFFSETTO:-0700
TZNAME:PDT
DTSTART:20260308T100000
END:DAYLIGHT
BEGIN:STANDARD
TZOFFSETFROM:-0700
TZOFFSETTO:-0800
TZNAME:PST
DTSTART:20261101T090000
END:STANDARD
END:VTIMEZONE
BEGIN:VEVENT
DTSTART;TZID=America/Los_Angeles:20250312T090000
DTEND;TZID=America/Los_Angeles:20250312T100000
DTSTAMP:20260419T224655
CREATED:20250227T160652Z
LAST-MODIFIED:20250228T145132Z
UID:10001249-1741770000-1741773600@negozee.com
SUMMARY:Expande tus Finanzas [zoom virtual] March2025
DESCRIPTION:Days Hours Minutes Seconds \n¡Toma el control de tus finanzas y alcanza tus metas!\n¡Aprovecha esta oportunidad única de actualizarte en el mundo de los impuestos! Únete a nuestro curso en español y mantente al día con los cambios más recientes que impactan tu práctica profesional. \n¿Qué aprenderás?\n¡Mejore sus estabilidades financieras y mantenga su estabilidad!\n¿Quieres tomar el control de tu futuro financiero? Únete a nuestro webinar gratuito con la experta Vanessa Vázquez. Aprende estrategias prácticas para aumentar tus ingresos\, ahorrar de manera efectiva y alcanzar tus metas. \nEn nuestro webinar “Expande tus Finanzas”\, Vanessa Vázquez te enseñará cómo: \n\n\n\nAumentar tus ingresos: Descubre nuevas fuentes de dinero.\nAhorrar de manera inteligente: Crea un fondo de emergencia y alcanza tus metas más rápido.\nInvertir con seguridad: Multiplica tu dinero a largo plazo.\nReducir tus deudas: ¡Di adiós a las preocupaciones financieras!\n\n\n\n\n\nAdd to calendar \n \n\nGoogle Calendar\niCalendar\nOutlook 365\nOutlook Live\n\n¡No te quedes atrás!\n Inscríbete ahora y asegúrate de estar preparado. \n ¡Transforma tu carrera y mejora tu práctica profesional hoy mismo! \nFecha y hora: \nMiércoles 12 de Marzo 2025 a las 9:00 am hora PDT \nHay 2 maneras para registrarte al evento:\n1.  Sign in y regístrarte por $36 en Tickets \n2. Inscríbete a la membresía de negozee por $32 al mes y recibe acceso. \n\n\n\n\n \nTickets\nThe numbers below include tickets for this event already in your cart. Clicking “Get Tickets” will allow you to edit any existing attendee information as well as change ticket quantities.\nExpande tus Finanzas March 2025\n$\n36.00\n200 available\n\nDecrease ticket quantity for Expande tus Finanzas March 2025\n–\n\nQuantity \n\n\nIncrease ticket quantity for Expande tus Finanzas March 2025\n+\n\nQuantity:\n0\nTotal:\n$\n0.00\n\n¡Boletos!
URL:https://negozee.com/event/expande-tus-finanzas-march25/
CATEGORIES:Charla
ATTACH;FMTTYPE=image/jpeg:https://wp-negozee-conent.s3.amazonaws.com/wp-content/uploads/2025/01/26084437/Expande-tus-Finanzas-negozee-THUMBNAIL.jpg
ORGANIZER;CN="negozee":MAILTO:info@negozee.com
END:VEVENT
BEGIN:VEVENT
DTSTART;TZID=America/Los_Angeles:20250312T160000
DTEND;TZID=America/Los_Angeles:20250312T170000
DTSTAMP:20260419T224655
CREATED:20250311T160206Z
LAST-MODIFIED:20250311T164910Z
UID:10001261-1741795200-1741798800@negozee.com
SUMMARY:El Marketing de adentro hacia afuera: La clave para diferenciar
DESCRIPTION:REGÍSTRATE GRATIS AHORA\n					\n									Regístrate\n					 \n¿Sientes que tu negocio no logra destacar\, que compites por precio o que las estrategias de marketing que has probado no te han dado los resultados que esperabas?\nLo que nadie te dice es que la verdadera clave para diferenciarte no está afuera\, sino adentro.\n  Olvídate del marketing tradicional que ya no funciona: \n No se trata solo de tener un buen producto. \n No es cuestión de encontrar el Santo Grial0. \n No necesitas parecerte a la competencia. \n La respuesta está en construir tu marca desde adentro: \n Cómo conectar con el verdadero valor de tu negocio y usarlo para atraer clientes. Cómo diferenciarte sin competir por precio. Cómo conectarte con un propósito que inspire a tus clientes y genere valor. \n ¿Por qué asistir a este webinar? \n Porque romperemos los mitos del marketing tradicional que limitan a los negocios latinos. Porque entenderás cómo enfocarte en el verdadero valor de tu empresa. Porque nuestros mentores han ayudado a cientos de emprendedores latinos a crecer y escalar sus negocios. \nCUÁNDO: \nMiércoles 12 de marzo del 2025 \nDÓNDE\nOnline y en vivo \n⏰ HORA: 7:00 p.m. ET | 6:00 p.m. CT | 4:00 p.m. PT \nREGÍSTRATE GRATIS AHORA\n					\n									Regístrate
URL:https://negozee.com/event/el-marketing-clave-march25/
ATTACH;FMTTYPE=image/jpeg:https://wp-negozee-conent.s3.amazonaws.com/wp-content/uploads/2025/03/26084047/WhatsApp-Image-2025-03-11-at-09.41.53_9208a347.jpg
ORGANIZER;CN="negozee":MAILTO:info@negozee.com
END:VEVENT
END:VCALENDAR