BEGIN:VCALENDAR
VERSION:2.0
PRODID:-//negozee - ECPv6.15.12.2//NONSGML v1.0//EN
CALSCALE:GREGORIAN
METHOD:PUBLISH
X-ORIGINAL-URL:https://negozee.com
X-WR-CALDESC:Events for negozee
REFRESH-INTERVAL;VALUE=DURATION:PT1H
X-Robots-Tag:noindex
X-PUBLISHED-TTL:PT1H
BEGIN:VTIMEZONE
TZID:America/Los_Angeles
BEGIN:DAYLIGHT
TZOFFSETFROM:-0800
TZOFFSETTO:-0700
TZNAME:PDT
DTSTART:20240310T100000
END:DAYLIGHT
BEGIN:STANDARD
TZOFFSETFROM:-0700
TZOFFSETTO:-0800
TZNAME:PST
DTSTART:20241103T090000
END:STANDARD
BEGIN:DAYLIGHT
TZOFFSETFROM:-0800
TZOFFSETTO:-0700
TZNAME:PDT
DTSTART:20250309T100000
END:DAYLIGHT
BEGIN:STANDARD
TZOFFSETFROM:-0700
TZOFFSETTO:-0800
TZNAME:PST
DTSTART:20251102T090000
END:STANDARD
BEGIN:DAYLIGHT
TZOFFSETFROM:-0800
TZOFFSETTO:-0700
TZNAME:PDT
DTSTART:20260308T100000
END:DAYLIGHT
BEGIN:STANDARD
TZOFFSETFROM:-0700
TZOFFSETTO:-0800
TZNAME:PST
DTSTART:20261101T090000
END:STANDARD
END:VTIMEZONE
BEGIN:VEVENT
DTSTART;TZID=America/Los_Angeles:20250308T080000
DTEND;TZID=America/Los_Angeles:20250309T170000
DTSTAMP:20260420T002443
CREATED:20250204T204523Z
LAST-MODIFIED:20250303T133044Z
UID:10000965-1741420800-1741539600@negozee.com
SUMMARY:ZAITAX Mujeres Latinas 2025
DESCRIPTION:Days Hours Minutes Seconds		 \nMujeres Latinas\n\nConecta\, transforma y escala\n Este encuentro está diseñado especialmente para mujeres latinas que buscan conectar\, transformar y escalar en sus carreras y negocios.Durante estos dos días\, las participantes tendrán la oportunidad de asistir a conferencias\, talleres interactivos y sesiones de networking que fomentarán el empoderamiento y el crecimiento profesional. La agenda incluirá oradoras destacadas que compartirán sus experiencias y estrategias para el éxito en un entorno empresarial en constante cambio.\nhttps://wp-negozee-conent.s3.amazonaws.com/wp-content/uploads/2025/02/26084132/WhatsApp-Video-2025-03-01-at-16.02.54.mp4		 \n\n							¿Cuando?\n					\n\n						8 y 9 de Marzo 2025					 \n\n							¿Donde?​\n					\n\n						The Westin Fort Lauderdale 321 N Fort Lauderdale Beach Blvd\, Fort Lauderdale\, FL 33304\n					 \n			 \nPresentado por:\n																										 \nZailili Tovar\, MBA Accounting\nCEO y Fundadora de Zaitax Consulting y Mujeres Imparables\, enfocada en el impulso a la mujer latina a traves de la educacion y desarrollo empresarial. MBA Accounting /Lic. Contabilidad con Especialización en Finanzas en Venezuela su pais natal con 20 años de experiencia\, Instructora de Contabilidad\, Quickbooks y Taxes en Universidades y para compañias que requieren equipos de alto desempeño. “Soy una apasionada defensora de la educación como vehículo de transformación” \n					\n									Regístrate Aquí\n					\n\n	\n	Add to calendar	\n		\n	\n \n\n\n	Google Calendar\n\n\n	iCalendar\n\n\n	Outlook 365\n\n\n	Outlook Live\n\n\n																										 \nZaitax se inició en la pandemia en 2020\, en la industria de Impuestos\, Contabilidad y Finanzas\, especialmente en el contexto de la comunidad latina de Estados Unidos\, nuestro enfoque se ha basado en la adaptación tecnológica\, la educación continua y la flexibilidad para enfrentar desafíos cambiantes. \nConoce mas en https://zaitaxconsulting.com/
URL:https://negozee.com/event/zaitax-mujeres-latinas-2025/
CATEGORIES:Webinar
ATTACH;FMTTYPE=image/jpeg:https://wp-negozee-conent.s3.amazonaws.com/wp-content/uploads/2025/02/26084400/WhatsApp-Image-2025-02-03-at-09.27.29.jpeg
ORGANIZER;CN="negozee":MAILTO:info@negozee.com
END:VEVENT
END:VCALENDAR