BEGIN:VCALENDAR
VERSION:2.0
PRODID:-//negozee - ECPv6.15.12.2//NONSGML v1.0//EN
CALSCALE:GREGORIAN
METHOD:PUBLISH
X-ORIGINAL-URL:https://negozee.com
X-WR-CALDESC:Events for negozee
REFRESH-INTERVAL;VALUE=DURATION:PT1H
X-Robots-Tag:noindex
X-PUBLISHED-TTL:PT1H
BEGIN:VTIMEZONE
TZID:America/Los_Angeles
BEGIN:DAYLIGHT
TZOFFSETFROM:-0800
TZOFFSETTO:-0700
TZNAME:PDT
DTSTART:20240310T100000
END:DAYLIGHT
BEGIN:STANDARD
TZOFFSETFROM:-0700
TZOFFSETTO:-0800
TZNAME:PST
DTSTART:20241103T090000
END:STANDARD
BEGIN:DAYLIGHT
TZOFFSETFROM:-0800
TZOFFSETTO:-0700
TZNAME:PDT
DTSTART:20250309T100000
END:DAYLIGHT
BEGIN:STANDARD
TZOFFSETFROM:-0700
TZOFFSETTO:-0800
TZNAME:PST
DTSTART:20251102T090000
END:STANDARD
BEGIN:DAYLIGHT
TZOFFSETFROM:-0800
TZOFFSETTO:-0700
TZNAME:PDT
DTSTART:20260308T100000
END:DAYLIGHT
BEGIN:STANDARD
TZOFFSETFROM:-0700
TZOFFSETTO:-0800
TZNAME:PST
DTSTART:20261101T090000
END:STANDARD
END:VTIMEZONE
BEGIN:VEVENT
DTSTART;TZID=America/Los_Angeles:20250306T113000
DTEND;TZID=America/Los_Angeles:20250306T123000
DTSTAMP:20260420T002454
CREATED:20250228T150438Z
LAST-MODIFIED:20250306T193435Z
UID:10001257-1741260600-1741264200@negozee.com
SUMMARY:The Three Secrets to Building a 7-Figure Tax Advisory Business: How to Find High-Net-Worth Clients
DESCRIPTION:Days Hours Minutes Seconds \nThe Three Secrets to Building a 7-Figure Tax Advisory Business: What Strategies to Use\nEn este evento exclusivo\, los asistentes descubrirán las tres estrategias clave que han permitido a las firmas de asesoría fiscal alcanzar ingresos de siete cifras. A través de presentaciones dinámicas y estudios de caso prácticos\, los participantes aprenderán a:\n\nOptimizar sus servicios de asesoría: Entenderán cómo convertir servicios que tradicionalmente se ofrecen de forma gratuita en ofertas premium que generen ingresos significativos.\nImplementar tácticas efectivas de marketing: Se explorarán métodos para atraer y retener clientes\, así como la creación de contenido que resuene con su audiencia objetivo.\nEstrategias de precios y posicionamiento: Los asistentes recibirán orientación sobre cómo establecer precios competitivos y justos para sus servicios\, maximizando así su rentabilidad.\n\n\nRegístrate Aquí\n\n\n\n  \n¿A Quién Está Dirigido?\nEste evento es ideal para contadores públicos\, asesores fiscales y cualquier profesional que busque expandir su negocio mediante la implementación de servicios de asesoría estratégica. Los participantes saldrán equipados con herramientas prácticas y conocimientos aplicables que podrán implementar inmediatamente en sus prácticas. \nBeneficios Adicionales\n\nNetworking: Oportunidades para conectar con otros profesionales del sector.\nMateriales Exclusivos: Acceso a recursos adicionales y guías prácticas para facilitar la implementación de las estrategias aprendidas.\nSesión de Preguntas y Respuestas: Un espacio dedicado para resolver dudas y profundizar en los temas tratados.\n\nNo pierdas la oportunidad de llevar tu negocio al siguiente nivel. ¡Inscríbete ahora y asegura tu lugar en este evento transformador! \n\nRegístrate Aquí\n \nPresentado por:\n \nDavid A. Perez\, Mr. Economy\nI usually meet clients for the first time because they’ve got a huge tax problem. After all\, that’s my background\, and understanding the ins and outs of the tax code is one of my superpowers. I’m the go to Tax Strategist for high achievers. \nWhat I see time and time again are people who got rich\, most are first generation rich\, and didn’t know what to do with their money. They get “stuck” not knowing what to do next. \nI’ve been that “stuck” guy\, it sucked. Being stuck leads to frustration\, missed opportunities and worst of all\, paying unnecessary taxes. I was there in 2015 when I first encountered my biggest tax bill. The day I realized\, I didn’t really understand taxes. That year I vowed to myself that I wouldn’t allow myself to be just a Tax Preparer and I wasn’t going to pay a bill like that again. I made a commitment to myself and set out on a journey to master the code. \nIt took me 5 years of studying to crack the code and really understand how the wealthy avoid paying taxes. I turned my years of experience and studying into a formula. I call it The 3% Formula. \nUsing this formula I’ve helped thousands of people just like you avoid paying taxes and ESCAPE THE RICH TRAP\, so they can use those tax savings to BUILD WEALTH. \nI’m on a mission to help 5 million people avoid paying 50 billion of unnecessary taxes. I want you to be one of them. \n\nRegístrate Aquí\n\n\n\nAdd to calendar \n  \n\nGoogle Calendar\niCalendar\nOutlook 365\nOutlook Live
URL:https://negozee.com/event/the-three-secrets-to-building-a-7-figure-tax-advisory-business-how-to-find-high-net-worth-clients/
ATTACH;FMTTYPE=image/png:https://wp-negozee-conent.s3.amazonaws.com/wp-content/uploads/2025/02/26084145/7FIGUREP3b.png
ORGANIZER;CN="negozee":MAILTO:info@negozee.com
END:VEVENT
BEGIN:VEVENT
DTSTART;TZID=America/Los_Angeles:20250306T160000
DTEND;TZID=America/Los_Angeles:20250306T170000
DTSTAMP:20260420T002454
CREATED:20250227T223051Z
LAST-MODIFIED:20250304T225129Z
UID:10001252-1741276800-1741280400@negozee.com
SUMMARY:Real Estate Mastery March 2025
DESCRIPTION:Days Hours Minutes Seconds		 \n¡No te pierdas nuestro primer webinar de Real Estate Mastery!\nEstamos emocionados de invitarte a nuestro siguiente webinar de la serie mensual “Real Estate Mastery”\, donde cada mes contaremos con expertos invitados que compartirán su conocimiento y experiencia en el mundo del real estate. Esta es una oportunidad única para aprender de especialistas que te brindarán valiosas perspectivas sobre el mercado\, las tendencias actuales y las mejores prácticas para lograr el éxito en el sector inmobiliario. \nPrimer Webinar: \n📅 Fecha: 6 de marzo de 2025🕓 Hora: 4:00 PM PDT💻 Evento virtual (vía Zoom) \nNo te pierdas esta oportunidad de adquirir conocimientos clave y hacer preguntas en vivo a nuestros expertos. ¡Regístrate ahora y asegura tu lugar!\n					\n									Regístrate\n					\n\n	\n	Add to calendar	\n		\n	\n \n\n\n	Google Calendar\n\n\n	iCalendar\n\n\n	Outlook 365\n\n\n	Outlook Live\n\n\n																										 \nConoce más en:\nhttps://www.booscpa.com/
URL:https://negozee.com/event/real-estate-mastery-march-2025/
CATEGORIES:Clase Virtual,Webinar
ATTACH;FMTTYPE=image/png:https://wp-negozee-conent.s3.amazonaws.com/wp-content/uploads/2025/02/26084151/Real-Estate-Mastery-negozee-.png
ORGANIZER;CN="negozee":MAILTO:info@negozee.com
END:VEVENT
END:VCALENDAR