BEGIN:VCALENDAR
VERSION:2.0
PRODID:-//negozee - ECPv6.15.12.2//NONSGML v1.0//EN
CALSCALE:GREGORIAN
METHOD:PUBLISH
X-ORIGINAL-URL:https://negozee.com
X-WR-CALDESC:Events for negozee
REFRESH-INTERVAL;VALUE=DURATION:PT1H
X-Robots-Tag:noindex
X-PUBLISHED-TTL:PT1H
BEGIN:VTIMEZONE
TZID:America/Los_Angeles
BEGIN:DAYLIGHT
TZOFFSETFROM:-0800
TZOFFSETTO:-0700
TZNAME:PDT
DTSTART:20240310T100000
END:DAYLIGHT
BEGIN:STANDARD
TZOFFSETFROM:-0700
TZOFFSETTO:-0800
TZNAME:PST
DTSTART:20241103T090000
END:STANDARD
BEGIN:DAYLIGHT
TZOFFSETFROM:-0800
TZOFFSETTO:-0700
TZNAME:PDT
DTSTART:20250309T100000
END:DAYLIGHT
BEGIN:STANDARD
TZOFFSETFROM:-0700
TZOFFSETTO:-0800
TZNAME:PST
DTSTART:20251102T090000
END:STANDARD
BEGIN:DAYLIGHT
TZOFFSETFROM:-0800
TZOFFSETTO:-0700
TZNAME:PDT
DTSTART:20260308T100000
END:DAYLIGHT
BEGIN:STANDARD
TZOFFSETFROM:-0700
TZOFFSETTO:-0800
TZNAME:PST
DTSTART:20261101T090000
END:STANDARD
END:VTIMEZONE
BEGIN:VEVENT
DTSTART;TZID=America/Los_Angeles:20250220T160000
DTEND;TZID=America/Los_Angeles:20250220T170000
DTSTAMP:20260420T014529
CREATED:20250123T195343Z
LAST-MODIFIED:20250123T200643Z
UID:10000950-1740067200-1740070800@negozee.com
SUMMARY:Ventas al 100% con Mentalidad Ganadora February 2025
DESCRIPTION:Days Hours Minutes Seconds		 \n¡Aprende lo básico de los impuestos con All Tax Solution!\n¿Quieres cerrar más ventas y escalar tu negocio?\n  \nÚnete a nuestro webinar GRATUITO ¡Andrés Portilla\, Mauricio Monroy y Antonio Quintero te revelarán las estrategias más efectivas para vender con confianza y alcanzar tus metas! aprenderás sobre:\n\nDominar las técnicas de venta más efectivas: Aprende a conectar con tus clientes a un nivel más profundo y cerrar más acuerdos.\nDesarrollar una mentalidad de éxito: Supera tus miedos y limitaciones para alcanzar un nuevo nivel de confianza y determinación.\nCrear una estrategia de ventas personalizada: Descubre cómo adaptar tus técnicas de venta a cada cliente y situación.\nUtilizar las herramientas digitales más innovadoras: Aprovecha el poder de la tecnología para optimizar tus procesos de venta.\n\n¡No te quedes fuera! Reserva tu lugar ahora y descubre cómo transformar tu carrera en ventas. \n\nFecha: Jueves 20 de Febrero del 2025\nHora: 4:00 PM (Hora de California)\n\nNo te pierdas esta oportunidad única de aprender cómo la tecnología puede ayudarte a hacer crecer tu negocio. \n					\n									Regístrate\n					\n\n	\n	Add to calendar	\n		\n	\n \n\n\n	Google Calendar\n\n\n	iCalendar\n\n\n	Outlook 365\n\n\n	Outlook Live
URL:https://negozee.com/event/ventas-al-100-feb-2025/
CATEGORIES:Clase Virtual,Webinar
ATTACH;FMTTYPE=image/png:https://wp-negozee-conent.s3.amazonaws.com/wp-content/uploads/2024/12/26084749/Impuestos-Basicos-negozee-all-tax-solution-THUMBNAIL.png
ORGANIZER;CN="negozee":MAILTO:info@negozee.com
END:VEVENT
BEGIN:VEVENT
DTSTART;TZID=America/Los_Angeles:20250220T160000
DTEND;TZID=America/Los_Angeles:20250220T170000
DTSTAMP:20260420T014529
CREATED:20250210T215546Z
LAST-MODIFIED:20250217T141551Z
UID:10001237-1740067200-1740070800@negozee.com
SUMMARY:Rumbo al Campamento EA [Cada jueves]
DESCRIPTION:Days Hours Minutes Seconds \nCampamento EA 2025\nConviértete en un especialista en RESOLUCIÓN DE IMPUESTOS ¡Cambia tu vida\, haz crecer tu negocio de preparación de impuestos\, diferénciate de los demás y genera mayores ingresos todo el año!\n¿Qué es Campamento EA?\nCampamento EA es un evento anual exclusivo para EAs y profesionales de taxes comprometidos con su crecimiento. Este campamento ofrece capacitación en resolución de taxes\, talleres prácticos y la oportunidad de expandir sus negocios. Es más que un evento: es una comunidad de aprendizaje donde los participantes adquieren herramientas clave para asegurar el éxito profesional que les permite generar ingresos todo el año. \n¿Cuando?\nSesiones semanales cada jueves a la 1:00 PM ET\, desde el 13 de febrero hasta el 17 de abril de 2025 \nPresentado por:\n \nJesus Abikarram EA Tax Resolution Specialist\nJesús empezó su carrera con apenas 18 años cuando abrió su primera oficina en la ciudad del Bronx\, NY\, ofreciendo seguros y preparación de impuestos; siendo el broker y preparador. En el 1996 agrego los servicios de seguros de vida con New York Life donde fue reconocido con varios reconocimientos por su dedicación y pasión en la industria. Durante su tiempo con AllState\, Jesús ganó premios y reconocimientos como el ANILLO DE HONOR más de 12 veces y CÍRCULO DE LÍDERES\, entre otros. En la actualidad\, Jesús es uno de los líderes de mayor influencia en la comunidad latina de preparación y resolución de impuestos. Fundador de Freedom Tax Resolution\, una empresa que ayuda a los contribuyentes con sus problemas de impuestos con el IRS en los 50 estados de la nación. \n\nRegístrate Aquí\n\n\n\nAdd to calendar \n \n\nGoogle Calendar\niCalendar\nOutlook 365\nOutlook Live
URL:https://negozee.com/event/rumbo-al-campamento-ea-cada-jueves/
ATTACH;FMTTYPE=image/jpeg:https://wp-negozee-conent.s3.amazonaws.com/wp-content/uploads/2025/02/26084342/WhatsApp-Image-2025-02-10-at-09.37.53.jpeg
ORGANIZER;CN="negozee":MAILTO:info@negozee.com
END:VEVENT
END:VCALENDAR