BEGIN:VCALENDAR
VERSION:2.0
PRODID:-//negozee - ECPv6.15.12.2//NONSGML v1.0//EN
CALSCALE:GREGORIAN
METHOD:PUBLISH
X-WR-CALNAME:negozee
X-ORIGINAL-URL:https://negozee.com
X-WR-CALDESC:Events for negozee
REFRESH-INTERVAL;VALUE=DURATION:PT1H
X-Robots-Tag:noindex
X-PUBLISHED-TTL:PT1H
BEGIN:VTIMEZONE
TZID:America/Los_Angeles
BEGIN:DAYLIGHT
TZOFFSETFROM:-0800
TZOFFSETTO:-0700
TZNAME:PDT
DTSTART:20240310T100000
END:DAYLIGHT
BEGIN:STANDARD
TZOFFSETFROM:-0700
TZOFFSETTO:-0800
TZNAME:PST
DTSTART:20241103T090000
END:STANDARD
BEGIN:DAYLIGHT
TZOFFSETFROM:-0800
TZOFFSETTO:-0700
TZNAME:PDT
DTSTART:20250309T100000
END:DAYLIGHT
BEGIN:STANDARD
TZOFFSETFROM:-0700
TZOFFSETTO:-0800
TZNAME:PST
DTSTART:20251102T090000
END:STANDARD
BEGIN:DAYLIGHT
TZOFFSETFROM:-0800
TZOFFSETTO:-0700
TZNAME:PDT
DTSTART:20260308T100000
END:DAYLIGHT
BEGIN:STANDARD
TZOFFSETFROM:-0700
TZOFFSETTO:-0800
TZNAME:PST
DTSTART:20261101T090000
END:STANDARD
END:VTIMEZONE
BEGIN:VEVENT
DTSTART;TZID=America/Los_Angeles:20250130T160000
DTEND;TZID=America/Los_Angeles:20250130T170000
DTSTAMP:20260420T014110
CREATED:20241220T151632Z
LAST-MODIFIED:20241220T152558Z
UID:10000927-1738252800-1738256400@negozee.com
SUMMARY:TaxTech Connect [TaxPro Tech] january
DESCRIPTION:Days Hours Minutes Seconds		 \n¡Únete a nuestro webinar TaxTech Connect!\nAprovecha el poder de la tecnología para mejorar tu eficiencia\, productividad y rentabilidad.  En este webinar\, nuestros expertos en tecnología te guiarán a través de todo lo que necesitas saber para digitalizar tu oficina y aprovechar al máximo los beneficios de la computación en la nube. \nAprenderás sobre: \n\nLos diferentes tipos de soluciones en la nube disponibles\nCómo evaluar tus necesidades y elegir la solución adecuada para tu negocio\nLos pasos para implementar una solución en la nube de forma exitosa\nLos beneficios de digitalizar tu oficina\, como:\nMayor eficiencia y productividad\nMejor colaboración y comunicación\nCostos reducidos\nMayor seguridad y protección de datos\nEscalabilidad para el crecimiento futuro\n\nNo te pierdas esta oportunidad de aprender de los expertos y descubrir cómo la tecnología en la nube puede transformar tu oficina. \n					\n									Regístrate\n					\n\n	\n	Agregar al calendario	\n		\n	\n \n\n\n	Google Calendar\n\n\n	iCalendar\n\n\n	Outlook 365\n\n\n	Outlook Live\n\n\n\nTaxPro Tech Services\nTaxPro Tech es una empresa que ofrece soluciones tecnológicas completas para profesionales de impuestos. Tienen más de 20 años de experiencia y ofrecen soporte para Drake Software\, servicios de oficina e infraestructura. También ofrecen una consulta gratuita y soporte al cliente 24/7.\nPuedes encontrar más información sobre TaxPro Tech en su sitio web: www.taxprotechservices.com
URL:https://negozee.com/event/taxtech-connect-taxpro-tech-january/
CATEGORIES:Clase Virtual,Webinar
ATTACH;FMTTYPE=image/png:https://wp-negozee-conent.s3.amazonaws.com/wp-content/uploads/2024/12/26084752/Tax-Tech-Connect-WEB-1.png
ORGANIZER;CN="negozee":MAILTO:info@negozee.com
END:VEVENT
END:VCALENDAR