BEGIN:VCALENDAR
VERSION:2.0
PRODID:-//negozee - ECPv6.15.12.2//NONSGML v1.0//EN
CALSCALE:GREGORIAN
METHOD:PUBLISH
X-WR-CALNAME:negozee
X-ORIGINAL-URL:https://negozee.com
X-WR-CALDESC:Events for negozee
REFRESH-INTERVAL;VALUE=DURATION:PT1H
X-Robots-Tag:noindex
X-PUBLISHED-TTL:PT1H
BEGIN:VTIMEZONE
TZID:America/Los_Angeles
BEGIN:DAYLIGHT
TZOFFSETFROM:-0800
TZOFFSETTO:-0700
TZNAME:PDT
DTSTART:20240310T100000
END:DAYLIGHT
BEGIN:STANDARD
TZOFFSETFROM:-0700
TZOFFSETTO:-0800
TZNAME:PST
DTSTART:20241103T090000
END:STANDARD
BEGIN:DAYLIGHT
TZOFFSETFROM:-0800
TZOFFSETTO:-0700
TZNAME:PDT
DTSTART:20250309T100000
END:DAYLIGHT
BEGIN:STANDARD
TZOFFSETFROM:-0700
TZOFFSETTO:-0800
TZNAME:PST
DTSTART:20251102T090000
END:STANDARD
BEGIN:DAYLIGHT
TZOFFSETFROM:-0800
TZOFFSETTO:-0700
TZNAME:PDT
DTSTART:20260308T100000
END:DAYLIGHT
BEGIN:STANDARD
TZOFFSETFROM:-0700
TZOFFSETTO:-0800
TZNAME:PST
DTSTART:20261101T090000
END:STANDARD
END:VTIMEZONE
BEGIN:VEVENT
DTSTART;TZID=America/Los_Angeles:20250121T160000
DTEND;TZID=America/Los_Angeles:20250121T170000
DTSTAMP:20260420T043841
CREATED:20241219T215904Z
LAST-MODIFIED:20241219T224813Z
UID:10000924-1737475200-1737478800@negozee.com
SUMMARY:Impuestos Básicos [All Tax Solution] January 2025
DESCRIPTION:Days Hours Minutes Seconds		 \n¡Aprende lo básico de los impuestos con All Tax Solution!\n¿Te confunden los impuestos? Únete a nosotros para un webinar gratuito el Martes 21 de enero a las 4:00 pm hora PT donde los expertos de All Tax Solution te darán una introducción a los conceptos básicos de los impuestos. \n¡Este webinar es perfecto para ti si: \n\nEres nuevo en el mundo de los impuestos\nNecesitas un repaso de los conceptos básicos\nQuieres aprender cómo ahorrar dinero en tus impuestos\n\n\n	\n	Agregar al calendario	\n		\n	\n \n\n\n	Google Calendar\n\n\n	iCalendar\n\n\n	Outlook 365\n\n\n	Outlook Live\n\n\n\n		\n		\n		\n		\n \n\n	Tickets\n		The numbers below include tickets for this event already in your cart. Clicking “Get Tickets” will allow you to edit any existing attendee information as well as change ticket quantities.\n				Impuestos básicos [zoom virtual] January\n	¡Entiende los Impuestos Básicos en un solo clic! Únete a nuestro Zoom Virtual y resuelve tus dudas hoy mismo.\n					$\n					0.00\n	 100  available\n			\n	Decrease ticket quantity for Impuestos básicos [zoom virtual] January\n	–\n	\n		Quantity	\n	\n		\n	Increase ticket quantity for Impuestos básicos [zoom virtual] January\n	+\n		\n		Quantity:\n	0\n		Total:\n					$\n					0.00\n	\n	¡Boletos!\n	\n	\n	\n	\n\nAll Tax Solution\nAll Tax Solution es una empresa que ofrece una suite completa de servicios para ayudar a las personas y empresas con sus necesidades de preparación de impuestos. Esto incluye software de impuestos y contabilidad\, administración de documentos\, planificación de impuestos\, presentación electrónica de impuestos y configuración bancaria para el gobierno federal y todos los estados de EE. UU. También ofrecen servicios de revisión de impuestos\, educación continua y soporte bilingüe.\nPuedes encontrar más información sobre All Tax Solution en su sitio web: https://alltaxsolution.com/
URL:https://negozee.com/event/impuestos-basicos-january2025/
CATEGORIES:Clase Virtual,Webinar
ATTACH;FMTTYPE=image/jpeg:https://wp-negozee-conent.s3.amazonaws.com/wp-content/uploads/2024/12/26084759/Impuestos-Basicos-negozee-all-tax-web.jpg
ORGANIZER;CN="negozee":MAILTO:info@negozee.com
END:VEVENT
END:VCALENDAR