BEGIN:VCALENDAR
VERSION:2.0
PRODID:-//negozee - ECPv6.15.12.2//NONSGML v1.0//EN
CALSCALE:GREGORIAN
METHOD:PUBLISH
X-ORIGINAL-URL:https://negozee.com
X-WR-CALDESC:Events for negozee
REFRESH-INTERVAL;VALUE=DURATION:PT1H
X-Robots-Tag:noindex
X-PUBLISHED-TTL:PT1H
BEGIN:VTIMEZONE
TZID:America/Los_Angeles
BEGIN:DAYLIGHT
TZOFFSETFROM:-0800
TZOFFSETTO:-0700
TZNAME:PDT
DTSTART:20240310T100000
END:DAYLIGHT
BEGIN:STANDARD
TZOFFSETFROM:-0700
TZOFFSETTO:-0800
TZNAME:PST
DTSTART:20241103T090000
END:STANDARD
BEGIN:DAYLIGHT
TZOFFSETFROM:-0800
TZOFFSETTO:-0700
TZNAME:PDT
DTSTART:20250309T100000
END:DAYLIGHT
BEGIN:STANDARD
TZOFFSETFROM:-0700
TZOFFSETTO:-0800
TZNAME:PST
DTSTART:20251102T090000
END:STANDARD
BEGIN:DAYLIGHT
TZOFFSETFROM:-0800
TZOFFSETTO:-0700
TZNAME:PDT
DTSTART:20260308T100000
END:DAYLIGHT
BEGIN:STANDARD
TZOFFSETFROM:-0700
TZOFFSETTO:-0800
TZNAME:PST
DTSTART:20261101T090000
END:STANDARD
END:VTIMEZONE
BEGIN:VEVENT
DTSTART;TZID=America/Los_Angeles:20250110T070000
DTEND;TZID=America/Los_Angeles:20250110T090000
DTSTAMP:20260420T044021
CREATED:20241220T195507Z
LAST-MODIFIED:20250109T153356Z
UID:10000932-1736492400-1736499600@negozee.com
SUMMARY:Wake-up Call Friday - 2024 [zoom virtual] January10
DESCRIPTION:Days Hours Minutes Seconds \n¿Tienes dudas sobre tus impuestos en Estados Unidos?\n¡Únete a nuestro webinar semanal! Cada semana\, Jesús Abikarram\, EA\, te explicará temas diferentes para que estés al día con las últimas novedades fiscales. \n¡Te invitamos a nuestro webinar semanal! Con la guía experta de Jesús Abikarram\, EA\, tendrás la oportunidad de profundizar en temas fiscales de manera accesible y enriquecedora. Este evento es exclusivo para nuestros miembros y está diseñado para ofrecerte: \n\nDeducciones y créditos fiscales\nDeclaraciones de impuestos\nCambios recientes en la ley tributaria\nY mucho más\n\n¡Cada semana un nuevo tema! Regístrate ahora y obtén claridad sobre tus obligaciones fiscales. \nHay 2 maneras para registrarte al evento:\n1.  Sign in y regístrarte por $36 en Tickets \n2. Inscríbete a la membresía de negozee por $32 al mes y recibe acceso. \n\n\nAdd to calendar \n \n\nGoogle Calendar\niCalendar\nOutlook 365\nOutlook Live\n\n\n\n\n\n \nTickets\nThe numbers below include tickets for this event already in your cart. Clicking “Get Tickets” will allow you to edit any existing attendee information as well as change ticket quantities.\nWake up call Friday Ticket 10 de enero 2025\n$\n0.00\n94 available\n\nDecrease ticket quantity for Wake up call Friday Ticket 10 de enero 2025\n–\n\nQuantity \n\n\nIncrease ticket quantity for Wake up call Friday Ticket 10 de enero 2025\n+\n\nQuantity:\n0\nTotal:\n$\n0.00\n\n¡Boletos! \n\n\nJesús Abikarram\, EA\nSoy un Coach\, Entrenador y Conferencista certificado por John Maxwell que se especializa en el coaching de líderes de pequeñas empresas\, ejecutivos\, empresarios y otros profesionales de negocio a negocio.\nPuedo ayudarle a utilizar y optimizar sus propios talentos para: Maximizar tu potencial\, Desarrollar tus habilidades de liderazgo\, Llevar tu negocio al siguiente nivel\, Tener más éxito en la vida y en tu carrera\, Convertirte en el orador público que siempre has querido ser.\nHe ayudado a otros propietarios de pequeñas empresas a desarrollar estrategias empresariales\, implantar sistemas ganadores y hacer crecer sus operaciones a través de sesiones de formación individuales y en grupo.
URL:https://negozee.com/event/wake-up-call-friday-2024-zoom-virtual-january10/
CATEGORIES:Clase Virtual,Webinar
ATTACH;FMTTYPE=image/jpeg:https://wp-negozee-conent.s3.amazonaws.com/wp-content/uploads/2024/12/26084600/WhatsApp-Image-2025-01-09-at-10.19.24.jpeg
ORGANIZER;CN="negozee":MAILTO:info@negozee.com
END:VEVENT
BEGIN:VEVENT
DTSTART;TZID=America/Los_Angeles:20250110T113000
DTEND;TZID=America/Los_Angeles:20250111T143000
DTSTAMP:20260420T044021
CREATED:20241127T152343Z
LAST-MODIFIED:20250110T200227Z
UID:10000901-1736508600-1736605800@negozee.com
SUMMARY:2025 Tax Updates ¿Qué hay de nuevo?
DESCRIPTION:Registrate aquí\n					\n																										 \n3 Hour Tax Update – IRS Approved Continuing Education\nAcceso a los 2 seminarios web de Zoom \n																										 \nEnero 10\n[Inglés]\n\n		\n		\n		\n		\n \n\n	Tickets\n		The numbers below include tickets for this event already in your cart. Clicking “Get Tickets” will allow you to edit any existing attendee information as well as change ticket quantities.\n				Webinar Enero 10 EN\n					$\n					0.00\n	 913  available\n			\n	Decrease ticket quantity for Webinar Enero 10 EN\n	–\n	\n		Quantity	\n	\n		\n	Increase ticket quantity for Webinar Enero 10 EN\n	+\n		\n		Quantity:\n	0\n		Total:\n					$\n					0.00\n	\n	¡Boletos!\n	\n	\n	\n	\n																										 \nEnero 11\n[Español]\n\n		\n		\n		\n		\n \n\n	Tickets\n		The numbers below include tickets for this event already in your cart. Clicking “Get Tickets” will allow you to edit any existing attendee information as well as change ticket quantities.\n				Webinar Enero 11 ESP\n					$\n					0.00\n	 909  available\n			\n	Decrease ticket quantity for Webinar Enero 11 ESP\n	–\n	\n		Quantity	\n	\n		\n	Increase ticket quantity for Webinar Enero 11 ESP\n	+\n		\n		Quantity:\n	0\n		Total:\n					$\n					0.00\n	\n	¡Boletos!\n	\n	\n	\n	\n¿Ya eres miembro?\n¡El momento es ahora! Inscríbete y lleva tus beneficios al siguiente nivel. \n					\n									Quiero ser miembro\n					 \nTiempos\nHorario New York \nBienvenidos\nTax Credits & Deductions\n\n\n\n					 Ver Más\n						\nStandard Deduction \nIncome Tax Rates \nCapital Gains Tax \nChild Tax Credit \nOther Dependent Credit \nEarned Income Tax Credit \nChild & Dependent Care Tax Credit \nPremium Tax Credit \nLifetime Learning Credit \nAmerican Opportunity Tax Credit \nResidential Energy Credit \nClean Vehicle Credit \nGift Tax Exclusion \n\nStandard Deduction \nIncome Tax Rates \nCapital Gains Tax \nChild Tax Credit \nOther Dependent Credit \nEarned Income Tax Credit \nChild & Dependent Care Tax Credit \nPremium Tax Credit \nLifetime Learning Credit \nAmerican Opportunity Tax Credit \nResidential Energy Credit \nClean Vehicle Credit \nGift Tax Exclusion \nDrake Software Demo\nRetirement Plan Changes & Tax Planning\n\n\n\n					 Ver Más\n						\nEarly Withdrawals from IRAs & 401(k)s \n529 Education Plans \nIRA Distribution to Charity \nIRA Contribution Limits \nSolo 401(k) \n\nEarly Withdrawals from IRAs & 401(k)s \n529 Education Plans \nIRA Distribution to Charity \nIRA Contribution Limits \nSolo 401(k) \nBusiness Tax Updates\n\n\n					 Ver Más\n						\nBonus Depreciation \nSection 179 Deduction \nQBI Expires soon \nBusiness Meals \nVehicle Expenses \n\nBonus Depreciation \nSection 179 Deduction \nQBI Expires soon \nBusiness Meals \nVehicle Expenses \nQ & A\n\nThank you\n\nSpeakers\n																										 \nEd Lantigua -EA\nEdward Lantigua\, EA y NTPI Fellow\, cuenta con más de 25 años de experiencia en impuestos y planificación fiscal\, ayudando a propietarios de pequeñas empresas\, especialmente en la comunidad latina. Es anfitrión del podcast “Edward Lantigua De Este Lado” y mentor de preparadores de impuestos\, ofreciendo clases y conferencias para su desarrollo profesional. Su enfoque innovador y educativo lo posiciona como un referente en su campo. \n																										 \nJesus Abikarram – EA\nJesús Abikarram es Coach y Conferencista certificado por el programa de liderazgo de John Maxwell\, con más de 26 años de experiencia en impuestos y seguros. Como líder comunitario y empresario\, se especializa en desarrollar estrategias para el crecimiento de emprendedores y pequeñas empresas\, combinando su conocimiento técnico con un enfoque en liderazgo y desarrollo personal. \n																										 \n Will DeJesus – CPA\nWill de Jesús\, CPA\, es un emprendedor enfocado en tecnología\, e-learning y redes sociales. Fundador de Negozee\, Inc.\, una plataforma para apoyar a emprendedores hispanos\, y de TaxTerminal.com y RapidoTax.com\, firmas modernas de servicios fiscales y contables\, combina innovación y experiencia para impulsar el crecimiento empresarial y financiero. Su trabajo destaca por integrar tecnología y servicio al cliente en cada solución.
URL:https://negozee.com/event/2025-tax-updates/
CATEGORIES:Webinar
ATTACH;FMTTYPE=image/png:https://wp-negozee-conent.s3.amazonaws.com/wp-content/uploads/2024/11/26084744/TaxUpdate-Diciembre-1.png
ORGANIZER;CN="negozee":MAILTO:info@negozee.com
END:VEVENT
END:VCALENDAR