BEGIN:VCALENDAR
VERSION:2.0
PRODID:-//negozee - ECPv6.15.12.2//NONSGML v1.0//EN
CALSCALE:GREGORIAN
METHOD:PUBLISH
X-ORIGINAL-URL:https://negozee.com
X-WR-CALDESC:Events for negozee
REFRESH-INTERVAL;VALUE=DURATION:PT1H
X-Robots-Tag:noindex
X-PUBLISHED-TTL:PT1H
BEGIN:VTIMEZONE
TZID:America/Los_Angeles
BEGIN:DAYLIGHT
TZOFFSETFROM:-0800
TZOFFSETTO:-0700
TZNAME:PDT
DTSTART:20230312T100000
END:DAYLIGHT
BEGIN:STANDARD
TZOFFSETFROM:-0700
TZOFFSETTO:-0800
TZNAME:PST
DTSTART:20231105T090000
END:STANDARD
BEGIN:DAYLIGHT
TZOFFSETFROM:-0800
TZOFFSETTO:-0700
TZNAME:PDT
DTSTART:20240310T100000
END:DAYLIGHT
BEGIN:STANDARD
TZOFFSETFROM:-0700
TZOFFSETTO:-0800
TZNAME:PST
DTSTART:20241103T090000
END:STANDARD
BEGIN:DAYLIGHT
TZOFFSETFROM:-0800
TZOFFSETTO:-0700
TZNAME:PDT
DTSTART:20250309T100000
END:DAYLIGHT
BEGIN:STANDARD
TZOFFSETFROM:-0700
TZOFFSETTO:-0800
TZNAME:PST
DTSTART:20251102T090000
END:STANDARD
END:VTIMEZONE
BEGIN:VEVENT
DTSTART;VALUE=DATE:20241120
DTEND;VALUE=DATE:20241123
DTSTAMP:20260420T074413
CREATED:20231010T194507Z
LAST-MODIFIED:20241114T024709Z
UID:10000721-1732060800-1732319999@negozee.com
SUMMARY:¡Emprende Tax 2024! [Virtual y Houston]
DESCRIPTION:Days Hours Minutes Seconds		\n			¡Emprende Tax 2024! [Virtual y Houston]		\n			\n									Compra tu Ticket\n					\n\n	\n	Add to calendar	\n		\n	\n\n			\n									\n	Google Calendar\n\n									\n	iCalendar\n\n									\n	Outlook 365\n\n									\n	Outlook Live\n\n							\n		¿Estás listo para llevar tu negocio al siguiente nivel? Asiste a nuestro webinar Tecnología para Negocios dirigido por negozee y descubre las mejores estrategias para aprovechar el poder de la tecnología y hacer crecer tu empresa de manera exponencial. En este webinar\, aprenderás: Lesson 1: Emprendimiento1.1 Trabajar Por ti Mismo1.2 Comprar una Franquicia1.3 Tu Propio Tax Business1.3 Cómo Evitar el Agotamiento (burnout) Durante Tax Season 101.4 Startup Business Loan Lesson 2: Iniciar un Tax Business2.1 Electronic Filing Identification Number (EFIN)2.2 Employer Identification Number (EIN)2.3 Reglas para Preparadores de Impuestos2.4 Preparer Tax Identification Number (PTIN)2.5 Tipos de Cuentas Bancarias2.6 Business Insurance2.7 LLC o Corporación – ¿Cuál es la mejor entidad?2.8 Estableciendo Su Oficina2.9 Site Selection Checklist (Lista de verificación para la selección del sitio)2.10 Tax Office Lease Negotiation Lesson 3: Office Setup & Tech3.1 Data Security and Identity Theft3.2 Prácticas de Seguridad en la Oficina3.3 Data Breach Policy3.4 Written Information Security Plan (WISP)3.5 Imagen del Negocio3.6 Servicio al Cliente3.7 Métodos Operativos Sistemáticos3.8 ¿Qué es un Service Bureau?3.9 Productos Bancarios3.10 Apariencia de la Oficina3.11 Tax Return Estimates3.12 Flujo de Trabajo3.13 Tax Appointments Lesson 4: Marketing y Ventas4.1 Cuida a Tus Clientes4.2 Anima a los Clientes a Recomendar a Otros4.3 Satisfacción Garantizada4.4 Tax Appointment Letters4.5 ¿Cuándo Haces la Cita?4.6 Pre-Seasons4.7 Holiday Fiesta4.8 Summer Carne Asada4.9 Entrevistas de Noticias4.10 Asiste a Eventos de Networking Profesional4.11 Relaciones Públicas4.12 Ask for Referrals4.13 Facebook Ads Marketing4.14 ¿Cómo Funcionan los Anuncios de Facebook?4.15 YouTube Channel4.16 ¿Cómo Subir los Precios Cada Año?4.17 Los Mejores Clientes Pagan Más4.18 ¿Cómo Aumentar los Precios? Lesson 5: Clientes5.1 La Retención de Clientes es Clave5.2 Referrals5.3 Loyalty Program5.5 Share Your Tax Knowledge / Comparte Tu Conocimientos5.6 ¿Cómo Lidiar con Clientes Tóxicos?5.7 Reconocer a un Cliente Tóxico5.8 Señales de que es Hora de Despedir a un Mal Cliente y Cómo Hacerlo5.9 Consejos para Llevar a Cabo una Entrevista Efectiva con un Cliente Sobre Impuestos Lesson 6: Empleados6.1 Empleado Ideal6.2 ¿Cómo Buscar los Mejores Empleados?6.3 Historia Laboral – Antecedentes de los Empleados6.4 Roles y Descripción de Puestos6.5 Manual de Funciones6.6 Proceso de Contratación6.7 Leyes Laborales6.8 Entrenamiento y Capacitación6.10 Delegación: ¿Cómo te Duplicas a Través de Tus Colaboradores?6.11 Schedule: Turnos de Trabajo6.12 Causales de Despedido / Despedidos por Justa Causa6.13 ¿Pago por Salario o Comisión?6.14 Consistencia en Tu Negocio6.15 Plan de Carrera del Empleado en la Organización6.16 ¿Puedo Tener a mis Empleados Fuera de los Estados Unidos? ¿Cómo Manejo los Empleados?6.18 Indicadores de Desempeño y Productividad de Empleados (KPI)6.19 Inteligencia Emocional6.20 Aspectos que Debes Considerar al Capacitar a Tu Personal Lesson 7: Get Ready for Tax Season7.1 ¿Cómo Convertirte en un Certifying Acceptance Agente con el IRS?7.2 Productos/Servicios Adicionales para Su Negocio7.3 How To Get Ready for Tax Season Fecha y hora: Jueves Nov 21 y Viernes Nov 22 No te pierdas esta oportunidad única de aprender cómo la tecnología puede ayudarte a hacer crecer tu negocio.
URL:https://negozee.com/event/emprende-tax-2024/
CATEGORIES:Clase Virtual,Evento Presencial,Meeting,Talleres de Negocio,Webinar
ATTACH;FMTTYPE=image/png:https://wp-negozee-conent.s3.amazonaws.com/wp-content/uploads/2023/10/26085628/Emprendetax-Banner-Web-1.png
ORGANIZER;CN="negozee":MAILTO:info@negozee.com
END:VEVENT
BEGIN:VEVENT
DTSTART;TZID=America/Los_Angeles:20241122T070000
DTEND;TZID=America/Los_Angeles:20241122T090000
DTSTAMP:20260420T074413
CREATED:20241120T132816Z
LAST-MODIFIED:20241120T133130Z
UID:10000898-1732258800-1732266000@negozee.com
SUMMARY:Wake-up Call Friday / 22 de Noviembre 2024 [zoom virtual]
DESCRIPTION:Days Hours Minutes Seconds \n¿Tienes dudas sobre tus impuestos en Estados Unidos?\n¡Únete a nuestro webinar semanal! Cada semana\, Jesús Abikarram\, EA\, te explicará temas diferentes para que estés al día con las últimas novedades fiscales. \n¡Te invitamos a nuestro webinar semanal! Con la guía experta de Jesús Abikarram\, EA\, tendrás la oportunidad de profundizar en temas fiscales de manera accesible y enriquecedora. Este evento es exclusivo para nuestros miembros y está diseñado para ofrecerte: \n\nDeducciones y créditos fiscales\nDeclaraciones de impuestos\nCambios recientes en la ley tributaria\nY mucho más\n\n¡Cada semana un nuevo tema! Regístrate ahora y obtén claridad sobre tus obligaciones fiscales. \nHay 2 maneras para registrarte al evento:\n1.  Sign in y regístrarte por $36 en Tickets \n2. Inscríbete a la membresía de negozee por $28 al mes y recibe acceso. \n\n\nAdd to calendar \n \n\nGoogle Calendar\niCalendar\nOutlook 365\nOutlook Live\n\n\n\n\n\n \nTickets\nThe numbers below include tickets for this event already in your cart. Clicking “Get Tickets” will allow you to edit any existing attendee information as well as change ticket quantities.\nWake up call Friday Ticket 22 Noviembre 2024\nEste viernes 22 de Noviembre 2024\,\n¡únete a nosotros en Wake-up Call Friday para resolver tus dudas sobre impuestos!\n$\n0.00\n100 available\n\nDecrease ticket quantity for Wake up call Friday Ticket 22 Noviembre 2024\n–\n\nQuantity \n\n\nIncrease ticket quantity for Wake up call Friday Ticket 22 Noviembre 2024\n+\n\nQuantity:\n0\nTotal:\n$\n0.00\n\n¡Boletos! \n\n\nJesús Abikarram\, EA\nSoy un Coach\, Entrenador y Conferencista certificado por John Maxwell que se especializa en el coaching de líderes de pequeñas empresas\, ejecutivos\, empresarios y otros profesionales de negocio a negocio.\nPuedo ayudarle a utilizar y optimizar sus propios talentos para: Maximizar tu potencial\, Desarrollar tus habilidades de liderazgo\, Llevar tu negocio al siguiente nivel\, Tener más éxito en la vida y en tu carrera\, Convertirte en el orador público que siempre has querido ser.\nHe ayudado a otros propietarios de pequeñas empresas a desarrollar estrategias empresariales\, implantar sistemas ganadores y hacer crecer sus operaciones a través de sesiones de formación individuales y en grupo.
URL:https://negozee.com/event/wake-up-call-friday-22-noviembre-2024-zoom/
CATEGORIES:Clase Virtual,Webinar
ATTACH;FMTTYPE=image/png:https://wp-negozee-conent.s3.amazonaws.com/wp-content/uploads/2024/07/26090254/GENERAL-WAKE-UP-CALL-FRIDAY-1.png
ORGANIZER;CN="negozee":MAILTO:info@negozee.com
END:VEVENT
END:VCALENDAR