BEGIN:VCALENDAR
VERSION:2.0
PRODID:-//negozee - ECPv6.15.12.2//NONSGML v1.0//EN
CALSCALE:GREGORIAN
METHOD:PUBLISH
X-ORIGINAL-URL:https://negozee.com
X-WR-CALDESC:Events for negozee
REFRESH-INTERVAL;VALUE=DURATION:PT1H
X-Robots-Tag:noindex
X-PUBLISHED-TTL:PT1H
BEGIN:VTIMEZONE
TZID:America/Los_Angeles
BEGIN:DAYLIGHT
TZOFFSETFROM:-0800
TZOFFSETTO:-0700
TZNAME:PDT
DTSTART:20230312T100000
END:DAYLIGHT
BEGIN:STANDARD
TZOFFSETFROM:-0700
TZOFFSETTO:-0800
TZNAME:PST
DTSTART:20231105T090000
END:STANDARD
BEGIN:DAYLIGHT
TZOFFSETFROM:-0800
TZOFFSETTO:-0700
TZNAME:PDT
DTSTART:20240310T100000
END:DAYLIGHT
BEGIN:STANDARD
TZOFFSETFROM:-0700
TZOFFSETTO:-0800
TZNAME:PST
DTSTART:20241103T090000
END:STANDARD
BEGIN:DAYLIGHT
TZOFFSETFROM:-0800
TZOFFSETTO:-0700
TZNAME:PDT
DTSTART:20250309T100000
END:DAYLIGHT
BEGIN:STANDARD
TZOFFSETFROM:-0700
TZOFFSETTO:-0800
TZNAME:PST
DTSTART:20251102T090000
END:STANDARD
END:VTIMEZONE
BEGIN:VEVENT
DTSTART;TZID=America/Los_Angeles:20241114T130000
DTEND;TZID=America/Los_Angeles:20241114T140000
DTSTAMP:20260420T074825
CREATED:20241113T223103Z
LAST-MODIFIED:20241113T225114Z
UID:10000896-1731589200-1731592800@negozee.com
SUMMARY:Pre Party Emprende Tax 2024
DESCRIPTION:Days Hours Minutes Seconds		 \n¡Prepárate para el Éxito: Únete a Nuestro Preevento y Masterclass de Impuestos!\n¡Empieza tu propio negocio de impuestos en EE. UU. en 6 pasos! \n					\n									Regístrate aquí\n					 \n¡Únete al Preevento!\n¡Acompáñanos en el preevento y da la bienvenida a nuestra masterclass! Será una excelente oportunidad para conectarte con otros participantes y prepararte para una experiencia enriquecedora. ¡Te esperamos! \n💡 Aprende todo lo que necesitas para dar el primer paso hacia tu independencia financiera con expertos en la industria. 🚀 \n⏰ ¡Nos vemos en línea! No pierdas esta oportunidad de transformar tu futuro. \n\n							¿Cuando?\n					\n\n						Jueves 14 de Noviembre del 2024\n1:00 PM (Pacific Time – Houston)					 \n\n	\n	Add to calendar	\n		\n	\n \n\n\n	Google Calendar\n\n\n	iCalendar\n\n\n	Outlook 365\n\n\n	Outlook Live
URL:https://negozee.com/event/pre_party_et_2024/
CATEGORIES:Clase Virtual,Webinar
ATTACH;FMTTYPE=image/jpeg:https://wp-negozee-conent.s3.amazonaws.com/wp-content/uploads/2024/11/26085221/WhatsApp-Image-2024-11-13-at-17.34.54-1.jpeg
ORGANIZER;CN="negozee":MAILTO:info@negozee.com
END:VEVENT
END:VCALENDAR