BEGIN:VCALENDAR
VERSION:2.0
PRODID:-//negozee - ECPv6.15.12.2//NONSGML v1.0//EN
CALSCALE:GREGORIAN
METHOD:PUBLISH
X-ORIGINAL-URL:https://negozee.com
X-WR-CALDESC:Events for negozee
REFRESH-INTERVAL;VALUE=DURATION:PT1H
X-Robots-Tag:noindex
X-PUBLISHED-TTL:PT1H
BEGIN:VTIMEZONE
TZID:America/Los_Angeles
BEGIN:DAYLIGHT
TZOFFSETFROM:-0800
TZOFFSETTO:-0700
TZNAME:PDT
DTSTART:20230312T100000
END:DAYLIGHT
BEGIN:STANDARD
TZOFFSETFROM:-0700
TZOFFSETTO:-0800
TZNAME:PST
DTSTART:20231105T090000
END:STANDARD
BEGIN:DAYLIGHT
TZOFFSETFROM:-0800
TZOFFSETTO:-0700
TZNAME:PDT
DTSTART:20240310T100000
END:DAYLIGHT
BEGIN:STANDARD
TZOFFSETFROM:-0700
TZOFFSETTO:-0800
TZNAME:PST
DTSTART:20241103T090000
END:STANDARD
BEGIN:DAYLIGHT
TZOFFSETFROM:-0800
TZOFFSETTO:-0700
TZNAME:PDT
DTSTART:20250309T100000
END:DAYLIGHT
BEGIN:STANDARD
TZOFFSETFROM:-0700
TZOFFSETTO:-0800
TZNAME:PST
DTSTART:20251102T090000
END:STANDARD
END:VTIMEZONE
BEGIN:VEVENT
DTSTART;TZID=America/Los_Angeles:20241028T070000
DTEND;TZID=America/Los_Angeles:20241029T170000
DTSTAMP:20260420T074259
CREATED:20241022T142859Z
LAST-MODIFIED:20241022T144834Z
UID:10000882-1730098800-1730221200@negozee.com
SUMMARY:Tax Pro Connections
DESCRIPTION:Days Hours Minutes Seconds		 \n¿Porqué asistir a tax pro connections?\n		Emprendedores y Dueños de Negocios también están invitados: \nAsistir a Tax Pro Connections es una oportunidad invaluable para sumergirse en el mundo en constante evolución de la preparación de impuestos. Este evento reúne a una diversa gama de profesionales\, desde expertos en preparación de impuestos hasta especialistas en inteligencia emocional\, creando un entorno enriquecedor donde se comparten las últimas novedades fiscales y se fomenta el crecimiento profesional. \nLa interacción con este tipo de expertos proporciona una perspectiva integral que va más allá de los números\, permitiendo a los asistentes no solo mantenerse actualizados en materia tributaria\, sino también desarrollar habilidades interpersonales y estratégicas fundamentales en el mundo actual de los impuestos. \n			\n									Comprar boletos\n					\n\n	\n	Add to calendar	\n		\n	\n \n\n\n	Google Calendar\n\n\n	iCalendar\n\n\n	Outlook 365\n\n\n	Outlook Live\n\n\nTax pro Connections 2024\n\nWE-KO-PA CASINO RESORT | 10438 WeKoPa Way Fort McDowell\, AZ 85264 \n\n							Del lunes 28 de Octubre al  Martes 30 de Octubre\n					\n			\n			\n									Más información\n					 \n\n“Conectados a través de la educación\, el conocimiento y una visión empresarial”
URL:https://negozee.com/event/tax-pro-connections-2024/
CATEGORIES:Clase Virtual,Webinar
ATTACH;FMTTYPE=image/png:https://wp-negozee-conent.s3.amazonaws.com/wp-content/uploads/2024/10/26085412/Webinars-WEB-2.png
ORGANIZER;CN="negozee":MAILTO:info@negozee.com
END:VEVENT
END:VCALENDAR