BEGIN:VCALENDAR
VERSION:2.0
PRODID:-//negozee - ECPv6.15.12.2//NONSGML v1.0//EN
CALSCALE:GREGORIAN
METHOD:PUBLISH
X-ORIGINAL-URL:https://negozee.com
X-WR-CALDESC:Events for negozee
REFRESH-INTERVAL;VALUE=DURATION:PT1H
X-Robots-Tag:noindex
X-PUBLISHED-TTL:PT1H
BEGIN:VTIMEZONE
TZID:America/Los_Angeles
BEGIN:DAYLIGHT
TZOFFSETFROM:-0800
TZOFFSETTO:-0700
TZNAME:PDT
DTSTART:20230312T100000
END:DAYLIGHT
BEGIN:STANDARD
TZOFFSETFROM:-0700
TZOFFSETTO:-0800
TZNAME:PST
DTSTART:20231105T090000
END:STANDARD
BEGIN:DAYLIGHT
TZOFFSETFROM:-0800
TZOFFSETTO:-0700
TZNAME:PDT
DTSTART:20240310T100000
END:DAYLIGHT
BEGIN:STANDARD
TZOFFSETFROM:-0700
TZOFFSETTO:-0800
TZNAME:PST
DTSTART:20241103T090000
END:STANDARD
BEGIN:DAYLIGHT
TZOFFSETFROM:-0800
TZOFFSETTO:-0700
TZNAME:PDT
DTSTART:20250309T100000
END:DAYLIGHT
BEGIN:STANDARD
TZOFFSETFROM:-0700
TZOFFSETTO:-0800
TZNAME:PST
DTSTART:20251102T090000
END:STANDARD
END:VTIMEZONE
BEGIN:VEVENT
DTSTART;TZID=America/Los_Angeles:20241012T060000
DTEND;TZID=America/Los_Angeles:20241012T090000
DTSTAMP:20260420T103416
CREATED:20241002T222601Z
LAST-MODIFIED:20241020T123902Z
UID:10000858-1728712800-1728723600@negozee.com
SUMMARY:Cafecito con Negozee MIAMI
DESCRIPTION:Days Hours Minutes Seconds \nCafecito con Negozee Miami\n¡El Cafecito con negozee llega a Miami! ☕️ Este evento\, que ha unido a emprendedores latinos en ciudades como Chicago\, Atlanta\, Florida y Milwaukee\, te trae una nueva edición llena de oportunidades. \n¡Amplía tu red de contactos\, descubre nuevas tendencias y conecta con expertos en diversos campos! Disfruta de conferencias inspiradoras\, talleres prácticos y networking. 12 de octubre\, 9:00 AM CT. ¡No te lo pierdas! \nHay 2 maneras para registrarte al evento:\n1.  Sign in y regístrarte por $36 en Tickets \n2. Inscríbete a la membresía de negozee por $28 al mes y recibe acceso. \n\n\nAdd to calendar \n \n\nGoogle Calendar\niCalendar\nOutlook 365\nOutlook Live\n\n\n\n\n\n \nTickets\nThe numbers below include tickets for this event already in your cart. Clicking “Get Tickets” will allow you to edit any existing attendee information as well as change ticket quantities.\nCafecito con negozee MIAMI\nCafecito con Negozee Miami el 12 de Octubre de 9:00 am a 12:00 pm.\n$\n36.00\nUnlimited\n\nDecrease ticket quantity for Cafecito con negozee MIAMI\n–\n\nQuantity \n\n\nIncrease ticket quantity for Cafecito con negozee MIAMI\n+\n\nQuantity:\n0\nTotal:\n$\n0.00\n\n¡Boletos! \n\n\nCafecito con negozee MIAMI \n100 SE 3rd Ave\, Fort Lauderdale\, FL 33394 \nMiami\,\nFL\n33394\nUnited States\n+ Google Map \n 
URL:https://negozee.com/event/cafecito-con-negozee-miami-2/
LOCATION:Cafecito con negozee MIAMI\, 100 SE 3rd Ave\, Fort Lauderdale\, FL 33394\, Miami\, FL\, 33394\, United States
CATEGORIES:Community Event,Evento Presencial
ATTACH;FMTTYPE=image/png:https://wp-negozee-conent.s3.amazonaws.com/wp-content/uploads/2024/10/26085426/Cafecito-con-negozee-Miami-web-3_SoldOut.png
ORGANIZER;CN="negozee":MAILTO:info@negozee.com
END:VEVENT
END:VCALENDAR