BEGIN:VCALENDAR
VERSION:2.0
PRODID:-//negozee - ECPv6.15.12.2//NONSGML v1.0//EN
CALSCALE:GREGORIAN
METHOD:PUBLISH
X-WR-CALNAME:negozee
X-ORIGINAL-URL:https://negozee.com
X-WR-CALDESC:Events for negozee
REFRESH-INTERVAL;VALUE=DURATION:PT1H
X-Robots-Tag:noindex
X-PUBLISHED-TTL:PT1H
BEGIN:VTIMEZONE
TZID:America/Los_Angeles
BEGIN:DAYLIGHT
TZOFFSETFROM:-0800
TZOFFSETTO:-0700
TZNAME:PDT
DTSTART:20230312T100000
END:DAYLIGHT
BEGIN:STANDARD
TZOFFSETFROM:-0700
TZOFFSETTO:-0800
TZNAME:PST
DTSTART:20231105T090000
END:STANDARD
BEGIN:DAYLIGHT
TZOFFSETFROM:-0800
TZOFFSETTO:-0700
TZNAME:PDT
DTSTART:20240310T100000
END:DAYLIGHT
BEGIN:STANDARD
TZOFFSETFROM:-0700
TZOFFSETTO:-0800
TZNAME:PST
DTSTART:20241103T090000
END:STANDARD
BEGIN:DAYLIGHT
TZOFFSETFROM:-0800
TZOFFSETTO:-0700
TZNAME:PDT
DTSTART:20250309T100000
END:DAYLIGHT
BEGIN:STANDARD
TZOFFSETFROM:-0700
TZOFFSETTO:-0800
TZNAME:PST
DTSTART:20251102T090000
END:STANDARD
END:VTIMEZONE
BEGIN:VEVENT
DTSTART;TZID=America/Los_Angeles:20241011T070000
DTEND;TZID=America/Los_Angeles:20241011T083000
DTSTAMP:20260420T132309
CREATED:20241003T145808Z
LAST-MODIFIED:20241020T122925Z
UID:10000864-1728630000-1728635400@negozee.com
SUMMARY:Wake-up Call Friday 11 de octubre [zoom virtual]
DESCRIPTION:Days Hours Minutes Seconds \n¿Tienes dudas sobre tus impuestos en Estados Unidos? ¡Únete a nuestro webinar semanal gratuito! Cada semana\, Jesús Abikarram\, EA\, te explicará temas diferentes para que estés al día con las últimas novedades fiscales. \nNuestro webinar semanal gratuito\, dirigido por el experto Jesús Abikarram\, EA\, es tu guía completa. Aprende sobre: \n\nDeducciones y créditos fiscales\nDeclaraciones de impuestos\nCambios recientes en la ley tributaria\nY mucho más\n\n¡Cada semana un nuevo tema! Regístrate ahora y obtén claridad sobre tus obligaciones fiscales. \nHay 2 maneras para registrarte al evento:\n1.  Sign in y regístrarte por $36 en Tickets \n2. Inscríbete a la membresía de negozee por $28 al mes y recibe acceso. \n\n\nAdd to calendar \n  \n\nGoogle Calendar\niCalendar\nOutlook 365\nOutlook Live\n\n\n\n\n\n \nTickets\nThe numbers below include tickets for this event already in your cart. Clicking “Get Tickets” will allow you to edit any existing attendee information as well as change ticket quantities.\nWake up call Friday Ticket\nEste Viernes nos juntamos en Wake-up Call Friday\n$\n36.00\n100 available\n\nDecrease ticket quantity for Wake up call Friday Ticket\n–\n\nQuantity \n\n\nIncrease ticket quantity for Wake up call Friday Ticket\n+\n\nQuantity:\n0\nTotal:\n$\n0.00\n\n¡Boletos! \n\n\nJesús Abikarram\, EA\nSoy un Coach\, Entrenador y Conferencista certificado por John Maxwell que se especializa en el coaching de líderes de pequeñas empresas\, ejecutivos\, empresarios y otros profesionales de negocio a negocio.\nPuedo ayudarle a utilizar y optimizar sus propios talentos para: Maximizar tu potencial\, Desarrollar tus habilidades de liderazgo\, Llevar tu negocio al siguiente nivel\, Tener más éxito en la vida y en tu carrera\, Convertirte en el orador público que siempre has querido ser.\nHe ayudado a otros propietarios de pequeñas empresas a desarrollar estrategias empresariales\, implantar sistemas ganadores y hacer crecer sus operaciones a través de sesiones de formación individuales y en grupo.
URL:https://negozee.com/event/wake-up-call-friday-zoom-virtual-10/
CATEGORIES:Clase Virtual,Webinar
ATTACH;FMTTYPE=image/png:https://wp-negozee-conent.s3.amazonaws.com/wp-content/uploads/2024/08/26090028/GENERAL-WAKE-UP-CALL-FRIDAY-1.png_SoldOut.png
ORGANIZER;CN="negozee":MAILTO:info@negozee.com
END:VEVENT
BEGIN:VEVENT
DTSTART;TZID=America/Los_Angeles:20241011T103000
DTEND;TZID=America/Los_Angeles:20241011T123000
DTSTAMP:20260420T132309
CREATED:20240925T160147Z
LAST-MODIFIED:20241020T123423Z
UID:10000848-1728642600-1728649800@negozee.com
SUMMARY:Hispanic Heritage Month Celebration
DESCRIPTION:Days Hours Minutes Seconds\n \n¡Únete a nuestra celebración del Mes de la Herencia Hispana!\nTe invitamos a nuestro webinar especial el 11 de octubre a las 10:30 AM (hora del Pacífico) para celebrar juntos nuestra cultura y herencia. \nContaremos con la participación de todos nuestros brands aliados\, quienes compartirán sus experiencias y visiones. ¡Es la oportunidad perfecta para conectar con otros miembros de nuestra comunidad latina y fortalecer nuestros lazos! \nEn este evento\, exploraremos temas como: \n\nEl impacto de los latinos en la industria\nLas últimas tendencias en el mercado\nOportunidades de crecimiento para nuestra comunidad\n\n¡También estaremos lanzando nuestra Magazine del Hispanic Heritage Month! \n¡Conéctate con otros latinos\, inspírate y sé parte del movimiento! \n\nRegístrate\n\n\n\nAdd to calendar \n \n\nGoogle Calendar\niCalendar\nOutlook 365\nOutlook Live
URL:https://negozee.com/event/hispanic-heritage-month-celebration/
CATEGORIES:Clase Virtual,Community Event,Webinar
ATTACH;FMTTYPE=image/png:https://wp-negozee-conent.s3.amazonaws.com/wp-content/uploads/2024/09/26085428/Hispanic-Heritage-Month-negozee-1_SoldOut.png
ORGANIZER;CN="negozee":MAILTO:info@negozee.com
END:VEVENT
END:VCALENDAR