BEGIN:VCALENDAR
VERSION:2.0
PRODID:-//negozee - ECPv6.15.12.2//NONSGML v1.0//EN
CALSCALE:GREGORIAN
METHOD:PUBLISH
X-ORIGINAL-URL:https://negozee.com
X-WR-CALDESC:Events for negozee
REFRESH-INTERVAL;VALUE=DURATION:PT1H
X-Robots-Tag:noindex
X-PUBLISHED-TTL:PT1H
BEGIN:VTIMEZONE
TZID:America/Los_Angeles
BEGIN:DAYLIGHT
TZOFFSETFROM:-0800
TZOFFSETTO:-0700
TZNAME:PDT
DTSTART:20230312T100000
END:DAYLIGHT
BEGIN:STANDARD
TZOFFSETFROM:-0700
TZOFFSETTO:-0800
TZNAME:PST
DTSTART:20231105T090000
END:STANDARD
BEGIN:DAYLIGHT
TZOFFSETFROM:-0800
TZOFFSETTO:-0700
TZNAME:PDT
DTSTART:20240310T100000
END:DAYLIGHT
BEGIN:STANDARD
TZOFFSETFROM:-0700
TZOFFSETTO:-0800
TZNAME:PST
DTSTART:20241103T090000
END:STANDARD
BEGIN:DAYLIGHT
TZOFFSETFROM:-0800
TZOFFSETTO:-0700
TZNAME:PDT
DTSTART:20250309T100000
END:DAYLIGHT
BEGIN:STANDARD
TZOFFSETFROM:-0700
TZOFFSETTO:-0800
TZNAME:PST
DTSTART:20251102T090000
END:STANDARD
END:VTIMEZONE
BEGIN:VEVENT
DTSTART;TZID=America/Los_Angeles:20241010T140000
DTEND;TZID=America/Los_Angeles:20241010T150000
DTSTAMP:20260420T103331
CREATED:20241008T203453Z
LAST-MODIFIED:20241019T135255Z
UID:10000874-1728568800-1728572400@negozee.com
SUMMARY:Tax Plan Expert Advisors
DESCRIPTION:Days Hours Minutes Seconds \n¿Qué puede esperar de la capacitación?\nDespués de la capacitación: </strong > \n\nTiene confianza porque conoce la nueva forma de conseguir clientes de alto valor que ganan mucho dinero.\nTiene un plan para cobrar por su asesoramiento.\nTiene la tranquilidad de encontrar clientes que ganen más de $500\,000 al año\, lo cual es fácil.\nEstá más concentrado porque sabe qué estrategias debe aplicar.\nEstá entusiasmado por cobrar $5\, $10\, $20\, $20 por sus servicios de planificación fiscal.\nSabe exactamente qué hacer para hacer crecer su práctica de planificación fiscal.\n\nFecha y hora: \nJueves 10 de Octubre  a las 2:00 pm hora CDT \n\nRegístrate\n\n\n\nAdd to calendar \n \n\nGoogle Calendar\niCalendar\nOutlook 365\nOutlook Live
URL:https://negozee.com/event/tax-plan-expert-advisors/
CATEGORIES:Webinar
ATTACH;FMTTYPE=image/png:https://wp-negozee-conent.s3.amazonaws.com/wp-content/uploads/2024/10/26085429/Expande-tus-Finanzas-negozee-THUMBNAIL_SoldOut.png
ORGANIZER;CN="negozee":MAILTO:info@negozee.com
END:VEVENT
END:VCALENDAR