BEGIN:VCALENDAR
VERSION:2.0
PRODID:-//negozee - ECPv6.15.12.2//NONSGML v1.0//EN
CALSCALE:GREGORIAN
METHOD:PUBLISH
X-ORIGINAL-URL:https://negozee.com
X-WR-CALDESC:Events for negozee
REFRESH-INTERVAL;VALUE=DURATION:PT1H
X-Robots-Tag:noindex
X-PUBLISHED-TTL:PT1H
BEGIN:VTIMEZONE
TZID:America/Los_Angeles
BEGIN:DAYLIGHT
TZOFFSETFROM:-0800
TZOFFSETTO:-0700
TZNAME:PDT
DTSTART:20230312T100000
END:DAYLIGHT
BEGIN:STANDARD
TZOFFSETFROM:-0700
TZOFFSETTO:-0800
TZNAME:PST
DTSTART:20231105T090000
END:STANDARD
BEGIN:DAYLIGHT
TZOFFSETFROM:-0800
TZOFFSETTO:-0700
TZNAME:PDT
DTSTART:20240310T100000
END:DAYLIGHT
BEGIN:STANDARD
TZOFFSETFROM:-0700
TZOFFSETTO:-0800
TZNAME:PST
DTSTART:20241103T090000
END:STANDARD
BEGIN:DAYLIGHT
TZOFFSETFROM:-0800
TZOFFSETTO:-0700
TZNAME:PDT
DTSTART:20250309T100000
END:DAYLIGHT
BEGIN:STANDARD
TZOFFSETFROM:-0700
TZOFFSETTO:-0800
TZNAME:PST
DTSTART:20251102T090000
END:STANDARD
END:VTIMEZONE
BEGIN:VEVENT
DTSTART;TZID=America/Los_Angeles:20241002T160000
DTEND;TZID=America/Los_Angeles:20241002T180000
DTSTAMP:20260420T092444
CREATED:20241001T040009Z
LAST-MODIFIED:20241019T132903Z
UID:10000855-1727884800-1727892000@negozee.com
SUMMARY:Mujeres Emprendiendo Sin Límites [Webinar]
DESCRIPTION:Days Hours Minutes Seconds\n \nMujeres Emprendiendo sin Límites es una serie de webinars mensuales organizada por Negozee\, diseñada para empoderar a mujeres emprendedoras y líderes empresariales. Únete a nosotros en nuestro próximo webinar el 2 de Octubre de 2024\, de 4:00 pm a 5:30 pm am PDT\, para explorar el tema esencial de “Detrás de la Auditoría: Lo que el IRS Busca en tu Declaración de Impuestos”. Contaremos con la presencia de la destacada conferencista Jessenia Velásquez. \n\nZoom Link\n\n\n\nAdd to calendar \n \n\nGoogle Calendar\niCalendar\nOutlook 365\nOutlook Live\n\n\nDetrás de la Auditoría: Lo que el IRS Busca en tu Declaración de Impuestos\n¿Te preocupa una auditoría del IRS? Entendemos tus inquietudes. El Servicio de Impuestos Internos revisa tus declaraciones para asegurarse de que todo esté en orden. ¿Qué buscan? Verifican que tus ingresos y deducciones sean correctos\, que hayas seguido las reglas y que no haya errores. ¿Por qué te podrían auditar? Si tus números son muy distintos a los de otros\, si hay errores evidentes\, si tu situación financiera cambió mucho o si hiciste transacciones inusuales. \n\nJessenia Velásquez\nJessenia Velázquez is a dedicated Houston-based entrepreneur\, mother of three\, and a wife on a mission to help businesses thrive with personalized management and administrative services in all 50 states. Her journey began in 2018 when an unexpected layoff pushed her beyond her comfort zone and inspired her to take control of her career. She dove into tax preparation and bookkeeping courses\, initially helping family and friends optimize their tax returns\, which unveiled a significant gap in business administration services available to the Hispanic community in Houston.
URL:https://negozee.com/event/mujeres-emprendiendo-sin-limites-webinar-3/
CATEGORIES:Charla,Clase Virtual,Webinar
ATTACH;FMTTYPE=image/png:https://wp-negozee-conent.s3.amazonaws.com/wp-content/uploads/2024/09/26085431/Mujeres-emprendiendo-Sin-limites-Jessenia-Velasquez-negozee_SoldOut.png
ORGANIZER;CN="negozee":MAILTO:info@negozee.com
END:VEVENT
END:VCALENDAR