BEGIN:VCALENDAR
VERSION:2.0
PRODID:-//negozee - ECPv6.15.12.2//NONSGML v1.0//EN
CALSCALE:GREGORIAN
METHOD:PUBLISH
X-WR-CALNAME:negozee
X-ORIGINAL-URL:https://negozee.com
X-WR-CALDESC:Events for negozee
REFRESH-INTERVAL;VALUE=DURATION:PT1H
X-Robots-Tag:noindex
X-PUBLISHED-TTL:PT1H
BEGIN:VTIMEZONE
TZID:America/Los_Angeles
BEGIN:DAYLIGHT
TZOFFSETFROM:-0800
TZOFFSETTO:-0700
TZNAME:PDT
DTSTART:20230312T100000
END:DAYLIGHT
BEGIN:STANDARD
TZOFFSETFROM:-0700
TZOFFSETTO:-0800
TZNAME:PST
DTSTART:20231105T090000
END:STANDARD
BEGIN:DAYLIGHT
TZOFFSETFROM:-0800
TZOFFSETTO:-0700
TZNAME:PDT
DTSTART:20240310T100000
END:DAYLIGHT
BEGIN:STANDARD
TZOFFSETFROM:-0700
TZOFFSETTO:-0800
TZNAME:PST
DTSTART:20241103T090000
END:STANDARD
BEGIN:DAYLIGHT
TZOFFSETFROM:-0800
TZOFFSETTO:-0700
TZNAME:PDT
DTSTART:20250309T100000
END:DAYLIGHT
BEGIN:STANDARD
TZOFFSETFROM:-0700
TZOFFSETTO:-0800
TZNAME:PST
DTSTART:20251102T090000
END:STANDARD
END:VTIMEZONE
BEGIN:VEVENT
DTSTART;TZID=America/Los_Angeles:20240924T113000
DTEND;TZID=America/Los_Angeles:20240924T133000
DTSTAMP:20260420T115209
CREATED:20240913T160511Z
LAST-MODIFIED:20241019T131756Z
UID:10000841-1727177400-1727184600@negozee.com
SUMMARY:Practice Management with TaxDome
DESCRIPTION:Days Hours Minutes Seconds \n¡Aumenta la eficiencia de tu despacho con TaxDome!\n¿Estás cansado de perder tiempo en tareas administrativas? ¿Quieres mejorar la eficiencia y productividad de tu equipo? ¡Tenemos la solución perfecta para ti! \nTe invitamos a nuestro webinar gratuito en donde descubrirás cómo TaxDome puede transformar la gestión de tu despacho. \n¿Qué aprenderás? \n\nAutomatización de procesos: Descubre cómo automatizar tareas repetitivas como la generación de facturas\, el seguimiento de pagos y la gestión de documentos para ahorrar tiempo y reducir errores.\nGestión de clientes: Aprende a centralizar toda la información de tus clientes en un solo lugar\, mejorar la comunicación y ofrecer un servicio más personalizado.\nColaboración en equipo: Descubre cómo mejorar la colaboración entre los miembros de tu equipo\, asignar tareas\, realizar un seguimiento del progreso y tomar decisiones más informadas.\nIntegraciones con otras herramientas: Aprende cómo integrar TaxDome con otras herramientas que ya utilizas\, como programas de contabilidad\, plataformas de firma electrónica y más.\n\n¡Ahorra tiempo y mejora tu productividad! Regístrate ahora para nuestro webinar gratuito el martes 24 de septiembre a las 11:30 AM. \n\nRegístrate\n\n\n\nAdd to calendar \n  \n\nGoogle Calendar\niCalendar\nOutlook 365\nOutlook Live\n\n\nTaxDome\nTaxDome es un software de gestión de despachos profesionales para empresas de impuestos\, contabilidad y teneduría de libros. Ofrece una variedad de funciones\, incluyendo la gestión del tiempo y la facturación\, la automatización de los flujos de trabajo\, la gestión de equipos y clientes\, y el almacenamiento de documentos. TaxDome también se integra con una variedad de programas de impuestos y proveedores de pagos.\nPuedes encontrar más información sobre TaxDome en su sitio web: taxdome.com/en-int
URL:https://negozee.com/event/practice-managment-with-taxdome/
CATEGORIES:Clase Virtual,Webinar
ATTACH;FMTTYPE=image/png:https://wp-negozee-conent.s3.amazonaws.com/wp-content/uploads/2024/09/26085432/Practice-Managment-with-TaxDome-8_SoldOut.png
ORGANIZER;CN="negozee":MAILTO:info@negozee.com
END:VEVENT
END:VCALENDAR