BEGIN:VCALENDAR
VERSION:2.0
PRODID:-//negozee - ECPv6.15.12.2//NONSGML v1.0//EN
CALSCALE:GREGORIAN
METHOD:PUBLISH
X-WR-CALNAME:negozee
X-ORIGINAL-URL:https://negozee.com
X-WR-CALDESC:Events for negozee
REFRESH-INTERVAL;VALUE=DURATION:PT1H
X-Robots-Tag:noindex
X-PUBLISHED-TTL:PT1H
BEGIN:VTIMEZONE
TZID:America/Los_Angeles
BEGIN:DAYLIGHT
TZOFFSETFROM:-0800
TZOFFSETTO:-0700
TZNAME:PDT
DTSTART:20230312T100000
END:DAYLIGHT
BEGIN:STANDARD
TZOFFSETFROM:-0700
TZOFFSETTO:-0800
TZNAME:PST
DTSTART:20231105T090000
END:STANDARD
BEGIN:DAYLIGHT
TZOFFSETFROM:-0800
TZOFFSETTO:-0700
TZNAME:PDT
DTSTART:20240310T100000
END:DAYLIGHT
BEGIN:STANDARD
TZOFFSETFROM:-0700
TZOFFSETTO:-0800
TZNAME:PST
DTSTART:20241103T090000
END:STANDARD
BEGIN:DAYLIGHT
TZOFFSETFROM:-0800
TZOFFSETTO:-0700
TZNAME:PDT
DTSTART:20250309T100000
END:DAYLIGHT
BEGIN:STANDARD
TZOFFSETFROM:-0700
TZOFFSETTO:-0800
TZNAME:PST
DTSTART:20251102T090000
END:STANDARD
END:VTIMEZONE
BEGIN:VEVENT
DTSTART;TZID=America/Los_Angeles:20240904T160000
DTEND;TZID=America/Los_Angeles:20240904T180000
DTSTAMP:20260420T132308
CREATED:20240828T162917Z
LAST-MODIFIED:20240916T164233Z
UID:10000830-1725465600-1725472800@negozee.com
SUMMARY:Mujeres Emprendiendo Sin Límites [Webinar]
DESCRIPTION:Days Hours Minutes Seconds\n \nMujeres Emprendiendo sin Límites es una serie de webinars mensuales organizada por Negozee\, diseñada para empoderar a mujeres emprendedoras y líderes empresariales. Únete a nosotros en nuestro próximo webinar el 4 de Septiembre\, de 4:00 pm PDT a 5:30 pm PDT\, para explorar el tema esencial de Registro de Empresas para Mujeres y Minorías. Contaremos con la presencia de la destacada conferencista Olga Alcaraz\, quien compartirá su experiencia y conocimientos. \n\nRegistro de Empresas para Mujeres y Minorías\nEmpodera tu negocio: El registro de empresas para mujeres y minorías te brinda acceso a oportunidades exclusivas\, financiamiento y redes de apoyo para que tu emprendimiento alcance su máximo potencial. \n\nOlga Alcaraz\nNacida con un fuerte espíritu emprendedor y una creencia innata en la capacitación de los demás a través del rendimiento\, ha cultivado la sensibilidad crítica necesaria para trabajar con éxito junto a algunas de las mentes más reconocidas y brillantes de Wall Street. \n\nZoom Link\n\n\n\nAdd to calendar \n  \n\nGoogle Calendar\niCalendar\nOutlook 365\nOutlook Live
URL:https://negozee.com/event/mujeres-emprendiendo-sin-limites-webinar-2/
CATEGORIES:Charla,Clase Virtual,Webinar
ATTACH;FMTTYPE=image/png:https://wp-negozee-conent.s3.amazonaws.com/wp-content/uploads/2024/08/26085808/Mujeres-emprendiendo-Sin-limites-Olga-Alcaraz-negozee-1_SoldOut.png
ORGANIZER;CN="negozee":MAILTO:info@negozee.com
END:VEVENT
END:VCALENDAR