BEGIN:VCALENDAR
VERSION:2.0
PRODID:-//negozee - ECPv6.15.12.2//NONSGML v1.0//EN
CALSCALE:GREGORIAN
METHOD:PUBLISH
X-WR-CALNAME:negozee
X-ORIGINAL-URL:https://negozee.com
X-WR-CALDESC:Events for negozee
REFRESH-INTERVAL;VALUE=DURATION:PT1H
X-Robots-Tag:noindex
X-PUBLISHED-TTL:PT1H
BEGIN:VTIMEZONE
TZID:America/Los_Angeles
BEGIN:DAYLIGHT
TZOFFSETFROM:-0800
TZOFFSETTO:-0700
TZNAME:PDT
DTSTART:20230312T100000
END:DAYLIGHT
BEGIN:STANDARD
TZOFFSETFROM:-0700
TZOFFSETTO:-0800
TZNAME:PST
DTSTART:20231105T090000
END:STANDARD
BEGIN:DAYLIGHT
TZOFFSETFROM:-0800
TZOFFSETTO:-0700
TZNAME:PDT
DTSTART:20240310T100000
END:DAYLIGHT
BEGIN:STANDARD
TZOFFSETFROM:-0700
TZOFFSETTO:-0800
TZNAME:PST
DTSTART:20241103T090000
END:STANDARD
BEGIN:DAYLIGHT
TZOFFSETFROM:-0800
TZOFFSETTO:-0700
TZNAME:PDT
DTSTART:20250309T100000
END:DAYLIGHT
BEGIN:STANDARD
TZOFFSETFROM:-0700
TZOFFSETTO:-0800
TZNAME:PST
DTSTART:20251102T090000
END:STANDARD
END:VTIMEZONE
BEGIN:VEVENT
DTSTART;TZID=America/Los_Angeles:20240824T060000
DTEND;TZID=America/Los_Angeles:20240824T090000
DTSTAMP:20260420T163758
CREATED:20240627T035711Z
LAST-MODIFIED:20240826T154936Z
UID:10000798-1724479200-1724490000@negozee.com
SUMMARY:Cafecito con Negozee ATLANTA
DESCRIPTION:Estamos muy emocionados de anunciar el Cafecito con Negozee Atlanta\, que se llevará a cabo el 24 de agosto de 9:00 am a 12:00 pm.\nEste evento es una excelente oportunidad para que nuestra comunidad de emprendedores y profesionales latinos se reúna\, aprenda y crezca juntos en un ambiente relajado y acogedor. \nEn esta edición de Cafecito con Negozee Atlanta\, contaremos con tres ponencias excepcionales: \n\nContabilidad Consciente con Luisa Núñez: Descubre cómo una gestión contable consciente puede transformar tu negocio. Luisa Núñez te guiará a través de prácticas contables eficientes que no solo asegurarán el cumplimiento fiscal\, sino que también contribuirán al crecimiento sostenible de tu empresa.\nITIN: Su importancia en la Comunidad Latina con Claudia Ruiz: Aprende sobre el Número de Identificación Personal del Contribuyente (ITIN) y su relevancia para los emprendedores latinos en Estados Unidos. Claudia Ruiz te explicará cómo obtenerlo y utilizarlo para acceder a servicios financieros\, presentar declaraciones de impuestos y abrir puertas a nuevas oportunidades económicas.\nMentalidad Emprendedora con Antonio Quintero: La mentalidad es clave para el éxito empresarial. Antonio Quintero compartirá estrategias y consejos para desarrollar una mentalidad emprendedora sólida\, capaz de enfrentar desafíos y aprovechar oportunidades en el dinámico mundo de los negocios.\n\nHay 3 maneras para registrarte y obtener tu boleto:\n1. Registrate y compra un ticket por $36 below. \n2. Inscríbete a la membresía de negozee por $28 al mes y recibe acceso al evento. \n3. Members VIP Activos: ¿Ya eres member de negozee? Haz RSVP below. \nNo te pierdas esta oportunidad de enriquecerte con conocimientos valiosos\, conectar con otros profesionales y llevar tu negocio al siguiente nivel.\n¡Te esperamos en Cafecito con Negozee Atlanta!
URL:https://negozee.com/event/cafecito-con-negozee-atlanta/
LOCATION:Atlanta\, 6600 Peachtree Dunwoody Rd #260 Atlanta\, GA 30328\, Atlanta\, GA\, 30328\, United States
CATEGORIES:Community Event,Evento Presencial
ATTACH;FMTTYPE=image/png:https://wp-negozee-conent.s3.amazonaws.com/wp-content/uploads/2024/06/26090024/CAFECITO-CON-NEGOZEE-WEB-1_SoldOut.png
ORGANIZER;CN="negozee":MAILTO:info@negozee.com
END:VEVENT
END:VCALENDAR