BEGIN:VCALENDAR
VERSION:2.0
PRODID:-//negozee - ECPv6.15.12.2//NONSGML v1.0//EN
CALSCALE:GREGORIAN
METHOD:PUBLISH
X-WR-CALNAME:negozee
X-ORIGINAL-URL:https://negozee.com
X-WR-CALDESC:Events for negozee
REFRESH-INTERVAL;VALUE=DURATION:PT1H
X-Robots-Tag:noindex
X-PUBLISHED-TTL:PT1H
BEGIN:VTIMEZONE
TZID:America/Los_Angeles
BEGIN:DAYLIGHT
TZOFFSETFROM:-0800
TZOFFSETTO:-0700
TZNAME:PDT
DTSTART:20230312T100000
END:DAYLIGHT
BEGIN:STANDARD
TZOFFSETFROM:-0700
TZOFFSETTO:-0800
TZNAME:PST
DTSTART:20231105T090000
END:STANDARD
BEGIN:DAYLIGHT
TZOFFSETFROM:-0800
TZOFFSETTO:-0700
TZNAME:PDT
DTSTART:20240310T100000
END:DAYLIGHT
BEGIN:STANDARD
TZOFFSETFROM:-0700
TZOFFSETTO:-0800
TZNAME:PST
DTSTART:20241103T090000
END:STANDARD
BEGIN:DAYLIGHT
TZOFFSETFROM:-0800
TZOFFSETTO:-0700
TZNAME:PDT
DTSTART:20250309T100000
END:DAYLIGHT
BEGIN:STANDARD
TZOFFSETFROM:-0700
TZOFFSETTO:-0800
TZNAME:PST
DTSTART:20251102T090000
END:STANDARD
END:VTIMEZONE
BEGIN:VEVENT
DTSTART;TZID=America/Los_Angeles:20240726T070000
DTEND;TZID=America/Los_Angeles:20240726T083000
DTSTAMP:20260420T181630
CREATED:20240725T143038Z
LAST-MODIFIED:20240816T212248Z
UID:10000815-1721977200-1721982600@negozee.com
SUMMARY:Wake-up Call Friday [zoom virtual] - Auditorias del Schedule C
DESCRIPTION:Charla Virtual\n\nEste Viernes nos juntamos en Wake-up Call Friday para hablar de Auditorias del Schedule C – ¿Cómo prevenirlas? \n……… \n\nHay 3 maneras para ingresar al zoom virtual:\n1.  Registrarte por $36 below. \n2. Inscríbete a la membresía de negozee por $28 al mes y recibe acceso. \n3. Members VIP Activos: ¿Ya eres member de negozee? Ingresa al zoom aquí \n………………. \n\nViernes: \nLa charla comienza a las: \n7:00am PT – California\n9:00am CT – Texas\n10:00am ET – New York
URL:https://negozee.com/event/wake-up-call-friday-zoom-virtual-4/
CATEGORIES:Clase Virtual,Webinar
ATTACH;FMTTYPE=image/png:https://wp-negozee-conent.s3.amazonaws.com/wp-content/uploads/2024/07/26090103/AUDITORIAS-DEL-SCHEDULE-C-NEGOZEEWAKE-UP-CALL-FRIDAY-1_SoldOut.png
ORGANIZER;CN="negozee":MAILTO:info@negozee.com
END:VEVENT
BEGIN:VEVENT
DTSTART;TZID=America/Los_Angeles:20240726T070000
DTEND;TZID=America/Los_Angeles:20240726T083000
DTSTAMP:20260420T181630
CREATED:20240808T194351Z
LAST-MODIFIED:20240816T212422Z
UID:10000819-1721977200-1721982600@negozee.com
SUMMARY:Wake-up Call Friday [zoom virtual] - Novio(a) ¿Cómo Depende y Head of Household?
DESCRIPTION:Days Hours Minutes Seconds \nEste Viernes nos juntamos en Wake-up Call Friday\, te invitamos a participar\, este viernes 9 de agosto a las 7:00 AM (hora pacífico)\, donde Jesús Abikarram\, explorará las complejidades de las dinámicas de pareja y las responsabilidades del hogar financieramente. \n\nJesús Abikarram\, EA\nI am a certified John Maxwell Coach\, Trainer and Speaker who specializes in coaching small business leaders\, executives\, entrepreneurs\, and other business-to-business professionals.\nI can help you utilize and optimize your own talents to: Maximize your potential\, Develop your leadership abilities\, Take your business to the next level\, Be more successful in life and in your career\, Become the public speaker you’ve always wanted to be.\nI have helped other small business owners develop business strategies\, implement winning systems\, and grow their operations through both individual and group training sessions. \nHay 3 maneras para ingresar al zoom virtual:\n1.  Registrarte por $36 en Tickets \n2. Inscríbete a la membresía de negozee por $28 al mes y recibe acceso. \n3. Members VIP Activos: ¿Ya eres member de negozee? Ingresa al zoom aquí \n\n\nAdd to calendar \n \n\nGoogle Calendar\niCalendar\nOutlook 365\nOutlook Live\n\n\n\n\n\n \nTickets\nThe numbers below include tickets for this event already in your cart. Clicking “Get Tickets” will allow you to edit any existing attendee information as well as change ticket quantities.\nWake up call Friday\n$\n36.00\n100 available\n\nDecrease ticket quantity for Wake up call Friday\n–\n\nQuantity \n\n\nIncrease ticket quantity for Wake up call Friday\n+\n\nQuantity:\n0\nTotal:\n$\n0.00\n\n¡Boletos!
URL:https://negozee.com/event/wake-up-call-friday-zoom-virtual-novioa-como-depende-y-head-of-household/
CATEGORIES:Clase Virtual,Webinar
ATTACH;FMTTYPE=image/png:https://wp-negozee-conent.s3.amazonaws.com/wp-content/uploads/2024/08/26090103/Novio-a-negozee-head-of-household_SoldOut.png
ORGANIZER;CN="negozee":MAILTO:info@negozee.com
END:VEVENT
BEGIN:VEVENT
DTSTART;TZID=America/Los_Angeles:20240726T160000
DTEND;TZID=America/Los_Angeles:20240726T170000
DTSTAMP:20260420T181630
CREATED:20240717T163734Z
LAST-MODIFIED:20240816T212611Z
UID:10000814-1722009600-1722013200@negozee.com
SUMMARY:Enrolled Agent Mastery [US Tax Alliance]
DESCRIPTION:¿Luchando por Avanzar en Tu\nCarrera de Impuestos?\n\n \n\nPrimer modulo: 08/26/2024 – 09/06/2024\nSegundo modulo: 09/23/2024 – 10/04/2024\nTercer modulo: 11/18/2024 – 11/22/2024\n\n\nREGÍSTRATE AHORA
URL:https://negozee.com/event/enrolled-agent-mastery-us-tax-alliance/
CATEGORIES:Clase Virtual,Webinar
ATTACH;FMTTYPE=image/png:https://wp-negozee-conent.s3.amazonaws.com/wp-content/uploads/2024/07/26090102/Club-Card-US-Tax-Alliance_page-0001-2_SoldOut.png
ORGANIZER;CN="negozee":MAILTO:info@negozee.com
END:VEVENT
END:VCALENDAR