BEGIN:VCALENDAR
VERSION:2.0
PRODID:-//negozee - ECPv6.15.12.2//NONSGML v1.0//EN
CALSCALE:GREGORIAN
METHOD:PUBLISH
X-WR-CALNAME:negozee
X-ORIGINAL-URL:https://negozee.com
X-WR-CALDESC:Events for negozee
REFRESH-INTERVAL;VALUE=DURATION:PT1H
X-Robots-Tag:noindex
X-PUBLISHED-TTL:PT1H
BEGIN:VTIMEZONE
TZID:America/Los_Angeles
BEGIN:DAYLIGHT
TZOFFSETFROM:-0800
TZOFFSETTO:-0700
TZNAME:PDT
DTSTART:20230312T100000
END:DAYLIGHT
BEGIN:STANDARD
TZOFFSETFROM:-0700
TZOFFSETTO:-0800
TZNAME:PST
DTSTART:20231105T090000
END:STANDARD
BEGIN:DAYLIGHT
TZOFFSETFROM:-0800
TZOFFSETTO:-0700
TZNAME:PDT
DTSTART:20240310T100000
END:DAYLIGHT
BEGIN:STANDARD
TZOFFSETFROM:-0700
TZOFFSETTO:-0800
TZNAME:PST
DTSTART:20241103T090000
END:STANDARD
BEGIN:DAYLIGHT
TZOFFSETFROM:-0800
TZOFFSETTO:-0700
TZNAME:PDT
DTSTART:20250309T100000
END:DAYLIGHT
BEGIN:STANDARD
TZOFFSETFROM:-0700
TZOFFSETTO:-0800
TZNAME:PST
DTSTART:20251102T090000
END:STANDARD
END:VTIMEZONE
BEGIN:VEVENT
DTSTART;TZID=America/Los_Angeles:20240709T160000
DTEND;TZID=America/Los_Angeles:20240709T170000
DTSTAMP:20260420T163757
CREATED:20240607T003738Z
LAST-MODIFIED:20240712T184636Z
UID:10000783-1720540800-1720544400@negozee.com
SUMMARY:Q&A con Sergio Jiménez [Zoom event]
DESCRIPTION:Pregúntele en vivo a Sergio Jiménez\n\nHay 3 maneras para registrarte y obtener tu boleto:\n1. Haz clic aquí para registrarte por $36. \n2. Inscríbete a la membresía de negozee por $28 al mes y recibe acceso al evento. \n3. Members VIP Activos: ¿Ya eres member de negozee? Haz RSVP below. \n\n\nNo pierda esta oportunidad única de charlar en vivo con nuestro experto.\n\n\nMartes 9 de Julio\, 4pm (PDT)\n\n\nSergio Jiménez\, además de abogado\, también es un profesional certificado en planificación financiera (CFP)\, quien cuenta con los más rigurosos estándares y conocimiento actualizado puesto a su servicio.\n\n…\n\nCon él podrá resolver sus dudas en cuanto a:\n\n\n\nPlanificación de negocios\nPlanificación Patrimonial\nDerecho financiero y de inversiones\nImpuestos globales\nDerecho empresarial\nServicios de oficina familiar\n\n\n…… \nPublic: $36\nnegoziante VIP: $0
URL:https://negozee.com/event/qa-con-sergio-jimenez/
CATEGORIES:Meeting
ATTACH;FMTTYPE=image/png:https://wp-negozee-conent.s3.amazonaws.com/wp-content/uploads/2024/06/26090348/Webinars-WEB-1_SoldOut.png
ORGANIZER;CN="negozee":MAILTO:info@negozee.com
END:VEVENT
END:VCALENDAR