BEGIN:VCALENDAR
VERSION:2.0
PRODID:-//negozee - ECPv6.15.12.2//NONSGML v1.0//EN
CALSCALE:GREGORIAN
METHOD:PUBLISH
X-ORIGINAL-URL:https://negozee.com
X-WR-CALDESC:Events for negozee
REFRESH-INTERVAL;VALUE=DURATION:PT1H
X-Robots-Tag:noindex
X-PUBLISHED-TTL:PT1H
BEGIN:VTIMEZONE
TZID:America/Los_Angeles
BEGIN:DAYLIGHT
TZOFFSETFROM:-0800
TZOFFSETTO:-0700
TZNAME:PDT
DTSTART:20230312T100000
END:DAYLIGHT
BEGIN:STANDARD
TZOFFSETFROM:-0700
TZOFFSETTO:-0800
TZNAME:PST
DTSTART:20231105T090000
END:STANDARD
BEGIN:DAYLIGHT
TZOFFSETFROM:-0800
TZOFFSETTO:-0700
TZNAME:PDT
DTSTART:20240310T100000
END:DAYLIGHT
BEGIN:STANDARD
TZOFFSETFROM:-0700
TZOFFSETTO:-0800
TZNAME:PST
DTSTART:20241103T090000
END:STANDARD
BEGIN:DAYLIGHT
TZOFFSETFROM:-0800
TZOFFSETTO:-0700
TZNAME:PDT
DTSTART:20250309T100000
END:DAYLIGHT
BEGIN:STANDARD
TZOFFSETFROM:-0700
TZOFFSETTO:-0800
TZNAME:PST
DTSTART:20251102T090000
END:STANDARD
END:VTIMEZONE
BEGIN:VEVENT
DTSTART;TZID=America/Los_Angeles:20240620T110000
DTEND;TZID=America/Los_Angeles:20240620T130000
DTSTAMP:20260421T012359
CREATED:20240522T230346Z
LAST-MODIFIED:20240712T171442Z
UID:10000786-1718881200-1718888400@negozee.com
SUMMARY:Unlocking Wealth: Tax Strategies & Estate Planning for Professionals
DESCRIPTION:negozee Member Meetup\nJoin us for an exclusive event tailored to real estate industry professionals seeking to maximize their wealth and protect their assets. Gain valuable insights from industry experts in tax and estate planning\, designed to elevate your financial strategies and secure your future. \nPanelists\nTax Advisor – Antonio Martinez\, EA\nEstate Planning Attorney – Rafael Godoy\nReal Estate Professional – Jessica Ceja\nInsurance Professional – Edder Barcenas-Cortez\nTopics\nBusiness Succession Plan – ¿Qué sucede con su negocio si fallece?\nEstate Planning – ¿Qué sucede con su propiedad despues de que fallece?\nTax Planning – Como reducir sus impuestos en 2025.\nLocation\nSilicon Valley University: 2010 Fortune Dr. San Jose\, CA 95131\nAgenda\n11:00am to 11:30am Bienvenidos / Networking\n11:30pm to 12:30pm Panel de Expertos / Preguntas & Respuestas\n12:30pm to 1:30pm Thank You / Networking / Lunch\nPRICE: \nPublic: $68 \nPremium Members: $0 \nNot a premium member yet? Join today for $28 / month.
URL:https://negozee.com/event/san-jose-member-meetup/
LOCATION:Silicon Valley University\, 2010 Fortune Drive\, San Jose\, 95131\, United States
ATTACH;FMTTYPE=image/png:https://wp-negozee-conent.s3.amazonaws.com/wp-content/uploads/2024/05/26090353/image-1_SoldOut.png
ORGANIZER;CN="negozee":MAILTO:info@negozee.com
END:VEVENT
END:VCALENDAR