BEGIN:VCALENDAR
VERSION:2.0
PRODID:-//negozee - ECPv6.15.12.2//NONSGML v1.0//EN
CALSCALE:GREGORIAN
METHOD:PUBLISH
X-ORIGINAL-URL:https://negozee.com
X-WR-CALDESC:Events for negozee
REFRESH-INTERVAL;VALUE=DURATION:PT1H
X-Robots-Tag:noindex
X-PUBLISHED-TTL:PT1H
BEGIN:VTIMEZONE
TZID:America/Los_Angeles
BEGIN:DAYLIGHT
TZOFFSETFROM:-0800
TZOFFSETTO:-0700
TZNAME:PDT
DTSTART:20230312T100000
END:DAYLIGHT
BEGIN:STANDARD
TZOFFSETFROM:-0700
TZOFFSETTO:-0800
TZNAME:PST
DTSTART:20231105T090000
END:STANDARD
BEGIN:DAYLIGHT
TZOFFSETFROM:-0800
TZOFFSETTO:-0700
TZNAME:PDT
DTSTART:20240310T100000
END:DAYLIGHT
BEGIN:STANDARD
TZOFFSETFROM:-0700
TZOFFSETTO:-0800
TZNAME:PST
DTSTART:20241103T090000
END:STANDARD
BEGIN:DAYLIGHT
TZOFFSETFROM:-0800
TZOFFSETTO:-0700
TZNAME:PDT
DTSTART:20250309T100000
END:DAYLIGHT
BEGIN:STANDARD
TZOFFSETFROM:-0700
TZOFFSETTO:-0800
TZNAME:PST
DTSTART:20251102T090000
END:STANDARD
END:VTIMEZONE
BEGIN:VEVENT
DTSTART;TZID=America/Los_Angeles:20240619T163000
DTEND;TZID=America/Los_Angeles:20240619T170000
DTSTAMP:20260421T035815
CREATED:20240619T154858Z
LAST-MODIFIED:20240712T171043Z
UID:10000779-1718814600-1718816400@negozee.com
SUMMARY:Tecnología para Negocios [zoom virtual]
DESCRIPTION:Regístrese para el siguiente episodio y descubra las mejores estrategias para potenciar su negocio. \nNuestra experta Luisa Nunez te enseña cómo utilizar herramientas y aplicaciones para hacer crecer su negocio. \nIngresa al zoom aquí \nhttps://bit.ly/technegocios-negozee \n  \n………. \nAcerca del webinar \nCrece tu negocio con tecnología \nAGENDA \nEl webinar comienza a las: \n4:30pm PT – California\n7:30pm ET – New York \n……… \nMiércoles 17 de Abril \nMiércoles 15 de Mayo \nMiércoles 19 de Junio
URL:https://negozee.com/event/tecnologia-para-negocios-zoom-virtual-2/
ATTACH;FMTTYPE=image/png:https://wp-negozee-conent.s3.amazonaws.com/wp-content/uploads/2024/06/26090353/Negozee-Webinar-Tecnologia_SoldOut.png
ORGANIZER;CN="negozee":MAILTO:info@negozee.com
END:VEVENT
END:VCALENDAR