BEGIN:VCALENDAR
VERSION:2.0
PRODID:-//negozee - ECPv6.15.12.2//NONSGML v1.0//EN
CALSCALE:GREGORIAN
METHOD:PUBLISH
X-ORIGINAL-URL:https://negozee.com
X-WR-CALDESC:Events for negozee
REFRESH-INTERVAL;VALUE=DURATION:PT1H
X-Robots-Tag:noindex
X-PUBLISHED-TTL:PT1H
BEGIN:VTIMEZONE
TZID:America/Los_Angeles
BEGIN:DAYLIGHT
TZOFFSETFROM:-0800
TZOFFSETTO:-0700
TZNAME:PDT
DTSTART:20230312T100000
END:DAYLIGHT
BEGIN:STANDARD
TZOFFSETFROM:-0700
TZOFFSETTO:-0800
TZNAME:PST
DTSTART:20231105T090000
END:STANDARD
BEGIN:DAYLIGHT
TZOFFSETFROM:-0800
TZOFFSETTO:-0700
TZNAME:PDT
DTSTART:20240310T100000
END:DAYLIGHT
BEGIN:STANDARD
TZOFFSETFROM:-0700
TZOFFSETTO:-0800
TZNAME:PST
DTSTART:20241103T090000
END:STANDARD
BEGIN:DAYLIGHT
TZOFFSETFROM:-0800
TZOFFSETTO:-0700
TZNAME:PDT
DTSTART:20250309T100000
END:DAYLIGHT
BEGIN:STANDARD
TZOFFSETFROM:-0700
TZOFFSETTO:-0800
TZNAME:PST
DTSTART:20251102T090000
END:STANDARD
END:VTIMEZONE
BEGIN:VEVENT
DTSTART;TZID=America/Los_Angeles:20240618T160000
DTEND;TZID=America/Los_Angeles:20240618T173000
DTSTAMP:20260421T065340
CREATED:20240515T153131Z
LAST-MODIFIED:20240712T170221Z
UID:10000784-1718726400-1718731800@negozee.com
SUMMARY:Atrae clientes con Perfiles de Negocio en línea
DESCRIPTION:Atrae clientes con\nPerfiles de Negocio en línea\nEn este webinar gratuito\, aprenderás a configurar y optimizar tu Perfil de Empresa de Google y otras plataformas para que los clientes te encuentren fácilmente y elijan tus servicios. \n18 De Junio\n4:00 PM (PDT)\n¡Regístrate\nAhora!\n\ndías horas min sec \nNuestro conferencista\n \nRoberto Martínez es un emprendedor\, conferencista y docente con amplia experiencia en marketing digital\, emprendimiento e Inteligencia Artificial. Ha ayudado a escalar cientos de empresas usando la tecnología y colaborado con Google\, Amazon y Stanford. Con más de 1000 talleres de tecnología\, marketing y emprendimiento realizados\, es un apasionado en ayudar a las empresas a crecer y tener éxito en la era digital. \nAprenderás\n\n¡Aparta tu lugar!\n \n\n  \nConfiguración de tu de Perfil de Negocio de Google\nConfigura y optimiza tu perfil de negocio de Google para mejorar la visibilidad de tu empresa en las búsquedas locales y en Google Maps. \n  \n\n  \nAprovechamiento de Yelp y Bing para mayor visibilidad\nReclama y optimiza tus perfiles de negocio en estas plataformas\, responde a las reseñas y atrae a nuevos clientes. \nCreación de perfil de LinkedIn sólido\nConstruye una página de empresa en LinkedIn que atraiga y convierta a clientes potenciales. \n¡Pero eso no es todo!\nRegístrate y obtén estos beneficios exclusivos:\n \nGuía gratuita de 1 página sobre IA para empresas. \n \nAsesoría GRATIS con un experto en IA para ayudarte a implementar las estrategias aprendidas. \n \n¡Y más sorpresas! \nNo te pierdas esta valiosa oportunidad para impulsar tu negocio atrayendo clientes potenciales\, mejorando tu visibilidad y estableciendo tu marca como líder en la industria. \n18 De Junio\n4:00 PM (PDT)\n¡Regístrate\nAhora!\n\n \nLos cupos son limitados\, así que asegura tu lugar hoy mismo.\n\n¡Te esperamos!
URL:https://negozee.com/event/atrae-clientes-con-perfiles-de-negocio-en-linea/
CATEGORIES:Clase Virtual,Webinar
ATTACH;FMTTYPE=image/png:https://wp-negozee-conent.s3.amazonaws.com/wp-content/uploads/2024/05/26090354/Banner-June-02-3_SoldOut.png
END:VEVENT
END:VCALENDAR