BEGIN:VCALENDAR
VERSION:2.0
PRODID:-//negozee - ECPv6.15.12.2//NONSGML v1.0//EN
CALSCALE:GREGORIAN
METHOD:PUBLISH
X-WR-CALNAME:negozee
X-ORIGINAL-URL:https://negozee.com
X-WR-CALDESC:Events for negozee
REFRESH-INTERVAL;VALUE=DURATION:PT1H
X-Robots-Tag:noindex
X-PUBLISHED-TTL:PT1H
BEGIN:VTIMEZONE
TZID:America/Los_Angeles
BEGIN:DAYLIGHT
TZOFFSETFROM:-0800
TZOFFSETTO:-0700
TZNAME:PDT
DTSTART:20230312T100000
END:DAYLIGHT
BEGIN:STANDARD
TZOFFSETFROM:-0700
TZOFFSETTO:-0800
TZNAME:PST
DTSTART:20231105T090000
END:STANDARD
BEGIN:DAYLIGHT
TZOFFSETFROM:-0800
TZOFFSETTO:-0700
TZNAME:PDT
DTSTART:20240310T100000
END:DAYLIGHT
BEGIN:STANDARD
TZOFFSETFROM:-0700
TZOFFSETTO:-0800
TZNAME:PST
DTSTART:20241103T090000
END:STANDARD
BEGIN:DAYLIGHT
TZOFFSETFROM:-0800
TZOFFSETTO:-0700
TZNAME:PDT
DTSTART:20250309T100000
END:DAYLIGHT
BEGIN:STANDARD
TZOFFSETFROM:-0700
TZOFFSETTO:-0800
TZNAME:PST
DTSTART:20251102T090000
END:STANDARD
END:VTIMEZONE
BEGIN:VEVENT
DTSTART;TZID=America/Los_Angeles:20240523T093000
DTEND;TZID=America/Los_Angeles:20240523T160000
DTSTAMP:20260421T141928
CREATED:20240122T233536Z
LAST-MODIFIED:20240712T191906Z
UID:10000732-1716456600-1716480000@negozee.com
SUMMARY:Anaheim Business Seminar
DESCRIPTION:Hay 2 maneras para registrarte y obtener tu boleto:\n1. Inscríbete a la membresía de negozee por $28 al mes y recibe acceso al evento. \n2. Members VIP Activos: ¿Ya eres member de negozee? Registrate y obtén tu boleto aquí. \n…… \nEl Jueves 23 de Mayo nos juntamos con negoziantes para hablar sobre International Tax\, Estates & Trusts\, y finanzas. \n \nHorario / Agenda:  \n10:00am Networking y Cafecito\n10:30am Finanzas e inversiones\n11:30am Break\n12:00pm – Protección de Activos – Sergio Jimenez\, Attorney\n12:30pm International Tax – Jesus Gutierrez\, EA\n1:30pm Networking Lunch\n3:30pm Gracias \nLugar: \nBank of America\n300 S Harbor Blvd\nAnaheim\, CA 92805
URL:https://negozee.com/event/anaheim-llc/
CATEGORIES:Evento Presencial,Mixer,Talleres de Negocio
ATTACH;FMTTYPE=image/png:https://wp-negozee-conent.s3.amazonaws.com/wp-content/uploads/2024/01/26090346/ANAHEIM_EMPRENDE_SoldOut.png
ORGANIZER;CN="negozee":MAILTO:info@negozee.com
END:VEVENT
END:VCALENDAR