BEGIN:VCALENDAR
VERSION:2.0
PRODID:-//negozee - ECPv6.15.12.2//NONSGML v1.0//EN
CALSCALE:GREGORIAN
METHOD:PUBLISH
X-WR-CALNAME:negozee
X-ORIGINAL-URL:https://negozee.com
X-WR-CALDESC:Events for negozee
REFRESH-INTERVAL;VALUE=DURATION:PT1H
X-Robots-Tag:noindex
X-PUBLISHED-TTL:PT1H
BEGIN:VTIMEZONE
TZID:America/Los_Angeles
BEGIN:DAYLIGHT
TZOFFSETFROM:-0800
TZOFFSETTO:-0700
TZNAME:PDT
DTSTART:20230312T100000
END:DAYLIGHT
BEGIN:STANDARD
TZOFFSETFROM:-0700
TZOFFSETTO:-0800
TZNAME:PST
DTSTART:20231105T090000
END:STANDARD
BEGIN:DAYLIGHT
TZOFFSETFROM:-0800
TZOFFSETTO:-0700
TZNAME:PDT
DTSTART:20240310T100000
END:DAYLIGHT
BEGIN:STANDARD
TZOFFSETFROM:-0700
TZOFFSETTO:-0800
TZNAME:PST
DTSTART:20241103T090000
END:STANDARD
BEGIN:DAYLIGHT
TZOFFSETFROM:-0800
TZOFFSETTO:-0700
TZNAME:PDT
DTSTART:20250309T100000
END:DAYLIGHT
BEGIN:STANDARD
TZOFFSETFROM:-0700
TZOFFSETTO:-0800
TZNAME:PST
DTSTART:20251102T090000
END:STANDARD
END:VTIMEZONE
BEGIN:VEVENT
DTSTART;TZID=America/Los_Angeles:20240511T063000
DTEND;TZID=America/Los_Angeles:20240511T083000
DTSTAMP:20260421T095900
CREATED:20231108T210220Z
LAST-MODIFIED:20240506T213426Z
UID:10000727-1715409000-1715416200@negozee.com
SUMMARY:Cafecito con negozee [Chicago]
DESCRIPTION:Cafecito con Teresa Almanza y Viviana Cortes en Chicago. \n¡Descubre los secretos para una gestión financiera exitosa en el 2024! En nuestro próximo evento\, exploraremos todo lo que necesitas saber sobre impuestos para asegurarte de que estés al tanto de las últimas regulaciones y estrategias fiscales. Además\, discutiremos la importancia crucial de tener una cuenta bancaria dedicada para tu negocio y cómo puede impulsar el crecimiento y la seguridad financiera. También exploraremos el mundo de los seguros para contratistas y propietarios de negocios\, ofreciendo información valiosa sobre cómo proteger tu inversión y tu sustento. ¡Únete a nosotros para obtener conocimientos indispensables que te ayudarán a prosperar en el mundo empresarial del 2024! \nTEMAS:  \nTodo lo que debe saber sobre impuestos 2023 \nLa importancia de tener una cuenta bancaria para su negocio \nSeguros para contratistas y dueños de negocio \nLUGAR:  \nCafe Calida – 3455 W North Ave\, Chicago\, IL 60647 \nHORARIO:  \n8:30AM-10:30AM hora central \nPRESENTADORES:  \n \n  \n  \n  \nBMO Bank \nHarnnet Harnvanich
URL:https://negozee.com/event/cafecito-con-negozee-chicago/
CATEGORIES:Charla,Evento Presencial
ATTACH;FMTTYPE=image/jpeg:https://wp-negozee-conent.s3.amazonaws.com/wp-content/uploads/2023/11/26090759/Post-Speakers-Chicago.jpg
ORGANIZER;CN="negozee":MAILTO:info@negozee.com
END:VEVENT
END:VCALENDAR