BEGIN:VCALENDAR
VERSION:2.0
PRODID:-//negozee - ECPv6.15.12.2//NONSGML v1.0//EN
CALSCALE:GREGORIAN
METHOD:PUBLISH
X-ORIGINAL-URL:https://negozee.com
X-WR-CALDESC:Events for negozee
REFRESH-INTERVAL;VALUE=DURATION:PT1H
X-Robots-Tag:noindex
X-PUBLISHED-TTL:PT1H
BEGIN:VTIMEZONE
TZID:America/Los_Angeles
BEGIN:DAYLIGHT
TZOFFSETFROM:-0800
TZOFFSETTO:-0700
TZNAME:PDT
DTSTART:20230312T100000
END:DAYLIGHT
BEGIN:STANDARD
TZOFFSETFROM:-0700
TZOFFSETTO:-0800
TZNAME:PST
DTSTART:20231105T090000
END:STANDARD
BEGIN:DAYLIGHT
TZOFFSETFROM:-0800
TZOFFSETTO:-0700
TZNAME:PDT
DTSTART:20240310T100000
END:DAYLIGHT
BEGIN:STANDARD
TZOFFSETFROM:-0700
TZOFFSETTO:-0800
TZNAME:PST
DTSTART:20241103T090000
END:STANDARD
BEGIN:DAYLIGHT
TZOFFSETFROM:-0800
TZOFFSETTO:-0700
TZNAME:PDT
DTSTART:20250309T100000
END:DAYLIGHT
BEGIN:STANDARD
TZOFFSETFROM:-0700
TZOFFSETTO:-0800
TZNAME:PST
DTSTART:20251102T090000
END:STANDARD
END:VTIMEZONE
BEGIN:VEVENT
DTSTART;TZID=America/Los_Angeles:20240429T080000
DTEND;TZID=America/Los_Angeles:20240502T170000
DTSTAMP:20260421T064842
CREATED:20240126T132555Z
LAST-MODIFIED:20240209T165750Z
UID:10000738-1714377600-1714669200@negozee.com
SUMMARY:Campamento EA [Florida]
DESCRIPTION:Campamento Presencial\, dirigido y exclusivo para EAs y Tax Pros \nCONVIÉRTETE EN UN ESPECIALISTA EN RESOLUCIÓN DE IMPUESTOS \n¡Cambia tu vida\, haz crecer tu negocio de preparación de impuestos\, diferénciate de los demás y genera mayores ingresos todo el año! \nInfo y Boletos: https://campamentoea.com/ \n\nTaller Práctico\nImpartido por Expertos\nEjercicios & Actividades\nNetworking con Profesionales
URL:https://negozee.com/event/campamento-ea/
CATEGORIES:Evento Presencial
ATTACH;FMTTYPE=image/jpeg:https://wp-negozee-conent.s3.amazonaws.com/wp-content/uploads/2024/01/26091355/Campamento-pic.jpg
ORGANIZER;CN="negozee":MAILTO:info@negozee.com
END:VEVENT
END:VCALENDAR