BEGIN:VCALENDAR
VERSION:2.0
PRODID:-//negozee - ECPv6.15.12.2//NONSGML v1.0//EN
CALSCALE:GREGORIAN
METHOD:PUBLISH
X-ORIGINAL-URL:https://negozee.com
X-WR-CALDESC:Events for negozee
REFRESH-INTERVAL;VALUE=DURATION:PT1H
X-Robots-Tag:noindex
X-PUBLISHED-TTL:PT1H
BEGIN:VTIMEZONE
TZID:America/Los_Angeles
BEGIN:DAYLIGHT
TZOFFSETFROM:-0800
TZOFFSETTO:-0700
TZNAME:PDT
DTSTART:20230312T100000
END:DAYLIGHT
BEGIN:STANDARD
TZOFFSETFROM:-0700
TZOFFSETTO:-0800
TZNAME:PST
DTSTART:20231105T090000
END:STANDARD
BEGIN:DAYLIGHT
TZOFFSETFROM:-0800
TZOFFSETTO:-0700
TZNAME:PDT
DTSTART:20240310T100000
END:DAYLIGHT
BEGIN:STANDARD
TZOFFSETFROM:-0700
TZOFFSETTO:-0800
TZNAME:PST
DTSTART:20241103T090000
END:STANDARD
BEGIN:DAYLIGHT
TZOFFSETFROM:-0800
TZOFFSETTO:-0700
TZNAME:PDT
DTSTART:20250309T100000
END:DAYLIGHT
BEGIN:STANDARD
TZOFFSETFROM:-0700
TZOFFSETTO:-0800
TZNAME:PST
DTSTART:20251102T090000
END:STANDARD
END:VTIMEZONE
BEGIN:VEVENT
DTSTART;TZID=America/Los_Angeles:20240409T160000
DTEND;TZID=America/Los_Angeles:20240409T170000
DTSTAMP:20260421T165943
CREATED:20240405T175112Z
LAST-MODIFIED:20240514T222108Z
UID:10000774-1712678400-1712682000@negozee.com
SUMMARY:Q&A con Sergio Jiménez [Zoom event]
DESCRIPTION:Pregúntele en vivo a Sergio Jiménez\nNo pierda esta oportunidad única de charlar en vivo con nuestro experto.\n\n\nMartes 14 de Mayo\, 4pm (PDT)\nMartes 11 de Junio\, 4pm (PDT)\nZoom webinar gratuito\n\n\nSergio Jiménez\, además de abogado\, también es un profesional certificado en planificación financiera (CFP)\, quien cuenta con los más rigurosos estándares y conocimiento actualizado puesto a su servicio.\n\nCon él podrá resolver sus dudas en cuanto a:\n\n\n\n\nPlanificación de negocios\nPlanificación Patrimonial\nDerecho financiero y de inversiones\nImpuestos globales\nDerecho empresarial\nServicios de oficina familiar
URL:https://negozee.com/event/qa-con-sergio-jimenez-zoom-event/
CATEGORIES:Meeting
ATTACH;FMTTYPE=image/jpeg:https://wp-negozee-conent.s3.amazonaws.com/wp-content/uploads/2024/04/26091006/Jimenez-wealth-in-Houston.jpg
ORGANIZER;CN="negozee":MAILTO:info@negozee.com
END:VEVENT
END:VCALENDAR