BEGIN:VCALENDAR
VERSION:2.0
PRODID:-//negozee - ECPv6.15.12.2//NONSGML v1.0//EN
CALSCALE:GREGORIAN
METHOD:PUBLISH
X-ORIGINAL-URL:https://negozee.com
X-WR-CALDESC:Events for negozee
REFRESH-INTERVAL;VALUE=DURATION:PT1H
X-Robots-Tag:noindex
X-PUBLISHED-TTL:PT1H
BEGIN:VTIMEZONE
TZID:America/Chicago
BEGIN:DAYLIGHT
TZOFFSETFROM:-0600
TZOFFSETTO:-0500
TZNAME:CDT
DTSTART:20230312T080000
END:DAYLIGHT
BEGIN:STANDARD
TZOFFSETFROM:-0500
TZOFFSETTO:-0600
TZNAME:CST
DTSTART:20231105T070000
END:STANDARD
BEGIN:DAYLIGHT
TZOFFSETFROM:-0600
TZOFFSETTO:-0500
TZNAME:CDT
DTSTART:20240310T080000
END:DAYLIGHT
BEGIN:STANDARD
TZOFFSETFROM:-0500
TZOFFSETTO:-0600
TZNAME:CST
DTSTART:20241103T070000
END:STANDARD
BEGIN:DAYLIGHT
TZOFFSETFROM:-0600
TZOFFSETTO:-0500
TZNAME:CDT
DTSTART:20250309T080000
END:DAYLIGHT
BEGIN:STANDARD
TZOFFSETFROM:-0500
TZOFFSETTO:-0600
TZNAME:CST
DTSTART:20251102T070000
END:STANDARD
END:VTIMEZONE
BEGIN:VEVENT
DTSTART;TZID=America/Chicago:20240406T093000
DTEND;TZID=America/Chicago:20240406T120000
DTSTAMP:20260421T182604
CREATED:20240226T162346Z
LAST-MODIFIED:20240723T170216Z
UID:10000747-1712395800-1712404800@negozee.com
SUMMARY:Cafecito con negozee - [Houston]
DESCRIPTION:🚀 ¡Atención Emprendedores de Houston! 🚀 \n☕ Cafecito con negozee ☕ \nUnámonos para una mañana de conexiones significativas y conversaciones enriquecedoras en nuestro próximo evento Cafecito con negozee. ¡Es el espacio perfecto para ampliar tu red de contactos 🤝 y compartir ideas! 💡 \n\n📅 Fecha: Sabado\, 6 de Abril\n⏰ Hora: 9:30 am a 12:00 am\n📍 Lugar: Viva Jalisco\n📌 Dirección: 12036 Veterans Memorial Dr\, Houston\, TX 77067\n\nTe invitamos a disfrutar de un delicioso desayuno con nosotros 🥐☕y a descubrir nuevas oportunidades de crecimiento y colaboración. \n💲 Costo de entrada: \n\nnegozee Members:  $0\nPublico General: 💸 $28\n\nEl evento es una gran oportunidad para que conozcas más sobre negozee y cómo nuestra comunidad puede impulsar tu negocio. ¡No te pierdas la oportunidad de ser parte de esta experiencia única! ✨ \n¡Te esperamos con una taza caliente negozee Style! 🎉
URL:https://negozee.com/event/cafecito-houston/
CATEGORIES:Community Event
ATTACH;FMTTYPE=image/png:https://wp-negozee-conent.s3.amazonaws.com/wp-content/uploads/2024/02/26090304/Cafecito-con-negozee-Houston_soldout.png
ORGANIZER;CN="negozee":MAILTO:info@negozee.com
END:VEVENT
END:VCALENDAR